BEGIN:VCALENDAR
VERSION:2.0
PRODID:-//M L Montessori - ECPv6.13.2.1//NONSGML v1.0//EN
CALSCALE:GREGORIAN
METHOD:PUBLISH
X-ORIGINAL-URL:https://www.mlmontessorischool.com
X-WR-CALDESC:Events for M L Montessori
REFRESH-INTERVAL;VALUE=DURATION:PT1H
X-Robots-Tag:noindex
X-PUBLISHED-TTL:PT1H
BEGIN:VTIMEZONE
TZID:UTC
BEGIN:STANDARD
TZOFFSETFROM:+0000
TZOFFSETTO:+0000
TZNAME:UTC
DTSTART:20260101T000000
END:STANDARD
END:VTIMEZONE
BEGIN:VEVENT
DTSTART;VALUE=DATE:20260316
DTEND;VALUE=DATE:20260317
DTSTAMP:20260423T195544
CREATED:20250813T144200Z
LAST-MODIFIED:20250813T144200Z
UID:3146-1773619200-1773705599@www.mlmontessorischool.com
SUMMARY:First Day of Spring Break
DESCRIPTION:
URL:https://www.mlmontessorischool.com/calendar/first-day-of-spring-break-5/
CATEGORIES:Casa,casa 1,casa 2,Elementary
END:VEVENT
END:VCALENDAR