BEGIN:VCALENDAR
VERSION:2.0
PRODID:-//M L Montessori - ECPv6.13.2.1//NONSGML v1.0//EN
CALSCALE:GREGORIAN
METHOD:PUBLISH
X-ORIGINAL-URL:https://www.mlmontessorischool.com
X-WR-CALDESC:Events for M L Montessori
REFRESH-INTERVAL;VALUE=DURATION:PT1H
X-Robots-Tag:noindex
X-PUBLISHED-TTL:PT1H
BEGIN:VTIMEZONE
TZID:UTC
BEGIN:STANDARD
TZOFFSETFROM:+0000
TZOFFSETTO:+0000
TZNAME:UTC
DTSTART:20260101T000000
END:STANDARD
END:VTIMEZONE
BEGIN:VEVENT
DTSTART;TZID=UTC:20260212T190000
DTEND;TZID=UTC:20260212T200000
DTSTAMP:20260423T214026
CREATED:20250813T143739Z
LAST-MODIFIED:20250813T143739Z
UID:3138-1770922800-1770926400@www.mlmontessorischool.com
SUMMARY:Elementary Info Night for Casa Grad Parents
DESCRIPTION:
URL:https://www.mlmontessorischool.com/calendar/elementary-info-night-for-casa-grad-parents-3/
CATEGORIES:Casa,casa 1,casa 2
END:VEVENT
END:VCALENDAR