BEGIN:VCALENDAR
VERSION:2.0
PRODID:-//M L Montessori - ECPv6.13.2.1//NONSGML v1.0//EN
CALSCALE:GREGORIAN
METHOD:PUBLISH
X-WR-CALNAME:M L Montessori
X-ORIGINAL-URL:https://www.mlmontessorischool.com
X-WR-CALDESC:Events for M L Montessori
REFRESH-INTERVAL;VALUE=DURATION:PT1H
X-Robots-Tag:noindex
X-PUBLISHED-TTL:PT1H
BEGIN:VTIMEZONE
TZID:UTC
BEGIN:STANDARD
TZOFFSETFROM:+0000
TZOFFSETTO:+0000
TZNAME:UTC
DTSTART:20250101T000000
END:STANDARD
END:VTIMEZONE
BEGIN:VEVENT
DTSTART;TZID=UTC:20250827T094500
DTEND;TZID=UTC:20250829T103000
DTSTAMP:20260424T052112
CREATED:20250813T141502Z
LAST-MODIFIED:20250813T141502Z
UID:3114-1756287900-1756463400@www.mlmontessorischool.com
SUMMARY:Casa 2 Orientation NEW CHILDREN ONLY
DESCRIPTION:
URL:https://www.mlmontessorischool.com/calendar/casa-2-orientation-new-children-only-4/
CATEGORIES:Casa,casa 2
END:VEVENT
END:VCALENDAR