BEGIN:VCALENDAR
VERSION:2.0
PRODID:-//M L Montessori - ECPv6.13.2.1//NONSGML v1.0//EN
CALSCALE:GREGORIAN
METHOD:PUBLISH
X-WR-CALNAME:M L Montessori
X-ORIGINAL-URL:https://www.mlmontessorischool.com
X-WR-CALDESC:Events for M L Montessori
REFRESH-INTERVAL;VALUE=DURATION:PT1H
X-Robots-Tag:noindex
X-PUBLISHED-TTL:PT1H
BEGIN:VTIMEZONE
TZID:UTC
BEGIN:STANDARD
TZOFFSETFROM:+0000
TZOFFSETTO:+0000
TZNAME:UTC
DTSTART:20240101T000000
END:STANDARD
END:VTIMEZONE
BEGIN:VEVENT
DTSTART;TZID=UTC:20240827T190000
DTEND;TZID=UTC:20240827T194500
DTSTAMP:20260424T191549
CREATED:20240821T141652Z
LAST-MODIFIED:20240821T141652Z
UID:3028-1724785200-1724787900@www.mlmontessorischool.com
SUMMARY:Elementary PARENT ONLY Orientation - Grade 1
DESCRIPTION:Orientation for Grade 1 parents
URL:https://www.mlmontessorischool.com/calendar/elementary-parent-only-orientation-grade-1-2/
CATEGORIES:Elementary,Lower Elementary
END:VEVENT
BEGIN:VEVENT
DTSTART;TZID=UTC:20240827T200000
DTEND;TZID=UTC:20240827T204500
DTSTAMP:20260424T191549
CREATED:20240821T141846Z
LAST-MODIFIED:20240821T141846Z
UID:3030-1724788800-1724791500@www.mlmontessorischool.com
SUMMARY:Elementary Parent and Student Orientation - Grade 4 & 5
DESCRIPTION:Parent and student orientation for Grade 4 & 5
URL:https://www.mlmontessorischool.com/calendar/elementary-parent-and-student-orientation-grade-4-5/
CATEGORIES:Elementary
END:VEVENT
BEGIN:VEVENT
DTSTART;TZID=UTC:20240828T084500
DTEND;TZID=UTC:20240828T093000
DTSTAMP:20260424T191549
CREATED:20240821T142241Z
LAST-MODIFIED:20240821T142241Z
UID:3034-1724834700-1724837400@www.mlmontessorischool.com
SUMMARY:Casa 1 Orientation - NEW CHILDREN ONLY
DESCRIPTION:
URL:https://www.mlmontessorischool.com/calendar/casa-1-orientation-new-children-only-2/
CATEGORIES:Casa,casa 1
END:VEVENT
BEGIN:VEVENT
DTSTART;TZID=UTC:20240828T094500
DTEND;TZID=UTC:20240828T103000
DTSTAMP:20260424T191549
CREATED:20240821T142411Z
LAST-MODIFIED:20240821T142411Z
UID:3038-1724838300-1724841000@www.mlmontessorischool.com
SUMMARY:Casa 2 Orientation - NEW CHILDREN ONLY
DESCRIPTION:
URL:https://www.mlmontessorischool.com/calendar/casa-2-orientation-new-children-only/
CATEGORIES:Casa,casa 2
END:VEVENT
BEGIN:VEVENT
DTSTART;TZID=UTC:20240829T084500
DTEND;TZID=UTC:20240829T093000
DTSTAMP:20260424T191549
CREATED:20240821T142319Z
LAST-MODIFIED:20240821T142319Z
UID:3036-1724921100-1724923800@www.mlmontessorischool.com
SUMMARY:Casa 1 Orientation - NEW CHILDREN ONLY
DESCRIPTION:
URL:https://www.mlmontessorischool.com/calendar/casa-1-orientation-new-children-only-3/
CATEGORIES:Casa,casa 1
END:VEVENT
BEGIN:VEVENT
DTSTART;TZID=UTC:20240829T094500
DTEND;TZID=UTC:20240829T103000
DTSTAMP:20260424T191549
CREATED:20240821T142456Z
LAST-MODIFIED:20240821T142456Z
UID:3040-1724924700-1724927400@www.mlmontessorischool.com
SUMMARY:Casa 2 Orientation - NEW CHILDREN ONLY
DESCRIPTION:
URL:https://www.mlmontessorischool.com/calendar/casa-2-orientation-new-children-only-2/
CATEGORIES:Casa,casa 2
END:VEVENT
BEGIN:VEVENT
DTSTART;TZID=UTC:20240830T084500
DTEND;TZID=UTC:20240830T093000
DTSTAMP:20260424T191549
CREATED:20240821T142124Z
LAST-MODIFIED:20240821T142150Z
UID:3032-1725007500-1725010200@www.mlmontessorischool.com
SUMMARY:Casa 1 Orientation - NEW CHILDREN ONLY
DESCRIPTION:
URL:https://www.mlmontessorischool.com/calendar/casa-1-orientation-new-children-only/
CATEGORIES:Casa,casa 1
END:VEVENT
BEGIN:VEVENT
DTSTART;TZID=UTC:20240830T094500
DTEND;TZID=UTC:20240830T103000
DTSTAMP:20260424T191549
CREATED:20240821T142535Z
LAST-MODIFIED:20240821T142535Z
UID:3042-1725011100-1725013800@www.mlmontessorischool.com
SUMMARY:Casa 2 Orientation - NEW CHILDREN ONLY
DESCRIPTION:
URL:https://www.mlmontessorischool.com/calendar/casa-2-orientation-new-children-only-3/
CATEGORIES:Casa,casa 2
END:VEVENT
END:VCALENDAR