BEGIN:VCALENDAR
VERSION:2.0
PRODID:-//M L Montessori - ECPv6.13.2.1//NONSGML v1.0//EN
CALSCALE:GREGORIAN
METHOD:PUBLISH
X-WR-CALNAME:M L Montessori
X-ORIGINAL-URL:https://www.mlmontessorischool.com
X-WR-CALDESC:Events for M L Montessori
REFRESH-INTERVAL;VALUE=DURATION:PT1H
X-Robots-Tag:noindex
X-PUBLISHED-TTL:PT1H
BEGIN:VTIMEZONE
TZID:UTC
BEGIN:STANDARD
TZOFFSETFROM:+0000
TZOFFSETTO:+0000
TZNAME:UTC
DTSTART:20230101T000000
END:STANDARD
END:VTIMEZONE
BEGIN:VEVENT
DTSTART;TZID=UTC:20230829T190000
DTEND;TZID=UTC:20230829T200000
DTSTAMP:20260425T114636
CREATED:20230815T175617Z
LAST-MODIFIED:20230815T175617Z
UID:2949-1693335600-1693339200@www.mlmontessorischool.com
SUMMARY:Elementary Parent Only Orientation - Grade 1
DESCRIPTION:Elementary Parent Only Orientation – Grade 1
URL:https://www.mlmontessorischool.com/calendar/elementary-parent-only-orientation-grade-1/
CATEGORIES:Elementary
END:VEVENT
BEGIN:VEVENT
DTSTART;TZID=UTC:20230830T090000
DTEND;TZID=UTC:20230830T103000
DTSTAMP:20260425T114636
CREATED:20230815T180032Z
LAST-MODIFIED:20230815T180032Z
UID:2953-1693386000-1693391400@www.mlmontessorischool.com
SUMMARY:Casa 1 Orientation - New Children
DESCRIPTION:Casa 1 Orientation – New Children
URL:https://www.mlmontessorischool.com/calendar/casa-1-orientation-new-children/
CATEGORIES:Casa,casa 1
END:VEVENT
BEGIN:VEVENT
DTSTART;TZID=UTC:20230830T190000
DTEND;TZID=UTC:20230830T200000
DTSTAMP:20260425T114636
CREATED:20230815T175757Z
LAST-MODIFIED:20230815T175757Z
UID:2951-1693422000-1693425600@www.mlmontessorischool.com
SUMMARY:Elementary Parent/Student Orientation - Grade 4
DESCRIPTION:Elementary Parent/Student Orientation – Grade 4
URL:https://www.mlmontessorischool.com/calendar/elementary-parent-student-orientation-grade-4/
CATEGORIES:Elementary
END:VEVENT
BEGIN:VEVENT
DTSTART;TZID=UTC:20230831T090000
DTEND;TZID=UTC:20230831T103000
DTSTAMP:20260425T114636
CREATED:20230815T180149Z
LAST-MODIFIED:20230815T180149Z
UID:2955-1693472400-1693477800@www.mlmontessorischool.com
SUMMARY:Casa 2 Orientation - New Children
DESCRIPTION:Casa 2 Orientation – New Children
URL:https://www.mlmontessorischool.com/calendar/casa-2-orientation-new-children/
CATEGORIES:Casa,casa 2
END:VEVENT
END:VCALENDAR