BEGIN:VCALENDAR
VERSION:2.0
PRODID:-//M L Montessori - ECPv6.13.2.1//NONSGML v1.0//EN
CALSCALE:GREGORIAN
METHOD:PUBLISH
X-ORIGINAL-URL:https://www.mlmontessorischool.com
X-WR-CALDESC:Events for M L Montessori
REFRESH-INTERVAL;VALUE=DURATION:PT1H
X-Robots-Tag:noindex
X-PUBLISHED-TTL:PT1H
BEGIN:VTIMEZONE
TZID:UTC
BEGIN:STANDARD
TZOFFSETFROM:+0000
TZOFFSETTO:+0000
TZNAME:UTC
DTSTART:20230101T000000
END:STANDARD
END:VTIMEZONE
BEGIN:VEVENT
DTSTART;VALUE=DATE:20230407
DTEND;VALUE=DATE:20230408
DTSTAMP:20260425T170641
CREATED:20220802T151519Z
LAST-MODIFIED:20220802T151519Z
UID:2932-1680825600-1680911999@www.mlmontessorischool.com
SUMMARY:Good Friday
DESCRIPTION:No Classes
URL:https://www.mlmontessorischool.com/calendar/good-friday-4/
CATEGORIES:Casa,casa 1,casa 2,Elementary
END:VEVENT
BEGIN:VEVENT
DTSTART;VALUE=DATE:20230410
DTEND;VALUE=DATE:20230411
DTSTAMP:20260425T170641
CREATED:20220802T151601Z
LAST-MODIFIED:20220802T151601Z
UID:2934-1681084800-1681171199@www.mlmontessorischool.com
SUMMARY:Easter Monday
DESCRIPTION:No Classes
URL:https://www.mlmontessorischool.com/calendar/easter-monday-4/
CATEGORIES:Casa,casa 1,casa 2,Elementary
END:VEVENT
BEGIN:VEVENT
DTSTART;VALUE=DATE:20230428
DTEND;VALUE=DATE:20230429
DTSTAMP:20260425T170641
CREATED:20220802T151432Z
LAST-MODIFIED:20230405T154335Z
UID:2930-1682640000-1682726399@www.mlmontessorischool.com
SUMMARY:Elementary Spring Concert
DESCRIPTION:
URL:https://www.mlmontessorischool.com/calendar/elementary-spring-concert/
CATEGORIES:Elementary
END:VEVENT
END:VCALENDAR