BEGIN:VCALENDAR
VERSION:2.0
PRODID:-//M L Montessori - ECPv6.13.2.1//NONSGML v1.0//EN
CALSCALE:GREGORIAN
METHOD:PUBLISH
X-WR-CALNAME:M L Montessori
X-ORIGINAL-URL:https://www.mlmontessorischool.com
X-WR-CALDESC:Events for M L Montessori
REFRESH-INTERVAL;VALUE=DURATION:PT1H
X-Robots-Tag:noindex
X-PUBLISHED-TTL:PT1H
BEGIN:VTIMEZONE
TZID:UTC
BEGIN:STANDARD
TZOFFSETFROM:+0000
TZOFFSETTO:+0000
TZNAME:UTC
DTSTART:20220101T000000
END:STANDARD
END:VTIMEZONE
BEGIN:VEVENT
DTSTART;VALUE=DATE:20220901
DTEND;VALUE=DATE:20220902
DTSTAMP:20260426T024432
CREATED:20220802T145748Z
LAST-MODIFIED:20220802T145748Z
UID:2892-1661990400-1662076799@www.mlmontessorischool.com
SUMMARY:Casa Orientation
DESCRIPTION:
URL:https://www.mlmontessorischool.com/calendar/casa-orientation/
CATEGORIES:Casa,casa 1,casa 2
END:VEVENT
BEGIN:VEVENT
DTSTART;VALUE=DATE:20220906
DTEND;VALUE=DATE:20220907
DTSTAMP:20260426T024432
CREATED:20220802T145840Z
LAST-MODIFIED:20220802T145840Z
UID:2894-1662422400-1662508799@www.mlmontessorischool.com
SUMMARY:First Day of Classes
DESCRIPTION:
URL:https://www.mlmontessorischool.com/calendar/first-day-of-classes/
CATEGORIES:Casa,casa 1,casa 2,Elementary
END:VEVENT
BEGIN:VEVENT
DTSTART;VALUE=DATE:20220930
DTEND;VALUE=DATE:20221001
DTSTAMP:20260426T024432
CREATED:20220802T145937Z
LAST-MODIFIED:20220802T145937Z
UID:2897-1664496000-1664582399@www.mlmontessorischool.com
SUMMARY:Orange Shirt Day
DESCRIPTION:
URL:https://www.mlmontessorischool.com/calendar/orange-shirt-day/
CATEGORIES:Casa,casa 1,casa 2,Elementary
END:VEVENT
END:VCALENDAR