BEGIN:VCALENDAR
VERSION:2.0
PRODID:-//M L Montessori - ECPv6.13.2.1//NONSGML v1.0//EN
CALSCALE:GREGORIAN
METHOD:PUBLISH
X-ORIGINAL-URL:https://www.mlmontessorischool.com
X-WR-CALDESC:Events for M L Montessori
REFRESH-INTERVAL;VALUE=DURATION:PT1H
X-Robots-Tag:noindex
X-PUBLISHED-TTL:PT1H
BEGIN:VTIMEZONE
TZID:UTC
BEGIN:STANDARD
TZOFFSETFROM:+0000
TZOFFSETTO:+0000
TZNAME:UTC
DTSTART:20240101T000000
END:STANDARD
END:VTIMEZONE
BEGIN:VEVENT
DTSTART;VALUE=DATE:20241011
DTEND;VALUE=DATE:20241012
DTSTAMP:20260424T000708
CREATED:20240821T173316Z
LAST-MODIFIED:20240821T173316Z
UID:3054-1728604800-1728691199@www.mlmontessorischool.com
SUMMARY:PROFESSIONAL DEVELOPMENT DAY (no school)
DESCRIPTION:No school for all students
URL:https://www.mlmontessorischool.com/calendar/professional-development-day-no-school-3/
CATEGORIES:Casa,casa 1,casa 2,Elementary,Lower Elementary,Upper Elementary
END:VEVENT
BEGIN:VEVENT
DTSTART;VALUE=DATE:20241010
DTEND;VALUE=DATE:20241011
DTSTAMP:20260424T000708
CREATED:20240821T173029Z
LAST-MODIFIED:20240821T173029Z
UID:3052-1728518400-1728604799@www.mlmontessorischool.com
SUMMARY:Terry Fox Walk/ Casa & Elementary Fall Fair
DESCRIPTION:
URL:https://www.mlmontessorischool.com/calendar/terry-fox-walk-casa-elementary-fall-fair/
CATEGORIES:Casa,casa 1,casa 2,Elementary,Lower Elementary,Upper Elementary
END:VEVENT
BEGIN:VEVENT
DTSTART;VALUE=DATE:20240930
DTEND;VALUE=DATE:20241001
DTSTAMP:20260424T000708
CREATED:20240821T143006Z
LAST-MODIFIED:20240821T143006Z
UID:3048-1727654400-1727740799@www.mlmontessorischool.com
SUMMARY:Orange Shirt Day
DESCRIPTION:
URL:https://www.mlmontessorischool.com/calendar/orange-shirt-day-3/
CATEGORIES:Casa,casa 1,casa 2,Elementary,Lower Elementary,Upper Elementary
END:VEVENT
BEGIN:VEVENT
DTSTART;VALUE=DATE:20240927
DTEND;VALUE=DATE:20240928
DTSTAMP:20260424T000708
CREATED:20240821T142858Z
LAST-MODIFIED:20240821T143028Z
UID:3046-1727395200-1727481599@www.mlmontessorischool.com
SUMMARY:Elementary Grandparents Day
DESCRIPTION:
URL:https://www.mlmontessorischool.com/calendar/elementary-grandparents-day-2/
CATEGORIES:Elementary,Lower Elementary,Upper Elementary
END:VEVENT
BEGIN:VEVENT
DTSTART;VALUE=DATE:20240903
DTEND;VALUE=DATE:20240904
DTSTAMP:20260424T000708
CREATED:20240821T142755Z
LAST-MODIFIED:20240821T142755Z
UID:3044-1725321600-1725407999@www.mlmontessorischool.com
SUMMARY:First Day of School
DESCRIPTION:
URL:https://www.mlmontessorischool.com/calendar/first-day-of-school-4/
CATEGORIES:Casa,casa 1,casa 2,Elementary,Lower Elementary,Upper Elementary
END:VEVENT
BEGIN:VEVENT
DTSTART;TZID=UTC:20240830T094500
DTEND;TZID=UTC:20240830T103000
DTSTAMP:20260424T000708
CREATED:20240821T142535Z
LAST-MODIFIED:20240821T142535Z
UID:3042-1725011100-1725013800@www.mlmontessorischool.com
SUMMARY:Casa 2 Orientation - NEW CHILDREN ONLY
DESCRIPTION:
URL:https://www.mlmontessorischool.com/calendar/casa-2-orientation-new-children-only-3/
CATEGORIES:Casa,casa 2
END:VEVENT
BEGIN:VEVENT
DTSTART;TZID=UTC:20240830T084500
DTEND;TZID=UTC:20240830T093000
DTSTAMP:20260424T000708
CREATED:20240821T142124Z
LAST-MODIFIED:20240821T142150Z
UID:3032-1725007500-1725010200@www.mlmontessorischool.com
SUMMARY:Casa 1 Orientation - NEW CHILDREN ONLY
DESCRIPTION:
URL:https://www.mlmontessorischool.com/calendar/casa-1-orientation-new-children-only/
CATEGORIES:Casa,casa 1
END:VEVENT
BEGIN:VEVENT
DTSTART;TZID=UTC:20240829T094500
DTEND;TZID=UTC:20240829T103000
DTSTAMP:20260424T000708
CREATED:20240821T142456Z
LAST-MODIFIED:20240821T142456Z
UID:3040-1724924700-1724927400@www.mlmontessorischool.com
SUMMARY:Casa 2 Orientation - NEW CHILDREN ONLY
DESCRIPTION:
URL:https://www.mlmontessorischool.com/calendar/casa-2-orientation-new-children-only-2/
CATEGORIES:Casa,casa 2
END:VEVENT
BEGIN:VEVENT
DTSTART;TZID=UTC:20240829T084500
DTEND;TZID=UTC:20240829T093000
DTSTAMP:20260424T000708
CREATED:20240821T142319Z
LAST-MODIFIED:20240821T142319Z
UID:3036-1724921100-1724923800@www.mlmontessorischool.com
SUMMARY:Casa 1 Orientation - NEW CHILDREN ONLY
DESCRIPTION:
URL:https://www.mlmontessorischool.com/calendar/casa-1-orientation-new-children-only-3/
CATEGORIES:Casa,casa 1
END:VEVENT
BEGIN:VEVENT
DTSTART;TZID=UTC:20240828T094500
DTEND;TZID=UTC:20240828T103000
DTSTAMP:20260424T000708
CREATED:20240821T142411Z
LAST-MODIFIED:20240821T142411Z
UID:3038-1724838300-1724841000@www.mlmontessorischool.com
SUMMARY:Casa 2 Orientation - NEW CHILDREN ONLY
DESCRIPTION:
URL:https://www.mlmontessorischool.com/calendar/casa-2-orientation-new-children-only/
CATEGORIES:Casa,casa 2
END:VEVENT
BEGIN:VEVENT
DTSTART;TZID=UTC:20240828T084500
DTEND;TZID=UTC:20240828T093000
DTSTAMP:20260424T000708
CREATED:20240821T142241Z
LAST-MODIFIED:20240821T142241Z
UID:3034-1724834700-1724837400@www.mlmontessorischool.com
SUMMARY:Casa 1 Orientation - NEW CHILDREN ONLY
DESCRIPTION:
URL:https://www.mlmontessorischool.com/calendar/casa-1-orientation-new-children-only-2/
CATEGORIES:Casa,casa 1
END:VEVENT
BEGIN:VEVENT
DTSTART;TZID=UTC:20240827T200000
DTEND;TZID=UTC:20240827T204500
DTSTAMP:20260424T000708
CREATED:20240821T141846Z
LAST-MODIFIED:20240821T141846Z
UID:3030-1724788800-1724791500@www.mlmontessorischool.com
SUMMARY:Elementary Parent and Student Orientation - Grade 4 & 5
DESCRIPTION:Parent and student orientation for Grade 4 & 5
URL:https://www.mlmontessorischool.com/calendar/elementary-parent-and-student-orientation-grade-4-5/
CATEGORIES:Elementary
END:VEVENT
BEGIN:VEVENT
DTSTART;TZID=UTC:20240827T190000
DTEND;TZID=UTC:20240827T194500
DTSTAMP:20260424T000708
CREATED:20240821T141652Z
LAST-MODIFIED:20240821T141652Z
UID:3028-1724785200-1724787900@www.mlmontessorischool.com
SUMMARY:Elementary PARENT ONLY Orientation - Grade 1
DESCRIPTION:Orientation for Grade 1 parents
URL:https://www.mlmontessorischool.com/calendar/elementary-parent-only-orientation-grade-1-2/
CATEGORIES:Elementary,Lower Elementary
END:VEVENT
BEGIN:VEVENT
DTSTART;VALUE=DATE:20240619
DTEND;VALUE=DATE:20240620
DTSTAMP:20260424T000708
CREATED:20230815T185955Z
LAST-MODIFIED:20230815T185955Z
UID:3022-1718755200-1718841599@www.mlmontessorischool.com
SUMMARY:Casa Grads & Elementary Graduation
DESCRIPTION:
URL:https://www.mlmontessorischool.com/calendar/casa-grads-elementary-graduation/
CATEGORIES:Casa,casa 1,casa 2,Elementary
END:VEVENT
BEGIN:VEVENT
DTSTART;VALUE=DATE:20240520
DTEND;VALUE=DATE:20240521
DTSTAMP:20260424T000708
CREATED:20230815T185825Z
LAST-MODIFIED:20230815T185825Z
UID:3020-1716163200-1716249599@www.mlmontessorischool.com
SUMMARY:Victoria Day
DESCRIPTION:No school
URL:https://www.mlmontessorischool.com/calendar/victoria-day-5/
CATEGORIES:Casa,casa 1,casa 2,Elementary
END:VEVENT
BEGIN:VEVENT
DTSTART;VALUE=DATE:20240517
DTEND;VALUE=DATE:20240518
DTSTAMP:20260424T000708
CREATED:20230815T185637Z
LAST-MODIFIED:20230815T185637Z
UID:3017-1715904000-1715990399@www.mlmontessorischool.com
SUMMARY:Professional Development Day
DESCRIPTION:No school
URL:https://www.mlmontessorischool.com/calendar/professional-development-day-9/
CATEGORIES:Casa,casa 1,casa 2,Elementary
END:VEVENT
BEGIN:VEVENT
DTSTART;VALUE=DATE:20240513
DTEND;VALUE=DATE:20240517
DTSTAMP:20260424T000708
CREATED:20230815T185500Z
LAST-MODIFIED:20230815T185500Z
UID:3015-1715558400-1715903999@www.mlmontessorischool.com
SUMMARY:Optional Interview Week
DESCRIPTION:
URL:https://www.mlmontessorischool.com/calendar/optional-interview-week/
CATEGORIES:Casa,casa 1,casa 2,Elementary
END:VEVENT
BEGIN:VEVENT
DTSTART;VALUE=DATE:20240419
DTEND;VALUE=DATE:20240420
DTSTAMP:20260424T000708
CREATED:20230815T185305Z
LAST-MODIFIED:20230815T185305Z
UID:3013-1713484800-1713571199@www.mlmontessorischool.com
SUMMARY:Elementary Spring Concert with the Casa Grads
DESCRIPTION:
URL:https://www.mlmontessorischool.com/calendar/elementary-spring-concert-with-the-casa-grads/
CATEGORIES:Casa,casa 1,casa 2,Elementary
END:VEVENT
BEGIN:VEVENT
DTSTART;VALUE=DATE:20240413
DTEND;VALUE=DATE:20240414
DTSTAMP:20260424T000708
CREATED:20230815T184917Z
LAST-MODIFIED:20230815T184917Z
UID:3011-1712966400-1713052799@www.mlmontessorischool.com
SUMMARY:Watch-Me-Workshop - Casa 2
DESCRIPTION:
URL:https://www.mlmontessorischool.com/calendar/watch-me-workshop-casa-2-2/
CATEGORIES:Casa,casa 2
END:VEVENT
BEGIN:VEVENT
DTSTART;VALUE=DATE:20240406
DTEND;VALUE=DATE:20240407
DTSTAMP:20260424T000708
CREATED:20230815T184725Z
LAST-MODIFIED:20230815T184725Z
UID:3009-1712361600-1712447999@www.mlmontessorischool.com
SUMMARY:Watch-Me-Workshop - Casa 1
DESCRIPTION:
URL:https://www.mlmontessorischool.com/calendar/watch-me-workshop-casa-1-2/
CATEGORIES:Casa,casa 1
END:VEVENT
BEGIN:VEVENT
DTSTART;VALUE=DATE:20240402
DTEND;VALUE=DATE:20240403
DTSTAMP:20260424T000708
CREATED:20230815T184602Z
LAST-MODIFIED:20230815T184602Z
UID:3007-1712016000-1712102399@www.mlmontessorischool.com
SUMMARY:Deadline for Casa Re-Enrollment
DESCRIPTION:
URL:https://www.mlmontessorischool.com/calendar/deadline-for-casa-re-enrollment/
CATEGORIES:Casa,casa 1,casa 2
END:VEVENT
BEGIN:VEVENT
DTSTART;VALUE=DATE:20240401
DTEND;VALUE=DATE:20240402
DTSTAMP:20260424T000708
CREATED:20230815T184347Z
LAST-MODIFIED:20230815T184347Z
UID:3005-1711929600-1712015999@www.mlmontessorischool.com
SUMMARY:Easter Monday
DESCRIPTION:No school
URL:https://www.mlmontessorischool.com/calendar/easter-monday-5/
CATEGORIES:Casa,casa 1,casa 2,Elementary
END:VEVENT
BEGIN:VEVENT
DTSTART;VALUE=DATE:20240329
DTEND;VALUE=DATE:20240330
DTSTAMP:20260424T000708
CREATED:20230815T184206Z
LAST-MODIFIED:20230815T184206Z
UID:3003-1711670400-1711756799@www.mlmontessorischool.com
SUMMARY:Good Friday
DESCRIPTION:No school
URL:https://www.mlmontessorischool.com/calendar/good-friday-5/
CATEGORIES:Casa,casa 1,casa 2,Elementary
END:VEVENT
BEGIN:VEVENT
DTSTART;VALUE=DATE:20240318
DTEND;VALUE=DATE:20240319
DTSTAMP:20260424T000708
CREATED:20230815T183941Z
LAST-MODIFIED:20230815T183941Z
UID:3001-1710720000-1710806399@www.mlmontessorischool.com
SUMMARY:Return to Classes
DESCRIPTION:Welcome back!
URL:https://www.mlmontessorischool.com/calendar/return-to-classes/
CATEGORIES:Casa,casa 1,casa 2,Elementary
END:VEVENT
BEGIN:VEVENT
DTSTART;VALUE=DATE:20240311
DTEND;VALUE=DATE:20240312
DTSTAMP:20260424T000708
CREATED:20230815T183740Z
LAST-MODIFIED:20230815T183740Z
UID:2999-1710115200-1710201599@www.mlmontessorischool.com
SUMMARY:First Day of Spring Break
DESCRIPTION:
URL:https://www.mlmontessorischool.com/calendar/first-day-of-spring-break-3/
CATEGORIES:Casa,casa 1,casa 2,Elementary
END:VEVENT
BEGIN:VEVENT
DTSTART;VALUE=DATE:20240301
DTEND;VALUE=DATE:20240302
DTSTAMP:20260424T000708
CREATED:20230815T183541Z
LAST-MODIFIED:20230815T183541Z
UID:2997-1709251200-1709337599@www.mlmontessorischool.com
SUMMARY:Deadline for Elementary Re-Enrollment
DESCRIPTION:
URL:https://www.mlmontessorischool.com/calendar/deadline-for-elementary-re-enrollment/
CATEGORIES:Elementary
END:VEVENT
BEGIN:VEVENT
DTSTART;VALUE=DATE:20240228
DTEND;VALUE=DATE:20240229
DTSTAMP:20260424T000708
CREATED:20230815T183317Z
LAST-MODIFIED:20230815T183317Z
UID:2995-1709078400-1709164799@www.mlmontessorischool.com
SUMMARY:Pink Shirt Day
DESCRIPTION:
URL:https://www.mlmontessorischool.com/calendar/pink-shirt-day-2/
CATEGORIES:Casa,casa 1,casa 2,Elementary
END:VEVENT
BEGIN:VEVENT
DTSTART;VALUE=DATE:20240219
DTEND;VALUE=DATE:20240220
DTSTAMP:20260424T000708
CREATED:20230815T183147Z
LAST-MODIFIED:20230815T183147Z
UID:2993-1708300800-1708387199@www.mlmontessorischool.com
SUMMARY:Family Day
DESCRIPTION:No school
URL:https://www.mlmontessorischool.com/calendar/family-day-6/
CATEGORIES:Casa,casa 1,casa 2,Elementary
END:VEVENT
BEGIN:VEVENT
DTSTART;VALUE=DATE:20240216
DTEND;VALUE=DATE:20240217
DTSTAMP:20260424T000708
CREATED:20230815T183022Z
LAST-MODIFIED:20230815T183022Z
UID:2991-1708041600-1708127999@www.mlmontessorischool.com
SUMMARY:Professional Development Day
DESCRIPTION:No school
URL:https://www.mlmontessorischool.com/calendar/professional-development-day-8/
CATEGORIES:Casa,casa 1,casa 2,Elementary
END:VEVENT
BEGIN:VEVENT
DTSTART;TZID=UTC:20240215T190000
DTEND;TZID=UTC:20240215T200000
DTSTAMP:20260424T000708
CREATED:20230815T182830Z
LAST-MODIFIED:20230815T182830Z
UID:2989-1708023600-1708027200@www.mlmontessorischool.com
SUMMARY:Elementary Info Night for Casa Grad Parents
DESCRIPTION:
URL:https://www.mlmontessorischool.com/calendar/elementary-info-night-for-casa-grad-parents/
CATEGORIES:Casa,casa 1,casa 2,Elementary
END:VEVENT
END:VCALENDAR