BEGIN:VCALENDAR
VERSION:2.0
PRODID:-//M L Montessori - ECPv6.13.2.1//NONSGML v1.0//EN
CALSCALE:GREGORIAN
METHOD:PUBLISH
X-WR-CALNAME:M L Montessori
X-ORIGINAL-URL:https://www.mlmontessorischool.com
X-WR-CALDESC:Events for M L Montessori
REFRESH-INTERVAL;VALUE=DURATION:PT1H
X-Robots-Tag:noindex
X-PUBLISHED-TTL:PT1H
BEGIN:VTIMEZONE
TZID:UTC
BEGIN:STANDARD
TZOFFSETFROM:+0000
TZOFFSETTO:+0000
TZNAME:UTC
DTSTART:20160101T000000
END:STANDARD
END:VTIMEZONE
BEGIN:VEVENT
DTSTART;VALUE=DATE:20170207
DTEND;VALUE=DATE:20170208
DTSTAMP:20260425T152048
CREATED:20170220T160237Z
LAST-MODIFIED:20170220T160237Z
UID:2433-1486425600-1486511999@www.mlmontessorischool.com
SUMMARY:Super Science -all elementary students
DESCRIPTION:
URL:https://www.mlmontessorischool.com/calendar/super-science-elementary-students/
CATEGORIES:Elementary,Lower Elementary,Middleschool,Upper Elementary
END:VEVENT
BEGIN:VEVENT
DTSTART;VALUE=DATE:20170204
DTEND;VALUE=DATE:20170205
DTSTAMP:20260425T152048
CREATED:20160804T140059Z
LAST-MODIFIED:20160804T140059Z
UID:2337-1486166400-1486252799@www.mlmontessorischool.com
SUMMARY:Casa Watch-Me-Workshop
DESCRIPTION:
URL:https://www.mlmontessorischool.com/calendar/casa-watch-workshop/
CATEGORIES:Casa,casa 1,casa 2
END:VEVENT
BEGIN:VEVENT
DTSTART;VALUE=DATE:20170131
DTEND;VALUE=DATE:20170201
DTSTAMP:20260425T152048
CREATED:20160804T140258Z
LAST-MODIFIED:20161204T151842Z
UID:2339-1485820800-1485907199@www.mlmontessorischool.com
SUMMARY:Early-Bird Re-enrollment
DESCRIPTION:
URL:https://www.mlmontessorischool.com/calendar/early-bird-re-enrollment-2/
CATEGORIES:Casa,casa 1,casa 2,Elementary,Lower Elementary,Upper Elementary
END:VEVENT
BEGIN:VEVENT
DTSTART;VALUE=DATE:20170120
DTEND;VALUE=DATE:20170121
DTSTAMP:20260425T152048
CREATED:20160919T210825Z
LAST-MODIFIED:20160919T210825Z
UID:2388-1484870400-1484956799@www.mlmontessorischool.com
SUMMARY:Pizza and Civvies Day - Elementary
DESCRIPTION:
URL:https://www.mlmontessorischool.com/calendar/pizza-civvies-day-elementary-4/
CATEGORIES:Elementary,Lower Elementary,Middleschool,Upper Elementary
END:VEVENT
BEGIN:VEVENT
DTSTART;TZID=UTC:20170116T120000
DTEND;TZID=UTC:20170116T133000
DTSTAMP:20260425T152048
CREATED:20161204T151755Z
LAST-MODIFIED:20161204T151755Z
UID:2419-1484568000-1484573400@www.mlmontessorischool.com
SUMMARY:Elementary Skating Begins
DESCRIPTION:Al Palladini Recreation Centre 12:00-1:30
URL:https://www.mlmontessorischool.com/calendar/elementary-skating-begins/
LOCATION:Al Palladini Recreation Centre
CATEGORIES:Elementary,Lower Elementary,Middleschool,Upper Elementary
END:VEVENT
BEGIN:VEVENT
DTSTART;VALUE=DATE:20170109
DTEND;VALUE=DATE:20170110
DTSTAMP:20260425T152048
CREATED:20160804T135940Z
LAST-MODIFIED:20160804T135940Z
UID:2336-1483920000-1484006399@www.mlmontessorischool.com
SUMMARY:Regular Classes Begin
DESCRIPTION:Welcome Back!
URL:https://www.mlmontessorischool.com/calendar/regular-classes-begin-3/
CATEGORIES:Casa,casa 1,casa 2,Elementary,Lower Elementary,Upper Elementary
END:VEVENT
BEGIN:VEVENT
DTSTART;VALUE=DATE:20161223
DTEND;VALUE=DATE:20161224
DTSTAMP:20260425T152048
CREATED:20160919T210625Z
LAST-MODIFIED:20160919T210625Z
UID:2386-1482451200-1482537599@www.mlmontessorischool.com
SUMMARY:Pizza and Civvies Day - Elementary
DESCRIPTION:
URL:https://www.mlmontessorischool.com/calendar/pizza-civvies-day-elementary-3/
CATEGORIES:Elementary,Lower Elementary,Middleschool,Upper Elementary
END:VEVENT
BEGIN:VEVENT
DTSTART;VALUE=DATE:20161223
DTEND;VALUE=DATE:20161224
DTSTAMP:20260425T152048
CREATED:20160804T135832Z
LAST-MODIFIED:20160804T135832Z
UID:2335-1482451200-1482537599@www.mlmontessorischool.com
SUMMARY:End of the Year Party
DESCRIPTION:
URL:https://www.mlmontessorischool.com/calendar/end-year-party/
CATEGORIES:Casa,casa 1,casa 2,Elementary,Lower Elementary,Upper Elementary
END:VEVENT
BEGIN:VEVENT
DTSTART;VALUE=DATE:20161223
DTEND;VALUE=DATE:20161224
DTSTAMP:20260425T152048
CREATED:20160804T135729Z
LAST-MODIFIED:20160804T135729Z
UID:2334-1482451200-1482537599@www.mlmontessorischool.com
SUMMARY:Last Day of School Before Winter Break
DESCRIPTION:Enjoy your holiday!
URL:https://www.mlmontessorischool.com/calendar/last-day-school-winter-break/
CATEGORIES:Casa,casa 1,casa 2,Elementary,Lower Elementary,Upper Elementary
END:VEVENT
BEGIN:VEVENT
DTSTART;VALUE=DATE:20161210
DTEND;VALUE=DATE:20161211
DTSTAMP:20260425T152048
CREATED:20160804T135613Z
LAST-MODIFIED:20161204T151418Z
UID:2333-1481328000-1481414399@www.mlmontessorischool.com
SUMMARY:Children's Concert
DESCRIPTION:Casa 9:30 \nElementary 10:15
URL:https://www.mlmontessorischool.com/calendar/childrens-concert-2/
CATEGORIES:Casa,casa 1,casa 2,Elementary,Lower Elementary,Upper Elementary
END:VEVENT
BEGIN:VEVENT
DTSTART;VALUE=DATE:20161209
DTEND;VALUE=DATE:20161210
DTSTAMP:20260425T152048
CREATED:20160804T135522Z
LAST-MODIFIED:20160804T135522Z
UID:2332-1481241600-1481327999@www.mlmontessorischool.com
SUMMARY:Professional Development Day
DESCRIPTION:No school for all students
URL:https://www.mlmontessorischool.com/calendar/professional-development-day-4/
END:VEVENT
BEGIN:VEVENT
DTSTART;VALUE=DATE:20161205
DTEND;VALUE=DATE:20161210
DTSTAMP:20260425T152048
CREATED:20160804T135438Z
LAST-MODIFIED:20160804T135438Z
UID:2331-1480896000-1481327999@www.mlmontessorischool.com
SUMMARY:Interview Week
DESCRIPTION:
URL:https://www.mlmontessorischool.com/calendar/interview-week-3/
CATEGORIES:Casa,casa 1,casa 2,Elementary,Lower Elementary,Upper Elementary
END:VEVENT
BEGIN:VEVENT
DTSTART;VALUE=DATE:20161202
DTEND;VALUE=DATE:20161203
DTSTAMP:20260425T152048
CREATED:20161123T125720Z
LAST-MODIFIED:20161204T151236Z
UID:2413-1480636800-1480723199@www.mlmontessorischool.com
SUMMARY:Poinsetta Forms Due
DESCRIPTION:
URL:https://www.mlmontessorischool.com/calendar/pointsetta-forms-due/
CATEGORIES:Casa,casa 1,casa 2,Elementary,Lower Elementary,Middleschool,Upper Elementary
END:VEVENT
BEGIN:VEVENT
DTSTART;VALUE=DATE:20161202
DTEND;VALUE=DATE:20161203
DTSTAMP:20260425T152048
CREATED:20160919T210506Z
LAST-MODIFIED:20160919T210506Z
UID:2385-1480636800-1480723199@www.mlmontessorischool.com
SUMMARY:Last Day of Swimming and Yoga
DESCRIPTION:
URL:https://www.mlmontessorischool.com/calendar/last-day-swimming-yoga/
CATEGORIES:Elementary,Lower Elementary,Middleschool,Upper Elementary
END:VEVENT
BEGIN:VEVENT
DTSTART;TZID=UTC:20161125T183000
DTEND;TZID=UTC:20161125T200000
DTSTAMP:20260425T152048
CREATED:20160919T210208Z
LAST-MODIFIED:20160919T210208Z
UID:2383-1480098600-1480104000@www.mlmontessorischool.com
SUMMARY:Arts Fair (Everyone Welcome!)
DESCRIPTION:
URL:https://www.mlmontessorischool.com/calendar/arts-fair-everyone-welcome/
CATEGORIES:Casa,casa 1,casa 2,Elementary,Lower Elementary,Middleschool,Upper Elementary
END:VEVENT
BEGIN:VEVENT
DTSTART;VALUE=DATE:20161118
DTEND;VALUE=DATE:20161119
DTSTAMP:20260425T152048
CREATED:20160919T205958Z
LAST-MODIFIED:20160919T205958Z
UID:2382-1479427200-1479513599@www.mlmontessorischool.com
SUMMARY:Pizza and Civvies Day -Elementary
DESCRIPTION:
URL:https://www.mlmontessorischool.com/calendar/pizza-civvies-day-elementary-2/
CATEGORIES:Elementary,Lower Elementary,Middleschool,Upper Elementary
END:VEVENT
BEGIN:VEVENT
DTSTART;VALUE=DATE:20161118
DTEND;VALUE=DATE:20161119
DTSTAMP:20260425T152048
CREATED:20160804T163953Z
LAST-MODIFIED:20160804T163953Z
UID:2357-1479427200-1479513599@www.mlmontessorischool.com
SUMMARY:Elementary Pizza Day
DESCRIPTION:
URL:https://www.mlmontessorischool.com/calendar/elementary-pizza-day-3/
CATEGORIES:Elementary,Lower Elementary,Upper Elementary
END:VEVENT
BEGIN:VEVENT
DTSTART;VALUE=DATE:20161104
DTEND;VALUE=DATE:20161105
DTSTAMP:20260425T152048
CREATED:20160804T135055Z
LAST-MODIFIED:20160804T135055Z
UID:2329-1478217600-1478303999@www.mlmontessorischool.com
SUMMARY:Professional Development Day
DESCRIPTION:No school for all students
URL:https://www.mlmontessorischool.com/calendar/professional-development-day-3/
CATEGORIES:Casa,casa 1,casa 2,Elementary,Lower Elementary,Upper Elementary
END:VEVENT
BEGIN:VEVENT
DTSTART;TZID=UTC:20161103T190000
DTEND;TZID=UTC:20161103T203000
DTSTAMP:20260425T152048
CREATED:20160804T134948Z
LAST-MODIFIED:20160804T163850Z
UID:2327-1478199600-1478205000@www.mlmontessorischool.com
SUMMARY:Parent Workshop
DESCRIPTION:
URL:https://www.mlmontessorischool.com/calendar/parent-workshop-2/
CATEGORIES:Casa,casa 1,casa 2,Elementary,Lower Elementary,Upper Elementary
END:VEVENT
BEGIN:VEVENT
DTSTART;TZID=UTC:20161103T190000
DTEND;TZID=UTC:20161103T200000
DTSTAMP:20260425T152048
CREATED:20160919T205820Z
LAST-MODIFIED:20160919T205820Z
UID:2381-1478199600-1478203200@www.mlmontessorischool.com
SUMMARY:Casa Curriculum Night
DESCRIPTION:
URL:https://www.mlmontessorischool.com/calendar/casa-curriculum-night/
CATEGORIES:Casa,casa 1,casa 2
END:VEVENT
BEGIN:VEVENT
DTSTART;VALUE=DATE:20161021
DTEND;VALUE=DATE:20161022
DTSTAMP:20260425T152048
CREATED:20160919T113300Z
LAST-MODIFIED:20160919T113300Z
UID:2380-1477008000-1477094399@www.mlmontessorischool.com
SUMMARY:Pizza and Civvies Day - Elementary
DESCRIPTION:
URL:https://www.mlmontessorischool.com/calendar/pizza-civvies-day-elementary/
CATEGORIES:Elementary,Lower Elementary,Middleschool,Upper Elementary
END:VEVENT
BEGIN:VEVENT
DTSTART;VALUE=DATE:20161021
DTEND;VALUE=DATE:20161022
DTSTAMP:20260425T152048
CREATED:20160804T163750Z
LAST-MODIFIED:20160804T163750Z
UID:2356-1477008000-1477094399@www.mlmontessorischool.com
SUMMARY:Elementary Pizza Day
DESCRIPTION:
URL:https://www.mlmontessorischool.com/calendar/elementary-pizza-day-2/
CATEGORIES:Elementary,Lower Elementary,Upper Elementary
END:VEVENT
BEGIN:VEVENT
DTSTART;TZID=UTC:20161019T093000
DTEND;TZID=UTC:20161019T121500
DTSTAMP:20260425T152048
CREATED:20160919T113143Z
LAST-MODIFIED:20160919T113143Z
UID:2379-1476869400-1476879300@www.mlmontessorischool.com
SUMMARY:Toronto Symphony - Middle School
DESCRIPTION:
URL:https://www.mlmontessorischool.com/calendar/toronto-symphony-middle-school/
CATEGORIES:Middleschool
END:VEVENT
BEGIN:VEVENT
DTSTART;VALUE=DATE:20161012
DTEND;VALUE=DATE:20161013
DTSTAMP:20260425T152048
CREATED:20160804T134838Z
LAST-MODIFIED:20160804T134838Z
UID:2326-1476230400-1476316799@www.mlmontessorischool.com
SUMMARY:Picture Day
DESCRIPTION:Picture Day for all students
URL:https://www.mlmontessorischool.com/calendar/picture-day/
CATEGORIES:Casa,casa 1,casa 2,Elementary,Lower Elementary,Upper Elementary
END:VEVENT
BEGIN:VEVENT
DTSTART;VALUE=DATE:20161011
DTEND;VALUE=DATE:20161012
DTSTAMP:20260425T152048
CREATED:20160919T113038Z
LAST-MODIFIED:20160919T113038Z
UID:2378-1476144000-1476230399@www.mlmontessorischool.com
SUMMARY:Kortright - mapping
DESCRIPTION:Upper El and Middle School
URL:https://www.mlmontessorischool.com/calendar/kortright-mapping/
CATEGORIES:Middleschool,Upper Elementary
END:VEVENT
BEGIN:VEVENT
DTSTART;VALUE=DATE:20161010
DTEND;VALUE=DATE:20161011
DTSTAMP:20260425T152048
CREATED:20160804T134720Z
LAST-MODIFIED:20160804T134720Z
UID:2325-1476057600-1476143999@www.mlmontessorischool.com
SUMMARY:Thanksgiving
DESCRIPTION:No school for all students
URL:https://www.mlmontessorischool.com/calendar/thanksgiving/
CATEGORIES:Casa,casa 1,casa 2,Elementary,Lower Elementary,Upper Elementary
END:VEVENT
BEGIN:VEVENT
DTSTART;VALUE=DATE:20161007
DTEND;VALUE=DATE:20161008
DTSTAMP:20260425T152048
CREATED:20160804T134553Z
LAST-MODIFIED:20160804T134553Z
UID:2324-1475798400-1475884799@www.mlmontessorischool.com
SUMMARY:Professional Development Day
DESCRIPTION:No School for all students
URL:https://www.mlmontessorischool.com/calendar/professional-development-day-2/
CATEGORIES:Casa,casa 1,casa 2,Elementary,Lower Elementary,Upper Elementary
END:VEVENT
BEGIN:VEVENT
DTSTART;TZID=UTC:20161006T190000
DTEND;TZID=UTC:20161006T200000
DTSTAMP:20260425T152048
CREATED:20160930T203621Z
LAST-MODIFIED:20160930T203621Z
UID:2399-1475780400-1475784000@www.mlmontessorischool.com
SUMMARY:Elementary Curriculum Night
DESCRIPTION:
URL:https://www.mlmontessorischool.com/calendar/elementary-curriculum-night/
CATEGORIES:Casa,casa 1,casa 2,Elementary,Lower Elementary,Middleschool,Upper Elementary
END:VEVENT
BEGIN:VEVENT
DTSTART;VALUE=DATE:20161006
DTEND;VALUE=DATE:20161007
DTSTAMP:20260425T152048
CREATED:20160804T134125Z
LAST-MODIFIED:20160919T112916Z
UID:2322-1475712000-1475798399@www.mlmontessorischool.com
SUMMARY:Fall Fair - Terry Fox Walk
DESCRIPTION:
URL:https://www.mlmontessorischool.com/calendar/parent-workshop/
CATEGORIES:Casa,casa 1,casa 2,Elementary,Lower Elementary,Middleschool,Upper Elementary
END:VEVENT
BEGIN:VEVENT
DTSTART;VALUE=DATE:20160929
DTEND;VALUE=DATE:20160930
DTSTAMP:20260425T152048
CREATED:20160919T112708Z
LAST-MODIFIED:20160919T112708Z
UID:2376-1475107200-1475193599@www.mlmontessorischool.com
SUMMARY:Crawford Lake
DESCRIPTION:
URL:https://www.mlmontessorischool.com/calendar/crawford-lake/
CATEGORIES:Elementary,Lower Elementary,Middleschool,Upper Elementary
END:VEVENT
END:VCALENDAR