BEGIN:VCALENDAR
VERSION:2.0
PRODID:-//M L Montessori - ECPv6.13.2.1//NONSGML v1.0//EN
CALSCALE:GREGORIAN
METHOD:PUBLISH
X-WR-CALNAME:M L Montessori
X-ORIGINAL-URL:https://www.mlmontessorischool.com
X-WR-CALDESC:Events for M L Montessori
REFRESH-INTERVAL;VALUE=DURATION:PT1H
X-Robots-Tag:noindex
X-PUBLISHED-TTL:PT1H
BEGIN:VTIMEZONE
TZID:UTC
BEGIN:STANDARD
TZOFFSETFROM:+0000
TZOFFSETTO:+0000
TZNAME:UTC
DTSTART:20220101T000000
END:STANDARD
END:VTIMEZONE
BEGIN:VEVENT
DTSTART;VALUE=DATE:20230410
DTEND;VALUE=DATE:20230411
DTSTAMP:20260425T143859
CREATED:20220802T151601Z
LAST-MODIFIED:20220802T151601Z
UID:2934-1681084800-1681171199@www.mlmontessorischool.com
SUMMARY:Easter Monday
DESCRIPTION:No Classes
URL:https://www.mlmontessorischool.com/calendar/easter-monday-4/
CATEGORIES:Casa,casa 1,casa 2,Elementary
END:VEVENT
BEGIN:VEVENT
DTSTART;VALUE=DATE:20230407
DTEND;VALUE=DATE:20230408
DTSTAMP:20260425T143859
CREATED:20220802T151519Z
LAST-MODIFIED:20220802T151519Z
UID:2932-1680825600-1680911999@www.mlmontessorischool.com
SUMMARY:Good Friday
DESCRIPTION:No Classes
URL:https://www.mlmontessorischool.com/calendar/good-friday-4/
CATEGORIES:Casa,casa 1,casa 2,Elementary
END:VEVENT
BEGIN:VEVENT
DTSTART;VALUE=DATE:20230320
DTEND;VALUE=DATE:20230321
DTSTAMP:20260425T143859
CREATED:20220802T151341Z
LAST-MODIFIED:20220802T151341Z
UID:2928-1679270400-1679356799@www.mlmontessorischool.com
SUMMARY:Return From March Break
DESCRIPTION:
URL:https://www.mlmontessorischool.com/calendar/return-from-march-break/
CATEGORIES:Casa,casa 1,casa 2,Elementary
END:VEVENT
BEGIN:VEVENT
DTSTART;VALUE=DATE:20230313
DTEND;VALUE=DATE:20230314
DTSTAMP:20260425T143859
CREATED:20220802T151227Z
LAST-MODIFIED:20220802T151227Z
UID:2926-1678665600-1678751999@www.mlmontessorischool.com
SUMMARY:First Day of March Break
DESCRIPTION:
URL:https://www.mlmontessorischool.com/calendar/first-day-of-march-break/
CATEGORIES:Casa,casa 1,casa 2,Elementary
END:VEVENT
BEGIN:VEVENT
DTSTART;VALUE=DATE:20230222
DTEND;VALUE=DATE:20230223
DTSTAMP:20260425T143859
CREATED:20220802T151138Z
LAST-MODIFIED:20220802T151138Z
UID:2924-1677024000-1677110399@www.mlmontessorischool.com
SUMMARY:Pink Shirt Day
DESCRIPTION:
URL:https://www.mlmontessorischool.com/calendar/pink-shirt-day/
CATEGORIES:Casa,casa 1,casa 2,Elementary
END:VEVENT
BEGIN:VEVENT
DTSTART;VALUE=DATE:20230220
DTEND;VALUE=DATE:20230221
DTSTAMP:20260425T143859
CREATED:20220802T151050Z
LAST-MODIFIED:20220802T151050Z
UID:2922-1676851200-1676937599@www.mlmontessorischool.com
SUMMARY:Family Day
DESCRIPTION:
URL:https://www.mlmontessorischool.com/calendar/family-day-5/
CATEGORIES:Casa,casa 1,casa 2,Elementary
END:VEVENT
BEGIN:VEVENT
DTSTART;VALUE=DATE:20230217
DTEND;VALUE=DATE:20230218
DTSTAMP:20260425T143859
CREATED:20220802T150957Z
LAST-MODIFIED:20220802T150957Z
UID:2919-1676592000-1676678399@www.mlmontessorischool.com
SUMMARY:P.D. Day
DESCRIPTION:No Classes
URL:https://www.mlmontessorischool.com/calendar/p-d-day-11/
CATEGORIES:Casa,casa 1,casa 2,Elementary
END:VEVENT
BEGIN:VEVENT
DTSTART;VALUE=DATE:20230211
DTEND;VALUE=DATE:20230212
DTSTAMP:20260425T143859
CREATED:20220802T150912Z
LAST-MODIFIED:20220802T150912Z
UID:2917-1676073600-1676159999@www.mlmontessorischool.com
SUMMARY:Watch-Me-Workshop Casa 2
DESCRIPTION:
URL:https://www.mlmontessorischool.com/calendar/watch-me-workshop-casa-2/
CATEGORIES:Casa,casa 2
END:VEVENT
BEGIN:VEVENT
DTSTART;VALUE=DATE:20230204
DTEND;VALUE=DATE:20230205
DTSTAMP:20260425T143859
CREATED:20220802T150828Z
LAST-MODIFIED:20220802T150828Z
UID:2915-1675468800-1675555199@www.mlmontessorischool.com
SUMMARY:Watch-Me-Workshop Casa 1
DESCRIPTION:
URL:https://www.mlmontessorischool.com/calendar/watch-me-workshop-casa-1/
CATEGORIES:Casa,casa 1
END:VEVENT
BEGIN:VEVENT
DTSTART;VALUE=DATE:20230109
DTEND;VALUE=DATE:20230110
DTSTAMP:20260425T143859
CREATED:20220802T150719Z
LAST-MODIFIED:20220802T150719Z
UID:2913-1673222400-1673308799@www.mlmontessorischool.com
SUMMARY:First Day of School
DESCRIPTION:
URL:https://www.mlmontessorischool.com/calendar/first-day-of-school-2/
CATEGORIES:Casa,casa 1,casa 2,Elementary
END:VEVENT
BEGIN:VEVENT
DTSTART;VALUE=DATE:20221223
DTEND;VALUE=DATE:20221224
DTSTAMP:20260425T143859
CREATED:20220802T150627Z
LAST-MODIFIED:20220802T150627Z
UID:2911-1671753600-1671839999@www.mlmontessorischool.com
SUMMARY:Last Day of School Before Winter Break
DESCRIPTION:
URL:https://www.mlmontessorischool.com/calendar/last-day-of-school-before-winter-break/
CATEGORIES:Casa,casa 1,casa 2,Elementary
END:VEVENT
BEGIN:VEVENT
DTSTART;VALUE=DATE:20221210
DTEND;VALUE=DATE:20221211
DTSTAMP:20260425T143859
CREATED:20220802T150520Z
LAST-MODIFIED:20220802T150520Z
UID:2909-1670630400-1670716799@www.mlmontessorischool.com
SUMMARY:Children's Concert
DESCRIPTION:
URL:https://www.mlmontessorischool.com/calendar/childrens-concert-3/
CATEGORIES:Casa,casa 1,casa 2,Elementary
END:VEVENT
BEGIN:VEVENT
DTSTART;VALUE=DATE:20221202
DTEND;VALUE=DATE:20221203
DTSTAMP:20260425T143859
CREATED:20220802T150420Z
LAST-MODIFIED:20220802T150420Z
UID:2907-1669939200-1670025599@www.mlmontessorischool.com
SUMMARY:P.D. Day
DESCRIPTION:No Classes
URL:https://www.mlmontessorischool.com/calendar/p-d-day-10/
CATEGORIES:Casa,casa 1,casa 2,Elementary
END:VEVENT
BEGIN:VEVENT
DTSTART;VALUE=DATE:20221128
DTEND;VALUE=DATE:20221203
DTSTAMP:20260425T143859
CREATED:20220802T150326Z
LAST-MODIFIED:20220802T150326Z
UID:2905-1669593600-1670025599@www.mlmontessorischool.com
SUMMARY:Interview Week
DESCRIPTION:
URL:https://www.mlmontessorischool.com/calendar/interview-week-12/
CATEGORIES:Casa,casa 1,casa 2,Elementary
END:VEVENT
BEGIN:VEVENT
DTSTART;VALUE=DATE:20221010
DTEND;VALUE=DATE:20221011
DTSTAMP:20260425T143859
CREATED:20220802T150213Z
LAST-MODIFIED:20220802T150213Z
UID:2903-1665360000-1665446399@www.mlmontessorischool.com
SUMMARY:Thanksgiving
DESCRIPTION:No Classes
URL:https://www.mlmontessorischool.com/calendar/thanksgiving-3/
CATEGORIES:Casa,casa 1,casa 2,Elementary
END:VEVENT
BEGIN:VEVENT
DTSTART;VALUE=DATE:20221007
DTEND;VALUE=DATE:20221008
DTSTAMP:20260425T143859
CREATED:20220802T150127Z
LAST-MODIFIED:20220802T150127Z
UID:2901-1665100800-1665187199@www.mlmontessorischool.com
SUMMARY:P.D. Day
DESCRIPTION:
URL:https://www.mlmontessorischool.com/calendar/p-d-day-9/
CATEGORIES:Casa,casa 1,casa 2,Elementary
END:VEVENT
BEGIN:VEVENT
DTSTART;VALUE=DATE:20221006
DTEND;VALUE=DATE:20221007
DTSTAMP:20260425T143859
CREATED:20220802T150025Z
LAST-MODIFIED:20220802T150025Z
UID:2899-1665014400-1665100799@www.mlmontessorischool.com
SUMMARY:Terry Fox Walk
DESCRIPTION:
URL:https://www.mlmontessorischool.com/calendar/terry-fox-walk/
CATEGORIES:Casa,casa 1,casa 2,Elementary
END:VEVENT
BEGIN:VEVENT
DTSTART;VALUE=DATE:20220930
DTEND;VALUE=DATE:20221001
DTSTAMP:20260425T143859
CREATED:20220802T145937Z
LAST-MODIFIED:20220802T145937Z
UID:2897-1664496000-1664582399@www.mlmontessorischool.com
SUMMARY:Orange Shirt Day
DESCRIPTION:
URL:https://www.mlmontessorischool.com/calendar/orange-shirt-day/
CATEGORIES:Casa,casa 1,casa 2,Elementary
END:VEVENT
BEGIN:VEVENT
DTSTART;VALUE=DATE:20220906
DTEND;VALUE=DATE:20220907
DTSTAMP:20260425T143859
CREATED:20220802T145840Z
LAST-MODIFIED:20220802T145840Z
UID:2894-1662422400-1662508799@www.mlmontessorischool.com
SUMMARY:First Day of Classes
DESCRIPTION:
URL:https://www.mlmontessorischool.com/calendar/first-day-of-classes/
CATEGORIES:Casa,casa 1,casa 2,Elementary
END:VEVENT
BEGIN:VEVENT
DTSTART;VALUE=DATE:20220901
DTEND;VALUE=DATE:20220902
DTSTAMP:20260425T143859
CREATED:20220802T145748Z
LAST-MODIFIED:20220802T145748Z
UID:2892-1661990400-1662076799@www.mlmontessorischool.com
SUMMARY:Casa Orientation
DESCRIPTION:
URL:https://www.mlmontessorischool.com/calendar/casa-orientation/
CATEGORIES:Casa,casa 1,casa 2
END:VEVENT
BEGIN:VEVENT
DTSTART;VALUE=DATE:20220831
DTEND;VALUE=DATE:20220901
DTSTAMP:20260425T143859
CREATED:20220802T145401Z
LAST-MODIFIED:20220802T145401Z
UID:2890-1661904000-1661990399@www.mlmontessorischool.com
SUMMARY:Elementary Orientation
DESCRIPTION:
URL:https://www.mlmontessorischool.com/calendar/elementary-orientation/
CATEGORIES:Elementary
END:VEVENT
BEGIN:VEVENT
DTSTART;VALUE=DATE:20220617
DTEND;VALUE=DATE:20220618
DTSTAMP:20260425T143859
CREATED:20210826T153534Z
LAST-MODIFIED:20210826T153534Z
UID:2858-1655424000-1655510399@www.mlmontessorischool.com
SUMMARY:Last Day of School
DESCRIPTION:
URL:https://www.mlmontessorischool.com/calendar/last-day-of-school-3/
CATEGORIES:Casa,casa 1,casa 2,Elementary,Lower Elementary,Upper Elementary
END:VEVENT
BEGIN:VEVENT
DTSTART;VALUE=DATE:20220523
DTEND;VALUE=DATE:20220524
DTSTAMP:20260425T143859
CREATED:20210826T153437Z
LAST-MODIFIED:20210826T153437Z
UID:2856-1653264000-1653350399@www.mlmontessorischool.com
SUMMARY:Victoria Day
DESCRIPTION:No School
URL:https://www.mlmontessorischool.com/calendar/victoria-day-3/
CATEGORIES:Casa,casa 1,casa 2,Elementary,Lower Elementary,Upper Elementary
END:VEVENT
BEGIN:VEVENT
DTSTART;TZID=UTC:20220520T080000
DTEND;TZID=UTC:20220520T170000
DTSTAMP:20260425T143859
CREATED:20210826T153312Z
LAST-MODIFIED:20210826T153312Z
UID:2854-1653033600-1653066000@www.mlmontessorischool.com
SUMMARY:P.D. Day
DESCRIPTION:No School
URL:https://www.mlmontessorischool.com/calendar/p-d-day-8/
CATEGORIES:Casa,casa 1,casa 2,Elementary,Lower Elementary,Upper Elementary
END:VEVENT
BEGIN:VEVENT
DTSTART;VALUE=DATE:20220418
DTEND;VALUE=DATE:20220419
DTSTAMP:20260425T143859
CREATED:20210826T153154Z
LAST-MODIFIED:20210826T153154Z
UID:2852-1650240000-1650326399@www.mlmontessorischool.com
SUMMARY:Easter Monday
DESCRIPTION:No School
URL:https://www.mlmontessorischool.com/calendar/easter-monday-3/
CATEGORIES:Casa,casa 1,casa 2,Elementary,Lower Elementary,Upper Elementary
END:VEVENT
BEGIN:VEVENT
DTSTART;VALUE=DATE:20220415
DTEND;VALUE=DATE:20220416
DTSTAMP:20260425T143859
CREATED:20210826T152831Z
LAST-MODIFIED:20210826T152831Z
UID:2850-1649980800-1650067199@www.mlmontessorischool.com
SUMMARY:Good Friday
DESCRIPTION:No School
URL:https://www.mlmontessorischool.com/calendar/good-friday-3/
CATEGORIES:Casa,casa 1,casa 2,Elementary,Lower Elementary,Upper Elementary
END:VEVENT
BEGIN:VEVENT
DTSTART;VALUE=DATE:20220321
DTEND;VALUE=DATE:20220322
DTSTAMP:20260425T143859
CREATED:20210826T152640Z
LAST-MODIFIED:20210826T152640Z
UID:2848-1647820800-1647907199@www.mlmontessorischool.com
SUMMARY:First Day of Spring Break
DESCRIPTION:
URL:https://www.mlmontessorischool.com/calendar/first-day-of-spring-break-2/
CATEGORIES:Casa,casa 1,casa 2,Elementary,Lower Elementary,Upper Elementary
END:VEVENT
BEGIN:VEVENT
DTSTART;VALUE=DATE:20220314
DTEND;VALUE=DATE:20220319
DTSTAMP:20260425T143859
CREATED:20210826T152512Z
LAST-MODIFIED:20210826T152512Z
UID:2846-1647216000-1647647999@www.mlmontessorischool.com
SUMMARY:Spring Break
DESCRIPTION:No School
URL:https://www.mlmontessorischool.com/calendar/spring-break-2/
CATEGORIES:Casa,casa 1,casa 2,Elementary,Lower Elementary,Upper Elementary
END:VEVENT
BEGIN:VEVENT
DTSTART;VALUE=DATE:20220221
DTEND;VALUE=DATE:20220222
DTSTAMP:20260425T143859
CREATED:20210826T152324Z
LAST-MODIFIED:20210826T152324Z
UID:2844-1645401600-1645487999@www.mlmontessorischool.com
SUMMARY:Family Day
DESCRIPTION:No School
URL:https://www.mlmontessorischool.com/calendar/family-day-4/
CATEGORIES:Casa,casa 1,casa 2,Elementary,Lower Elementary,Upper Elementary
END:VEVENT
BEGIN:VEVENT
DTSTART;VALUE=DATE:20220218
DTEND;VALUE=DATE:20220219
DTSTAMP:20260425T143859
CREATED:20210826T152205Z
LAST-MODIFIED:20210826T152205Z
UID:2842-1645142400-1645228799@www.mlmontessorischool.com
SUMMARY:P.D. Day
DESCRIPTION:No School
URL:https://www.mlmontessorischool.com/calendar/p-d-day-7/
CATEGORIES:Casa,casa 1,casa 2,Elementary,Lower Elementary,Upper Elementary
END:VEVENT
END:VCALENDAR