BEGIN:VCALENDAR
VERSION:2.0
PRODID:-//M L Montessori - ECPv6.13.2.1//NONSGML v1.0//EN
CALSCALE:GREGORIAN
METHOD:PUBLISH
X-WR-CALNAME:M L Montessori
X-ORIGINAL-URL:https://www.mlmontessorischool.com
X-WR-CALDESC:Events for M L Montessori
REFRESH-INTERVAL;VALUE=DURATION:PT1H
X-Robots-Tag:noindex
X-PUBLISHED-TTL:PT1H
BEGIN:VTIMEZONE
TZID:UTC
BEGIN:STANDARD
TZOFFSETFROM:+0000
TZOFFSETTO:+0000
TZNAME:UTC
DTSTART:20170101T000000
END:STANDARD
END:VTIMEZONE
BEGIN:VEVENT
DTSTART;VALUE=DATE:20170510
DTEND;VALUE=DATE:20170511
DTSTAMP:20260425T132252
CREATED:20170604T221402Z
LAST-MODIFIED:20170604T221402Z
UID:2460-1494374400-1494460799@www.mlmontessorischool.com
SUMMARY:Grad Photos
DESCRIPTION:
URL:https://www.mlmontessorischool.com/calendar/grad-photos/
CATEGORIES:Casa,casa 1,casa 2,Elementary,Lower Elementary,Middleschool,Upper Elementary
END:VEVENT
BEGIN:VEVENT
DTSTART;VALUE=DATE:20170427
DTEND;VALUE=DATE:20170428
DTSTAMP:20260425T132252
CREATED:20160804T141303Z
LAST-MODIFIED:20170220T160329Z
UID:2346-1493251200-1493337599@www.mlmontessorischool.com
SUMMARY:Spring Concert
DESCRIPTION:
URL:https://www.mlmontessorischool.com/calendar/spring-concert-tenative/
CATEGORIES:Casa,casa 1,casa 2,Elementary,Lower Elementary,Upper Elementary
END:VEVENT
BEGIN:VEVENT
DTSTART;TZID=UTC:20170425T100000
DTEND;TZID=UTC:20170425T124500
DTSTAMP:20260425T132252
CREATED:20160919T212008Z
LAST-MODIFIED:20160919T212008Z
UID:2395-1493114400-1493124300@www.mlmontessorischool.com
SUMMARY:Lower Elementary - Toronto Symphony
DESCRIPTION:
URL:https://www.mlmontessorischool.com/calendar/lower-elementary-toronto-symphony/
CATEGORIES:Lower Elementary
END:VEVENT
BEGIN:VEVENT
DTSTART;VALUE=DATE:20170421
DTEND;VALUE=DATE:20170422
DTSTAMP:20260425T132252
CREATED:20160919T211905Z
LAST-MODIFIED:20160919T211905Z
UID:2394-1492732800-1492819199@www.mlmontessorischool.com
SUMMARY:Pizza and Civvies Day - Elementary
DESCRIPTION:
URL:https://www.mlmontessorischool.com/calendar/pizza-civvies-day-elementary-7/
CATEGORIES:Elementary,Lower Elementary,Middleschool,Upper Elementary
END:VEVENT
BEGIN:VEVENT
DTSTART;VALUE=DATE:20170417
DTEND;VALUE=DATE:20170418
DTSTAMP:20260425T132252
CREATED:20160804T141146Z
LAST-MODIFIED:20160804T141146Z
UID:2345-1492387200-1492473599@www.mlmontessorischool.com
SUMMARY:Easter Monday
DESCRIPTION:No school for all students
URL:https://www.mlmontessorischool.com/calendar/easter-monday/
CATEGORIES:Casa,casa 1,casa 2,Elementary,Lower Elementary,Upper Elementary
END:VEVENT
BEGIN:VEVENT
DTSTART;VALUE=DATE:20170414
DTEND;VALUE=DATE:20170415
DTSTAMP:20260425T132252
CREATED:20160804T141004Z
LAST-MODIFIED:20160804T141004Z
UID:2344-1492128000-1492214399@www.mlmontessorischool.com
SUMMARY:Good Friday
DESCRIPTION:No classes for all students
URL:https://www.mlmontessorischool.com/calendar/good-friday/
CATEGORIES:Casa,casa 1,casa 2,Elementary,Lower Elementary,Upper Elementary
END:VEVENT
BEGIN:VEVENT
DTSTART;VALUE=DATE:20170327
DTEND;VALUE=DATE:20170331
DTSTAMP:20260425T132252
CREATED:20160804T140826Z
LAST-MODIFIED:20160804T140826Z
UID:2343-1490572800-1490918399@www.mlmontessorischool.com
SUMMARY:Interview Week
DESCRIPTION:
URL:https://www.mlmontessorischool.com/calendar/interview-week-4/
CATEGORIES:Casa,casa 1,casa 2,Elementary,Lower Elementary,Upper Elementary
END:VEVENT
BEGIN:VEVENT
DTSTART;VALUE=DATE:20170324
DTEND;VALUE=DATE:20170325
DTSTAMP:20260425T132252
CREATED:20160919T211800Z
LAST-MODIFIED:20160919T211800Z
UID:2393-1490313600-1490399999@www.mlmontessorischool.com
SUMMARY:Pizza and Civvies Day - Elementary
DESCRIPTION:
URL:https://www.mlmontessorischool.com/calendar/pizza-civvies-day-elementary-6/
CATEGORIES:Elementary,Lower Elementary,Middleschool,Upper Elementary
END:VEVENT
BEGIN:VEVENT
DTSTART;VALUE=DATE:20170320
DTEND;VALUE=DATE:20170321
DTSTAMP:20260425T132252
CREATED:20160804T140622Z
LAST-MODIFIED:20160804T140622Z
UID:2342-1489968000-1490054399@www.mlmontessorischool.com
SUMMARY:Regular Classes Begin
DESCRIPTION:Welcome back!
URL:https://www.mlmontessorischool.com/calendar/regular-classes-begin-4/
CATEGORIES:Casa,casa 1,casa 2,Elementary,Lower Elementary,Upper Elementary
END:VEVENT
BEGIN:VEVENT
DTSTART;TZID=UTC:20170310T080000
DTEND;TZID=UTC:20170317T170000
DTSTAMP:20260425T132252
CREATED:20170220T155748Z
LAST-MODIFIED:20170220T155748Z
UID:2431-1489132800-1489770000@www.mlmontessorischool.com
SUMMARY:March Break
DESCRIPTION:
URL:https://www.mlmontessorischool.com/calendar/march-break-2/
CATEGORIES:Casa,casa 1,casa 2,Elementary,Lower Elementary,Middleschool,Upper Elementary
END:VEVENT
BEGIN:VEVENT
DTSTART;VALUE=DATE:20170310
DTEND;VALUE=DATE:20170318
DTSTAMP:20260425T132252
CREATED:20160804T140519Z
LAST-MODIFIED:20160804T140519Z
UID:2341-1489104000-1489795199@www.mlmontessorischool.com
SUMMARY:Spring Break
DESCRIPTION:Enjoy your vacation
URL:https://www.mlmontessorischool.com/calendar/spring-break/
CATEGORIES:Casa,casa 1,casa 2,Elementary,Lower Elementary,Upper Elementary
END:VEVENT
BEGIN:VEVENT
DTSTART;VALUE=DATE:20170308
DTEND;VALUE=DATE:20170309
DTSTAMP:20260425T132252
CREATED:20170220T155630Z
LAST-MODIFIED:20170220T155630Z
UID:2430-1488931200-1489017599@www.mlmontessorischool.com
SUMMARY:Full Uniform
DESCRIPTION:
URL:https://www.mlmontessorischool.com/calendar/full-uniform-3/
CATEGORIES:Elementary,Lower Elementary,Middleschool,Upper Elementary
END:VEVENT
BEGIN:VEVENT
DTSTART;VALUE=DATE:20170306
DTEND;VALUE=DATE:20170307
DTSTAMP:20260425T132252
CREATED:20161204T152112Z
LAST-MODIFIED:20170220T155515Z
UID:2421-1488758400-1488844799@www.mlmontessorischool.com
SUMMARY:Last Day of Skating - Elementary (parents welcome)
DESCRIPTION:Parents welcome to participate.
URL:https://www.mlmontessorischool.com/calendar/last-day-skating-elementary-2/
CATEGORIES:Elementary,Lower Elementary,Middleschool,Upper Elementary
END:VEVENT
BEGIN:VEVENT
DTSTART;TZID=UTC:20170228T093000
DTEND;TZID=UTC:20170228T121500
DTSTAMP:20260425T132252
CREATED:20160919T211658Z
LAST-MODIFIED:20170220T160446Z
UID:2392-1488274200-1488284100@www.mlmontessorischool.com
SUMMARY:Toronto Symphony - Upper Elementary and Middleschool
DESCRIPTION:
URL:https://www.mlmontessorischool.com/calendar/toronto-symphony-upper-elementary/
CATEGORIES:Middleschool,Upper Elementary
END:VEVENT
BEGIN:VEVENT
DTSTART;VALUE=DATE:20170228
DTEND;VALUE=DATE:20170301
DTSTAMP:20260425T132252
CREATED:20170220T155040Z
LAST-MODIFIED:20170220T155040Z
UID:2427-1488240000-1488326399@www.mlmontessorischool.com
SUMMARY:Full Uniform
DESCRIPTION:
URL:https://www.mlmontessorischool.com/calendar/full-uniform-2/
CATEGORIES:Elementary,Lower Elementary,Middleschool,Upper Elementary
END:VEVENT
BEGIN:VEVENT
DTSTART;TZID=UTC:20170224T183000
DTEND;TZID=UTC:20170224T200000
DTSTAMP:20260425T132252
CREATED:20160919T211457Z
LAST-MODIFIED:20160919T211457Z
UID:2391-1487961000-1487966400@www.mlmontessorischool.com
SUMMARY:Elementary Science Fair
DESCRIPTION:
URL:https://www.mlmontessorischool.com/calendar/elementary-science-fair-3/
CATEGORIES:Elementary,Lower Elementary,Middleschool,Upper Elementary
END:VEVENT
BEGIN:VEVENT
DTSTART;VALUE=DATE:20170224
DTEND;VALUE=DATE:20170225
DTSTAMP:20260425T132252
CREATED:20170220T154927Z
LAST-MODIFIED:20170220T154927Z
UID:2426-1487894400-1487980799@www.mlmontessorischool.com
SUMMARY:Science Fair
DESCRIPTION:
URL:https://www.mlmontessorischool.com/calendar/science-fair/
CATEGORIES:Elementary,Lower Elementary,Middleschool,Upper Elementary
END:VEVENT
BEGIN:VEVENT
DTSTART;VALUE=DATE:20170221
DTEND;VALUE=DATE:20170222
DTSTAMP:20260425T132252
CREATED:20170220T160118Z
LAST-MODIFIED:20170220T160118Z
UID:2432-1487635200-1487721599@www.mlmontessorischool.com
SUMMARY:Pine Grove Lodge Concert - All Elementary
DESCRIPTION:Our Elementary students will be performing a concert for the seniors at Pine Grove Lodge.
URL:https://www.mlmontessorischool.com/calendar/pine-grove-lodge-concert-elementary/
CATEGORIES:Elementary,Lower Elementary,Middleschool,Upper Elementary
END:VEVENT
BEGIN:VEVENT
DTSTART;VALUE=DATE:20170221
DTEND;VALUE=DATE:20170222
DTSTAMP:20260425T132252
CREATED:20170220T154748Z
LAST-MODIFIED:20170220T154748Z
UID:2425-1487635200-1487721599@www.mlmontessorischool.com
SUMMARY:Full Uniform
DESCRIPTION:
URL:https://www.mlmontessorischool.com/calendar/full-uniform/
CATEGORIES:Elementary,Lower Elementary,Middleschool,Upper Elementary
END:VEVENT
BEGIN:VEVENT
DTSTART;VALUE=DATE:20170220
DTEND;VALUE=DATE:20170221
DTSTAMP:20260425T132252
CREATED:20170220T154519Z
LAST-MODIFIED:20170220T154547Z
UID:2424-1487548800-1487635199@www.mlmontessorischool.com
SUMMARY:Family Day - no school
DESCRIPTION:
URL:https://www.mlmontessorischool.com/calendar/family-day-no-school/
CATEGORIES:Casa,casa 1,casa 2,Elementary,Lower Elementary,Middleschool,Upper Elementary
END:VEVENT
BEGIN:VEVENT
DTSTART;VALUE=DATE:20170220
DTEND;VALUE=DATE:20170221
DTSTAMP:20260425T132252
CREATED:20160804T140151Z
LAST-MODIFIED:20160804T140151Z
UID:2338-1487548800-1487635199@www.mlmontessorischool.com
SUMMARY:Family Day
DESCRIPTION:No school for all students
URL:https://www.mlmontessorischool.com/calendar/family-day-2/
CATEGORIES:Casa,casa 1,casa 2,Elementary,Lower Elementary,Upper Elementary
END:VEVENT
BEGIN:VEVENT
DTSTART;VALUE=DATE:20170217
DTEND;VALUE=DATE:20170218
DTSTAMP:20260425T132252
CREATED:20170220T154331Z
LAST-MODIFIED:20170220T154331Z
UID:2423-1487289600-1487375999@www.mlmontessorischool.com
SUMMARY:Pizza and Civvies Day
DESCRIPTION:
URL:https://www.mlmontessorischool.com/calendar/pizza-civvies-day/
CATEGORIES:Elementary,Lower Elementary,Middleschool,Upper Elementary
END:VEVENT
BEGIN:VEVENT
DTSTART;VALUE=DATE:20170217
DTEND;VALUE=DATE:20170218
DTSTAMP:20260425T132252
CREATED:20160919T211322Z
LAST-MODIFIED:20160919T211322Z
UID:2390-1487289600-1487375999@www.mlmontessorischool.com
SUMMARY:Pizza and Civvies Day - Elementary
DESCRIPTION:
URL:https://www.mlmontessorischool.com/calendar/pizza-civvies-day-elementary-5/
CATEGORIES:Elementary,Lower Elementary,Middleschool,Upper Elementary
END:VEVENT
BEGIN:VEVENT
DTSTART;TZID=UTC:20170215T093000
DTEND;TZID=UTC:20170215T121500
DTSTAMP:20260425T132252
CREATED:20160919T211050Z
LAST-MODIFIED:20160919T211050Z
UID:2389-1487151000-1487160900@www.mlmontessorischool.com
SUMMARY:All Elementary-Young People's Theatre
DESCRIPTION:
URL:https://www.mlmontessorischool.com/calendar/elementary-young-peoples-theatre/
CATEGORIES:Elementary,Lower Elementary,Middleschool,Upper Elementary
END:VEVENT
BEGIN:VEVENT
DTSTART;VALUE=DATE:20170207
DTEND;VALUE=DATE:20170208
DTSTAMP:20260425T132252
CREATED:20170220T160237Z
LAST-MODIFIED:20170220T160237Z
UID:2433-1486425600-1486511999@www.mlmontessorischool.com
SUMMARY:Super Science -all elementary students
DESCRIPTION:
URL:https://www.mlmontessorischool.com/calendar/super-science-elementary-students/
CATEGORIES:Elementary,Lower Elementary,Middleschool,Upper Elementary
END:VEVENT
BEGIN:VEVENT
DTSTART;VALUE=DATE:20170204
DTEND;VALUE=DATE:20170205
DTSTAMP:20260425T132252
CREATED:20160804T140059Z
LAST-MODIFIED:20160804T140059Z
UID:2337-1486166400-1486252799@www.mlmontessorischool.com
SUMMARY:Casa Watch-Me-Workshop
DESCRIPTION:
URL:https://www.mlmontessorischool.com/calendar/casa-watch-workshop/
CATEGORIES:Casa,casa 1,casa 2
END:VEVENT
BEGIN:VEVENT
DTSTART;VALUE=DATE:20170131
DTEND;VALUE=DATE:20170201
DTSTAMP:20260425T132252
CREATED:20160804T140258Z
LAST-MODIFIED:20161204T151842Z
UID:2339-1485820800-1485907199@www.mlmontessorischool.com
SUMMARY:Early-Bird Re-enrollment
DESCRIPTION:
URL:https://www.mlmontessorischool.com/calendar/early-bird-re-enrollment-2/
CATEGORIES:Casa,casa 1,casa 2,Elementary,Lower Elementary,Upper Elementary
END:VEVENT
BEGIN:VEVENT
DTSTART;VALUE=DATE:20170120
DTEND;VALUE=DATE:20170121
DTSTAMP:20260425T132252
CREATED:20160919T210825Z
LAST-MODIFIED:20160919T210825Z
UID:2388-1484870400-1484956799@www.mlmontessorischool.com
SUMMARY:Pizza and Civvies Day - Elementary
DESCRIPTION:
URL:https://www.mlmontessorischool.com/calendar/pizza-civvies-day-elementary-4/
CATEGORIES:Elementary,Lower Elementary,Middleschool,Upper Elementary
END:VEVENT
BEGIN:VEVENT
DTSTART;TZID=UTC:20170116T120000
DTEND;TZID=UTC:20170116T133000
DTSTAMP:20260425T132252
CREATED:20161204T151755Z
LAST-MODIFIED:20161204T151755Z
UID:2419-1484568000-1484573400@www.mlmontessorischool.com
SUMMARY:Elementary Skating Begins
DESCRIPTION:Al Palladini Recreation Centre 12:00-1:30
URL:https://www.mlmontessorischool.com/calendar/elementary-skating-begins/
LOCATION:Al Palladini Recreation Centre
CATEGORIES:Elementary,Lower Elementary,Middleschool,Upper Elementary
END:VEVENT
BEGIN:VEVENT
DTSTART;VALUE=DATE:20170109
DTEND;VALUE=DATE:20170110
DTSTAMP:20260425T132252
CREATED:20160804T135940Z
LAST-MODIFIED:20160804T135940Z
UID:2336-1483920000-1484006399@www.mlmontessorischool.com
SUMMARY:Regular Classes Begin
DESCRIPTION:Welcome Back!
URL:https://www.mlmontessorischool.com/calendar/regular-classes-begin-3/
CATEGORIES:Casa,casa 1,casa 2,Elementary,Lower Elementary,Upper Elementary
END:VEVENT
END:VCALENDAR