BEGIN:VCALENDAR
VERSION:2.0
PRODID:-//M L Montessori - ECPv6.13.2.1//NONSGML v1.0//EN
CALSCALE:GREGORIAN
METHOD:PUBLISH
X-WR-CALNAME:M L Montessori
X-ORIGINAL-URL:https://www.mlmontessorischool.com
X-WR-CALDESC:Events for M L Montessori
REFRESH-INTERVAL;VALUE=DURATION:PT1H
X-Robots-Tag:noindex
X-PUBLISHED-TTL:PT1H
BEGIN:VTIMEZONE
TZID:UTC
BEGIN:STANDARD
TZOFFSETFROM:+0000
TZOFFSETTO:+0000
TZNAME:UTC
DTSTART:20170101T000000
END:STANDARD
END:VTIMEZONE
BEGIN:VEVENT
DTSTART;VALUE=DATE:20171208
DTEND;VALUE=DATE:20171209
DTSTAMP:20260425T154236
CREATED:20171116T235409Z
LAST-MODIFIED:20171116T235409Z
UID:2537-1512691200-1512777599@www.mlmontessorischool.com
SUMMARY:Interview Day - No Classes
DESCRIPTION:
URL:https://www.mlmontessorischool.com/calendar/interview-day-no-classes/
CATEGORIES:Casa,casa 1,casa 2,Elementary,Lower Elementary,Middleschool,Upper Elementary
END:VEVENT
BEGIN:VEVENT
DTSTART;VALUE=DATE:20171204
DTEND;VALUE=DATE:20171209
DTSTAMP:20260425T154236
CREATED:20170816T212536Z
LAST-MODIFIED:20170816T212536Z
UID:2475-1512345600-1512777599@www.mlmontessorischool.com
SUMMARY:Interview Week
DESCRIPTION:
URL:https://www.mlmontessorischool.com/calendar/interview-week-5/
CATEGORIES:Casa,casa 1,casa 2,Elementary,Lower Elementary,Middleschool,Upper Elementary
END:VEVENT
BEGIN:VEVENT
DTSTART;VALUE=DATE:20171128
DTEND;VALUE=DATE:20171129
DTSTAMP:20260425T154236
CREATED:20171116T235301Z
LAST-MODIFIED:20171116T235301Z
UID:2536-1511827200-1511913599@www.mlmontessorischool.com
SUMMARY:Usbourne Book Fair
DESCRIPTION:
URL:https://www.mlmontessorischool.com/calendar/usbourne-book-fair-2/
CATEGORIES:Casa,casa 1,casa 2,Elementary,Lower Elementary,Middleschool,Upper Elementary
END:VEVENT
BEGIN:VEVENT
DTSTART;VALUE=DATE:20171127
DTEND;VALUE=DATE:20171128
DTSTAMP:20260425T154236
CREATED:20171116T235156Z
LAST-MODIFIED:20171116T235156Z
UID:2535-1511740800-1511827199@www.mlmontessorischool.com
SUMMARY:Usbourne Book Fair
DESCRIPTION:
URL:https://www.mlmontessorischool.com/calendar/usbourne-book-fair/
CATEGORIES:Casa,casa 1,casa 2,Elementary,Lower Elementary,Middleschool,Upper Elementary
END:VEVENT
BEGIN:VEVENT
DTSTART;TZID=UTC:20171124T190000
DTEND;TZID=UTC:20171124T200000
DTSTAMP:20260425T154236
CREATED:20171116T235016Z
LAST-MODIFIED:20171116T235016Z
UID:2534-1511550000-1511553600@www.mlmontessorischool.com
SUMMARY:Arts Fair
DESCRIPTION:
URL:https://www.mlmontessorischool.com/calendar/arts-fair-2/
CATEGORIES:Casa,casa 1,casa 2,Elementary,Lower Elementary,Middleschool,Upper Elementary
END:VEVENT
BEGIN:VEVENT
DTSTART;VALUE=DATE:20171124
DTEND;VALUE=DATE:20171125
DTSTAMP:20260425T154236
CREATED:20170816T212411Z
LAST-MODIFIED:20170816T212411Z
UID:2474-1511481600-1511567999@www.mlmontessorischool.com
SUMMARY:Arts Fair
DESCRIPTION:
URL:https://www.mlmontessorischool.com/calendar/arts-fair/
CATEGORIES:Elementary,Lower Elementary,Middleschool,Upper Elementary
END:VEVENT
BEGIN:VEVENT
DTSTART;VALUE=DATE:20171117
DTEND;VALUE=DATE:20171118
DTSTAMP:20260425T154236
CREATED:20171116T234902Z
LAST-MODIFIED:20171116T234902Z
UID:2533-1510876800-1510963199@www.mlmontessorischool.com
SUMMARY:Elementary Pizza & Civvies Day
DESCRIPTION:
URL:https://www.mlmontessorischool.com/calendar/elementary-pizza-civvies-day/
CATEGORIES:Elementary,Lower Elementary,Middleschool,Upper Elementary
END:VEVENT
BEGIN:VEVENT
DTSTART;VALUE=DATE:20171103
DTEND;VALUE=DATE:20171104
DTSTAMP:20260425T154236
CREATED:20170816T212240Z
LAST-MODIFIED:20170816T212240Z
UID:2473-1509667200-1509753599@www.mlmontessorischool.com
SUMMARY:Professional Development Day - no classes for all students
DESCRIPTION:No classes for all students
URL:https://www.mlmontessorischool.com/calendar/professional-development-day-no-classes-students/
END:VEVENT
BEGIN:VEVENT
DTSTART;VALUE=DATE:20171102
DTEND;VALUE=DATE:20171103
DTSTAMP:20260425T154236
CREATED:20170816T212120Z
LAST-MODIFIED:20170816T212120Z
UID:2472-1509580800-1509667199@www.mlmontessorischool.com
SUMMARY:Parent Workshop
DESCRIPTION:
URL:https://www.mlmontessorischool.com/calendar/parent-workshop-4/
CATEGORIES:Casa,casa 1,casa 2,Elementary,Lower Elementary,Middleschool,Upper Elementary
END:VEVENT
BEGIN:VEVENT
DTSTART;VALUE=DATE:20171011
DTEND;VALUE=DATE:20171012
DTSTAMP:20260425T154236
CREATED:20170816T211949Z
LAST-MODIFIED:20170816T211949Z
UID:2471-1507680000-1507766399@www.mlmontessorischool.com
SUMMARY:Picture Day
DESCRIPTION:
URL:https://www.mlmontessorischool.com/calendar/picture-day-2/
CATEGORIES:Casa,casa 1,casa 2,Elementary,Lower Elementary,Middleschool,Upper Elementary
END:VEVENT
BEGIN:VEVENT
DTSTART;VALUE=DATE:20171009
DTEND;VALUE=DATE:20171010
DTSTAMP:20260425T154236
CREATED:20170816T211815Z
LAST-MODIFIED:20170816T211815Z
UID:2470-1507507200-1507593599@www.mlmontessorischool.com
SUMMARY:Thanksgiving Day - No Classes
DESCRIPTION:No classes for all students.
URL:https://www.mlmontessorischool.com/calendar/thanksgiving-day-no-classes/
CATEGORIES:Casa,casa 1,casa 2,Elementary,Lower Elementary,Middleschool,Upper Elementary
END:VEVENT
BEGIN:VEVENT
DTSTART;VALUE=DATE:20171006
DTEND;VALUE=DATE:20171007
DTSTAMP:20260425T154236
CREATED:20170816T211631Z
LAST-MODIFIED:20170816T211631Z
UID:2469-1507248000-1507334399@www.mlmontessorischool.com
SUMMARY:Professional Development Day -No Classes
DESCRIPTION:No classes for all students.
URL:https://www.mlmontessorischool.com/calendar/professional-development-day-no-classes-2/
CATEGORIES:Casa,casa 1,casa 2,Elementary,Lower Elementary,Middleschool,Upper Elementary
END:VEVENT
BEGIN:VEVENT
DTSTART;VALUE=DATE:20171005
DTEND;VALUE=DATE:20171006
DTSTAMP:20260425T154236
CREATED:20170816T211505Z
LAST-MODIFIED:20171004T164757Z
UID:2468-1507161600-1507247999@www.mlmontessorischool.com
SUMMARY:Parent Workshop
DESCRIPTION:
URL:https://www.mlmontessorischool.com/calendar/parent-workshop-3/
CATEGORIES:Casa,casa 1,casa 2,Elementary,Lower Elementary,Middleschool,Upper Elementary
END:VEVENT
BEGIN:VEVENT
DTSTART;VALUE=DATE:20170905
DTEND;VALUE=DATE:20170906
DTSTAMP:20260425T154236
CREATED:20170816T211400Z
LAST-MODIFIED:20170816T211400Z
UID:2467-1504569600-1504655999@www.mlmontessorischool.com
SUMMARY:Regular Classes Begin
DESCRIPTION:
URL:https://www.mlmontessorischool.com/calendar/regular-classes-begin-5/
CATEGORIES:Casa,casa 1,casa 2,Elementary,Lower Elementary,Middleschool,Upper Elementary
END:VEVENT
BEGIN:VEVENT
DTSTART;TZID=UTC:20170901T110000
DTEND;TZID=UTC:20170901T120000
DTSTAMP:20260425T154236
CREATED:20170827T155637Z
LAST-MODIFIED:20170827T155637Z
UID:2498-1504263600-1504267200@www.mlmontessorischool.com
SUMMARY:Orientation for New Students - Casa 2
DESCRIPTION:
URL:https://www.mlmontessorischool.com/calendar/orientation-new-students-casa-2-3/
CATEGORIES:Casa,casa 2
END:VEVENT
BEGIN:VEVENT
DTSTART;TZID=UTC:20170901T090000
DTEND;TZID=UTC:20170901T100000
DTSTAMP:20260425T154236
CREATED:20170827T155347Z
LAST-MODIFIED:20170827T155347Z
UID:2496-1504256400-1504260000@www.mlmontessorischool.com
SUMMARY:Orientation for New Casa Students - Casa 1
DESCRIPTION:
URL:https://www.mlmontessorischool.com/calendar/orientation-new-casa-students-casa-1-2/
CATEGORIES:Casa,casa 1
END:VEVENT
BEGIN:VEVENT
DTSTART;TZID=UTC:20170831T110000
DTEND;TZID=UTC:20170831T120000
DTSTAMP:20260425T154236
CREATED:20170827T155555Z
LAST-MODIFIED:20170827T155555Z
UID:2497-1504177200-1504180800@www.mlmontessorischool.com
SUMMARY:Orientation for New Students - Casa 2
DESCRIPTION:
URL:https://www.mlmontessorischool.com/calendar/orientation-new-students-casa-2-2/
CATEGORIES:Casa,casa 2
END:VEVENT
BEGIN:VEVENT
DTSTART;TZID=UTC:20170831T090000
DTEND;TZID=UTC:20170831T100000
DTSTAMP:20260425T154236
CREATED:20170827T155223Z
LAST-MODIFIED:20170827T155223Z
UID:2495-1504170000-1504173600@www.mlmontessorischool.com
SUMMARY:Orientation for New Casa Students- Casa 1
DESCRIPTION:
URL:https://www.mlmontessorischool.com/calendar/orientation-new-casa-students-casa-1/
CATEGORIES:Casa,casa 1
END:VEVENT
BEGIN:VEVENT
DTSTART;TZID=UTC:20170830T110000
DTEND;TZID=UTC:20170830T120000
DTSTAMP:20260425T154236
CREATED:20170816T210939Z
LAST-MODIFIED:20170827T155511Z
UID:2466-1504090800-1504094400@www.mlmontessorischool.com
SUMMARY:Orientation for New Students - Casa 2
DESCRIPTION:
URL:https://www.mlmontessorischool.com/calendar/orientation-new-students-casa-2/
CATEGORIES:Casa,casa 2
END:VEVENT
BEGIN:VEVENT
DTSTART;TZID=UTC:20170830T090000
DTEND;TZID=UTC:20170830T100000
DTSTAMP:20260425T154236
CREATED:20170816T210502Z
LAST-MODIFIED:20170827T155056Z
UID:2464-1504083600-1504087200@www.mlmontessorischool.com
SUMMARY:Orientation For New Students - Casa 1
DESCRIPTION:
URL:https://www.mlmontessorischool.com/calendar/orientation-new-students/
CATEGORIES:Casa,casa 1
END:VEVENT
BEGIN:VEVENT
DTSTART;TZID=UTC:20170829T190000
DTEND;TZID=UTC:20170829T200000
DTSTAMP:20260425T154236
CREATED:20170816T210240Z
LAST-MODIFIED:20170816T210240Z
UID:2463-1504033200-1504036800@www.mlmontessorischool.com
SUMMARY:New Casa Parent Orientation
DESCRIPTION:
URL:https://www.mlmontessorischool.com/calendar/new-casa-parent-orientation/
CATEGORIES:Casa,casa 1,casa 2
END:VEVENT
BEGIN:VEVENT
DTSTART;VALUE=DATE:20170619
DTEND;VALUE=DATE:20170620
DTSTAMP:20260425T154236
CREATED:20170529T195838Z
LAST-MODIFIED:20170529T195838Z
UID:2457-1497830400-1497916799@www.mlmontessorischool.com
SUMMARY:Summer Camp Begins
DESCRIPTION:
URL:https://www.mlmontessorischool.com/calendar/summer-camp-begins/
CATEGORIES:Casa,casa 1,casa 2,Elementary,Lower Elementary,Middleschool,Upper Elementary
END:VEVENT
BEGIN:VEVENT
DTSTART;VALUE=DATE:20170616
DTEND;VALUE=DATE:20170617
DTSTAMP:20260425T154236
CREATED:20160919T212241Z
LAST-MODIFIED:20160919T212241Z
UID:2397-1497571200-1497657599@www.mlmontessorischool.com
SUMMARY:Pizza and Civvies Day -Elementary
DESCRIPTION:
URL:https://www.mlmontessorischool.com/calendar/pizza-civvies-day-elementary-9/
CATEGORIES:Elementary,Lower Elementary,Middleschool,Upper Elementary
END:VEVENT
BEGIN:VEVENT
DTSTART;VALUE=DATE:20170616
DTEND;VALUE=DATE:20170617
DTSTAMP:20260425T154236
CREATED:20160804T142105Z
LAST-MODIFIED:20160804T142115Z
UID:2351-1497571200-1497657599@www.mlmontessorischool.com
SUMMARY:Last Day of School
DESCRIPTION:
URL:https://www.mlmontessorischool.com/calendar/last-day-schools/
CATEGORIES:Casa,casa 1,casa 2,Elementary,Lower Elementary,Upper Elementary
END:VEVENT
BEGIN:VEVENT
DTSTART;VALUE=DATE:20170615
DTEND;VALUE=DATE:20170616
DTSTAMP:20260425T154236
CREATED:20170604T221140Z
LAST-MODIFIED:20170604T221140Z
UID:2459-1497484800-1497571199@www.mlmontessorischool.com
SUMMARY:Grade 6 & 7 Field Trip
DESCRIPTION:
URL:https://www.mlmontessorischool.com/calendar/grade-6-7-field-trip/
CATEGORIES:Middleschool,Upper Elementary
END:VEVENT
BEGIN:VEVENT
DTSTART;VALUE=DATE:20170614
DTEND;VALUE=DATE:20170615
DTSTAMP:20260425T154236
CREATED:20170529T195623Z
LAST-MODIFIED:20170529T195623Z
UID:2456-1497398400-1497484799@www.mlmontessorischool.com
SUMMARY:Annual Play Day and Elementary BBQ
DESCRIPTION:
URL:https://www.mlmontessorischool.com/calendar/annual-play-day-elementary-bbq/
CATEGORIES:Casa,casa 1,casa 2,Elementary,Lower Elementary,Middleschool,Upper Elementary
END:VEVENT
BEGIN:VEVENT
DTSTART;TZID=UTC:20170612T190000
DTEND;TZID=UTC:20170612T200000
DTSTAMP:20260425T154236
CREATED:20170529T195411Z
LAST-MODIFIED:20170529T195411Z
UID:2455-1497294000-1497297600@www.mlmontessorischool.com
SUMMARY:Graduation Ceremony
DESCRIPTION:
URL:https://www.mlmontessorischool.com/calendar/graduation-ceremony/
CATEGORIES:Casa,casa 1,casa 2,Elementary,Lower Elementary,Middleschool,Upper Elementary
END:VEVENT
BEGIN:VEVENT
DTSTART;VALUE=DATE:20170526
DTEND;VALUE=DATE:20170527
DTSTAMP:20260425T154236
CREATED:20160919T212110Z
LAST-MODIFIED:20160919T212110Z
UID:2396-1495756800-1495843199@www.mlmontessorischool.com
SUMMARY:Pizza and Civvies Day - Elementary
DESCRIPTION:
URL:https://www.mlmontessorischool.com/calendar/pizza-civvies-day-elementary-8/
CATEGORIES:Elementary,Lower Elementary,Middleschool,Upper Elementary
END:VEVENT
BEGIN:VEVENT
DTSTART;VALUE=DATE:20170522
DTEND;VALUE=DATE:20170523
DTSTAMP:20260425T154236
CREATED:20160804T141615Z
LAST-MODIFIED:20160804T141615Z
UID:2349-1495411200-1495497599@www.mlmontessorischool.com
SUMMARY:Victoria Day
DESCRIPTION:No school for all students
URL:https://www.mlmontessorischool.com/calendar/victoria-day/
CATEGORIES:Casa,casa 1,casa 2,Elementary,Lower Elementary,Upper Elementary
END:VEVENT
BEGIN:VEVENT
DTSTART;VALUE=DATE:20170519
DTEND;VALUE=DATE:20170520
DTSTAMP:20260425T154236
CREATED:20160804T141431Z
LAST-MODIFIED:20160804T141431Z
UID:2348-1495152000-1495238399@www.mlmontessorischool.com
SUMMARY:Professional Development Day
DESCRIPTION:No school for all students
URL:https://www.mlmontessorischool.com/calendar/professional-development-day-5/
CATEGORIES:Casa,casa 1,casa 2,Elementary,Lower Elementary,Upper Elementary
END:VEVENT
END:VCALENDAR