BEGIN:VCALENDAR
VERSION:2.0
PRODID:-//M L Montessori - ECPv6.13.2.1//NONSGML v1.0//EN
CALSCALE:GREGORIAN
METHOD:PUBLISH
X-WR-CALNAME:M L Montessori
X-ORIGINAL-URL:https://www.mlmontessorischool.com
X-WR-CALDESC:Events for M L Montessori
REFRESH-INTERVAL;VALUE=DURATION:PT1H
X-Robots-Tag:noindex
X-PUBLISHED-TTL:PT1H
BEGIN:VTIMEZONE
TZID:UTC
BEGIN:STANDARD
TZOFFSETFROM:+0000
TZOFFSETTO:+0000
TZNAME:UTC
DTSTART:20230101T000000
END:STANDARD
END:VTIMEZONE
BEGIN:VEVENT
DTSTART;VALUE=DATE:20240219
DTEND;VALUE=DATE:20240220
DTSTAMP:20260425T103818
CREATED:20230815T183147Z
LAST-MODIFIED:20230815T183147Z
UID:2993-1708300800-1708387199@www.mlmontessorischool.com
SUMMARY:Family Day
DESCRIPTION:No school
URL:https://www.mlmontessorischool.com/calendar/family-day-6/
CATEGORIES:Casa,casa 1,casa 2,Elementary
END:VEVENT
BEGIN:VEVENT
DTSTART;VALUE=DATE:20240216
DTEND;VALUE=DATE:20240217
DTSTAMP:20260425T103818
CREATED:20230815T183022Z
LAST-MODIFIED:20230815T183022Z
UID:2991-1708041600-1708127999@www.mlmontessorischool.com
SUMMARY:Professional Development Day
DESCRIPTION:No school
URL:https://www.mlmontessorischool.com/calendar/professional-development-day-8/
CATEGORIES:Casa,casa 1,casa 2,Elementary
END:VEVENT
BEGIN:VEVENT
DTSTART;TZID=UTC:20240215T190000
DTEND;TZID=UTC:20240215T200000
DTSTAMP:20260425T103818
CREATED:20230815T182830Z
LAST-MODIFIED:20230815T182830Z
UID:2989-1708023600-1708027200@www.mlmontessorischool.com
SUMMARY:Elementary Info Night for Casa Grad Parents
DESCRIPTION:
URL:https://www.mlmontessorischool.com/calendar/elementary-info-night-for-casa-grad-parents/
CATEGORIES:Casa,casa 1,casa 2,Elementary
END:VEVENT
BEGIN:VEVENT
DTSTART;VALUE=DATE:20240108
DTEND;VALUE=DATE:20240109
DTSTAMP:20260425T103818
CREATED:20230815T182639Z
LAST-MODIFIED:20230815T182639Z
UID:2987-1704672000-1704758399@www.mlmontessorischool.com
SUMMARY:First Day of Classes
DESCRIPTION:Welcome back!
URL:https://www.mlmontessorischool.com/calendar/first-day-of-classes-2/
CATEGORIES:Casa,casa 1,casa 2,Elementary
END:VEVENT
BEGIN:VEVENT
DTSTART;VALUE=DATE:20231222
DTEND;VALUE=DATE:20231223
DTSTAMP:20260425T103818
CREATED:20230815T182502Z
LAST-MODIFIED:20230815T182502Z
UID:2983-1703203200-1703289599@www.mlmontessorischool.com
SUMMARY:Last Day Before Winter Break
DESCRIPTION:Have a wonderful holiday!
URL:https://www.mlmontessorischool.com/calendar/last-day-before-winter-break/
CATEGORIES:Casa,casa 1,casa 2,Elementary
END:VEVENT
BEGIN:VEVENT
DTSTART;VALUE=DATE:20231209
DTEND;VALUE=DATE:20231210
DTSTAMP:20260425T103818
CREATED:20230815T182324Z
LAST-MODIFIED:20230815T182324Z
UID:2981-1702080000-1702166399@www.mlmontessorischool.com
SUMMARY:All Casa & Elementary Children's Concert
DESCRIPTION:
URL:https://www.mlmontessorischool.com/calendar/all-casa-elementary-childrens-concert/
CATEGORIES:Casa,casa 1,casa 2,Elementary
END:VEVENT
BEGIN:VEVENT
DTSTART;VALUE=DATE:20231201
DTEND;VALUE=DATE:20231202
DTSTAMP:20260425T103818
CREATED:20230815T182117Z
LAST-MODIFIED:20230815T182117Z
UID:2979-1701388800-1701475199@www.mlmontessorischool.com
SUMMARY:Professional Development Day
DESCRIPTION:No school for all students
URL:https://www.mlmontessorischool.com/calendar/professional-development-day-7/
CATEGORIES:Casa,casa 1,casa 2,Elementary
END:VEVENT
BEGIN:VEVENT
DTSTART;VALUE=DATE:20231127
DTEND;VALUE=DATE:20231201
DTSTAMP:20260425T103818
CREATED:20230815T181924Z
LAST-MODIFIED:20230815T181924Z
UID:2976-1701043200-1701388799@www.mlmontessorischool.com
SUMMARY:Interview Week
DESCRIPTION:
URL:https://www.mlmontessorischool.com/calendar/interview-week-13/
CATEGORIES:Casa,casa 1,casa 2,Elementary
END:VEVENT
BEGIN:VEVENT
DTSTART;VALUE=DATE:20231124
DTEND;VALUE=DATE:20231125
DTSTAMP:20260425T103818
CREATED:20230815T181622Z
LAST-MODIFIED:20230815T181622Z
UID:2974-1700784000-1700870399@www.mlmontessorischool.com
SUMMARY:Elementary & Casa Grads Arts Fair
DESCRIPTION:
URL:https://www.mlmontessorischool.com/calendar/elementary-casa-grads-arts-fair/
CATEGORIES:Casa,casa 1,casa 2,Elementary
END:VEVENT
BEGIN:VEVENT
DTSTART;VALUE=DATE:20231025
DTEND;VALUE=DATE:20231026
DTSTAMP:20260425T103818
CREATED:20231005T151614Z
LAST-MODIFIED:20231005T151614Z
UID:3025-1698192000-1698278399@www.mlmontessorischool.com
SUMMARY:Picture Day
DESCRIPTION:
URL:https://www.mlmontessorischool.com/calendar/picture-day-5/
CATEGORIES:Casa,casa 1,casa 2,Elementary
END:VEVENT
BEGIN:VEVENT
DTSTART;VALUE=DATE:20231013
DTEND;VALUE=DATE:20231014
DTSTAMP:20260425T103818
CREATED:20230815T181006Z
LAST-MODIFIED:20231005T152131Z
UID:2966-1697155200-1697155200@www.mlmontessorischool.com
SUMMARY:Casa Grads & Elementary Fall Fair
DESCRIPTION:
URL:https://www.mlmontessorischool.com/calendar/casa-grads-elementary-fall-fair/
CATEGORIES:Casa,casa 1,casa 2,Elementary
END:VEVENT
BEGIN:VEVENT
DTSTART;VALUE=DATE:20231013
DTEND;VALUE=DATE:20231014
DTSTAMP:20260425T103818
CREATED:20230815T180803Z
LAST-MODIFIED:20231005T151953Z
UID:2964-1697155200-1697241599@www.mlmontessorischool.com
SUMMARY:Terry Fox Walk
DESCRIPTION:
URL:https://www.mlmontessorischool.com/calendar/terry-fox-walk-2/
CATEGORIES:Casa,casa 1,casa 2,Elementary
END:VEVENT
BEGIN:VEVENT
DTSTART;VALUE=DATE:20231009
DTEND;VALUE=DATE:20231010
DTSTAMP:20260425T103818
CREATED:20230815T181348Z
LAST-MODIFIED:20230815T181348Z
UID:2970-1696809600-1696895999@www.mlmontessorischool.com
SUMMARY:Thanksgiving Day
DESCRIPTION:No school for students.
URL:https://www.mlmontessorischool.com/calendar/thanksgiving-day/
CATEGORIES:Casa,casa 1,casa 2,Elementary
END:VEVENT
BEGIN:VEVENT
DTSTART;VALUE=DATE:20231006
DTEND;VALUE=DATE:20231007
DTSTAMP:20260425T103818
CREATED:20230815T181238Z
LAST-MODIFIED:20230815T181238Z
UID:2968-1696550400-1696636799@www.mlmontessorischool.com
SUMMARY:Professional Development Day
DESCRIPTION:No school for students
URL:https://www.mlmontessorischool.com/calendar/professional-development-day-6/
CATEGORIES:Casa,casa 1,casa 2,Elementary
END:VEVENT
BEGIN:VEVENT
DTSTART;VALUE=DATE:20231005
DTEND;VALUE=DATE:20231006
DTSTAMP:20260425T103818
CREATED:20230815T181511Z
LAST-MODIFIED:20231005T151757Z
UID:2972-1696464000-1696550399@www.mlmontessorischool.com
SUMMARY:Elementary Grandparent's Day
DESCRIPTION:
URL:https://www.mlmontessorischool.com/calendar/elementary-grandparents-day/
CATEGORIES:Elementary
END:VEVENT
BEGIN:VEVENT
DTSTART;VALUE=DATE:20230929
DTEND;VALUE=DATE:20230930
DTSTAMP:20260425T103818
CREATED:20230815T180610Z
LAST-MODIFIED:20230815T180610Z
UID:2961-1695945600-1696031999@www.mlmontessorischool.com
SUMMARY:Orange Shirt Day
DESCRIPTION:
URL:https://www.mlmontessorischool.com/calendar/orange-shirt-day-2/
CATEGORIES:Casa,casa 1,casa 2,Elementary
END:VEVENT
BEGIN:VEVENT
DTSTART;VALUE=DATE:20230905
DTEND;VALUE=DATE:20230906
DTSTAMP:20260425T103818
CREATED:20230815T180340Z
LAST-MODIFIED:20230815T180340Z
UID:2957-1693872000-1693958399@www.mlmontessorischool.com
SUMMARY:First Day of School
DESCRIPTION:Welcome back everyone!
URL:https://www.mlmontessorischool.com/calendar/first-day-of-school-3/
CATEGORIES:Casa,casa 1,casa 2,Elementary
END:VEVENT
BEGIN:VEVENT
DTSTART;TZID=UTC:20230831T090000
DTEND;TZID=UTC:20230831T103000
DTSTAMP:20260425T103818
CREATED:20230815T180149Z
LAST-MODIFIED:20230815T180149Z
UID:2955-1693472400-1693477800@www.mlmontessorischool.com
SUMMARY:Casa 2 Orientation - New Children
DESCRIPTION:Casa 2 Orientation – New Children
URL:https://www.mlmontessorischool.com/calendar/casa-2-orientation-new-children/
CATEGORIES:Casa,casa 2
END:VEVENT
BEGIN:VEVENT
DTSTART;TZID=UTC:20230830T190000
DTEND;TZID=UTC:20230830T200000
DTSTAMP:20260425T103818
CREATED:20230815T175757Z
LAST-MODIFIED:20230815T175757Z
UID:2951-1693422000-1693425600@www.mlmontessorischool.com
SUMMARY:Elementary Parent/Student Orientation - Grade 4
DESCRIPTION:Elementary Parent/Student Orientation – Grade 4
URL:https://www.mlmontessorischool.com/calendar/elementary-parent-student-orientation-grade-4/
CATEGORIES:Elementary
END:VEVENT
BEGIN:VEVENT
DTSTART;TZID=UTC:20230830T090000
DTEND;TZID=UTC:20230830T103000
DTSTAMP:20260425T103818
CREATED:20230815T180032Z
LAST-MODIFIED:20230815T180032Z
UID:2953-1693386000-1693391400@www.mlmontessorischool.com
SUMMARY:Casa 1 Orientation - New Children
DESCRIPTION:Casa 1 Orientation – New Children
URL:https://www.mlmontessorischool.com/calendar/casa-1-orientation-new-children/
CATEGORIES:Casa,casa 1
END:VEVENT
BEGIN:VEVENT
DTSTART;TZID=UTC:20230829T190000
DTEND;TZID=UTC:20230829T200000
DTSTAMP:20260425T103818
CREATED:20230815T175617Z
LAST-MODIFIED:20230815T175617Z
UID:2949-1693335600-1693339200@www.mlmontessorischool.com
SUMMARY:Elementary Parent Only Orientation - Grade 1
DESCRIPTION:Elementary Parent Only Orientation – Grade 1
URL:https://www.mlmontessorischool.com/calendar/elementary-parent-only-orientation-grade-1/
CATEGORIES:Elementary
END:VEVENT
BEGIN:VEVENT
DTSTART;VALUE=DATE:20230616
DTEND;VALUE=DATE:20230617
DTSTAMP:20260425T103818
CREATED:20220802T151929Z
LAST-MODIFIED:20220802T151929Z
UID:2942-1686873600-1686959999@www.mlmontessorischool.com
SUMMARY:Last Day of School
DESCRIPTION:
URL:https://www.mlmontessorischool.com/calendar/last-day-of-school-4/
CATEGORIES:Casa,casa 1,casa 2,Elementary
END:VEVENT
BEGIN:VEVENT
DTSTART;VALUE=DATE:20230614
DTEND;VALUE=DATE:20230615
DTSTAMP:20260425T103818
CREATED:20220802T151839Z
LAST-MODIFIED:20220802T151839Z
UID:2940-1686700800-1686787199@www.mlmontessorischool.com
SUMMARY:Elementary and Casa Graduation
DESCRIPTION:
URL:https://www.mlmontessorischool.com/calendar/elementary-and-casa-graduation/
CATEGORIES:Casa,casa 1,casa 2,Elementary
END:VEVENT
BEGIN:VEVENT
DTSTART;VALUE=DATE:20230522
DTEND;VALUE=DATE:20230523
DTSTAMP:20260425T103818
CREATED:20220802T151750Z
LAST-MODIFIED:20220802T151750Z
UID:2938-1684713600-1684799999@www.mlmontessorischool.com
SUMMARY:Victoria Day
DESCRIPTION:No Classes
URL:https://www.mlmontessorischool.com/calendar/victoria-day-4/
CATEGORIES:Casa,casa 1,casa 2,Elementary
END:VEVENT
BEGIN:VEVENT
DTSTART;VALUE=DATE:20230519
DTEND;VALUE=DATE:20230520
DTSTAMP:20260425T103818
CREATED:20220802T151659Z
LAST-MODIFIED:20220802T151659Z
UID:2936-1684454400-1684540799@www.mlmontessorischool.com
SUMMARY:P.D. Day
DESCRIPTION:No Classes
URL:https://www.mlmontessorischool.com/calendar/p-d-day-12/
CATEGORIES:Casa,casa 1,casa 2,Elementary
END:VEVENT
BEGIN:VEVENT
DTSTART;VALUE=DATE:20230428
DTEND;VALUE=DATE:20230429
DTSTAMP:20260425T103818
CREATED:20220802T151432Z
LAST-MODIFIED:20230405T154335Z
UID:2930-1682640000-1682726399@www.mlmontessorischool.com
SUMMARY:Elementary Spring Concert
DESCRIPTION:
URL:https://www.mlmontessorischool.com/calendar/elementary-spring-concert/
CATEGORIES:Elementary
END:VEVENT
BEGIN:VEVENT
DTSTART;VALUE=DATE:20230410
DTEND;VALUE=DATE:20230411
DTSTAMP:20260425T103818
CREATED:20220802T151601Z
LAST-MODIFIED:20220802T151601Z
UID:2934-1681084800-1681171199@www.mlmontessorischool.com
SUMMARY:Easter Monday
DESCRIPTION:No Classes
URL:https://www.mlmontessorischool.com/calendar/easter-monday-4/
CATEGORIES:Casa,casa 1,casa 2,Elementary
END:VEVENT
BEGIN:VEVENT
DTSTART;VALUE=DATE:20230407
DTEND;VALUE=DATE:20230408
DTSTAMP:20260425T103818
CREATED:20220802T151519Z
LAST-MODIFIED:20220802T151519Z
UID:2932-1680825600-1680911999@www.mlmontessorischool.com
SUMMARY:Good Friday
DESCRIPTION:No Classes
URL:https://www.mlmontessorischool.com/calendar/good-friday-4/
CATEGORIES:Casa,casa 1,casa 2,Elementary
END:VEVENT
BEGIN:VEVENT
DTSTART;VALUE=DATE:20230320
DTEND;VALUE=DATE:20230321
DTSTAMP:20260425T103818
CREATED:20220802T151341Z
LAST-MODIFIED:20220802T151341Z
UID:2928-1679270400-1679356799@www.mlmontessorischool.com
SUMMARY:Return From March Break
DESCRIPTION:
URL:https://www.mlmontessorischool.com/calendar/return-from-march-break/
CATEGORIES:Casa,casa 1,casa 2,Elementary
END:VEVENT
BEGIN:VEVENT
DTSTART;VALUE=DATE:20230313
DTEND;VALUE=DATE:20230314
DTSTAMP:20260425T103818
CREATED:20220802T151227Z
LAST-MODIFIED:20220802T151227Z
UID:2926-1678665600-1678751999@www.mlmontessorischool.com
SUMMARY:First Day of March Break
DESCRIPTION:
URL:https://www.mlmontessorischool.com/calendar/first-day-of-march-break/
CATEGORIES:Casa,casa 1,casa 2,Elementary
END:VEVENT
END:VCALENDAR