BEGIN:VCALENDAR
VERSION:2.0
PRODID:-//M L Montessori - ECPv6.13.2.1//NONSGML v1.0//EN
CALSCALE:GREGORIAN
METHOD:PUBLISH
X-WR-CALNAME:M L Montessori
X-ORIGINAL-URL:https://www.mlmontessorischool.com
X-WR-CALDESC:Events for M L Montessori
REFRESH-INTERVAL;VALUE=DURATION:PT1H
X-Robots-Tag:noindex
X-PUBLISHED-TTL:PT1H
BEGIN:VTIMEZONE
TZID:UTC
BEGIN:STANDARD
TZOFFSETFROM:+0000
TZOFFSETTO:+0000
TZNAME:UTC
DTSTART:20190101T000000
END:STANDARD
END:VTIMEZONE
BEGIN:VEVENT
DTSTART;VALUE=DATE:20190830
DTEND;VALUE=DATE:20190831
DTSTAMP:20260425T104646
CREATED:20190812T145221Z
LAST-MODIFIED:20190812T145221Z
UID:2598-1567123200-1567209599@www.mlmontessorischool.com
SUMMARY:Ease In - New Children Only
DESCRIPTION:
URL:https://www.mlmontessorischool.com/calendar/ease-new-children-4/
CATEGORIES:Casa,casa 1,casa 2
END:VEVENT
BEGIN:VEVENT
DTSTART;VALUE=DATE:20190829
DTEND;VALUE=DATE:20190830
DTSTAMP:20260425T104646
CREATED:20190812T145147Z
LAST-MODIFIED:20190812T145147Z
UID:2597-1567036800-1567123199@www.mlmontessorischool.com
SUMMARY:Ease In - New Children Only
DESCRIPTION:
URL:https://www.mlmontessorischool.com/calendar/ease-new-children-3/
CATEGORIES:Casa,casa 1,casa 2
END:VEVENT
BEGIN:VEVENT
DTSTART;VALUE=DATE:20190828
DTEND;VALUE=DATE:20190829
DTSTAMP:20260425T104646
CREATED:20190812T145103Z
LAST-MODIFIED:20190812T145103Z
UID:2596-1566950400-1567036799@www.mlmontessorischool.com
SUMMARY:Ease In - New Children Only
DESCRIPTION:New Children Only
URL:https://www.mlmontessorischool.com/calendar/ease-new-children-2/
CATEGORIES:Casa,casa 1,casa 2
END:VEVENT
BEGIN:VEVENT
DTSTART;TZID=UTC:20190827T190000
DTEND;TZID=UTC:20190827T200000
DTSTAMP:20260425T104646
CREATED:20190812T144931Z
LAST-MODIFIED:20190812T144931Z
UID:2595-1566932400-1566936000@www.mlmontessorischool.com
SUMMARY:New Casa Parent Information Evening
DESCRIPTION:
URL:https://www.mlmontessorischool.com/calendar/new-casa-parent-information-evening/
CATEGORIES:Casa,casa 1,casa 2
END:VEVENT
BEGIN:VEVENT
DTSTART;VALUE=DATE:20190809
DTEND;VALUE=DATE:20190810
DTSTAMP:20260425T104646
CREATED:20190812T144806Z
LAST-MODIFIED:20190812T144806Z
UID:2594-1565308800-1565395199@www.mlmontessorischool.com
SUMMARY:Last Day of Summer Camp
DESCRIPTION:
URL:https://www.mlmontessorischool.com/calendar/last-day-summer-camp/
CATEGORIES:Casa,casa 1,casa 2
END:VEVENT
BEGIN:VEVENT
DTSTART;VALUE=DATE:20190624
DTEND;VALUE=DATE:20190625
DTSTAMP:20260425T104646
CREATED:20180805T153916Z
LAST-MODIFIED:20180805T153916Z
UID:2580-1561334400-1561420799@www.mlmontessorischool.com
SUMMARY:Summer Camp Starts
DESCRIPTION:
URL:https://www.mlmontessorischool.com/calendar/summer-camp-starts/
CATEGORIES:Casa,casa 1,casa 2
END:VEVENT
BEGIN:VEVENT
DTSTART;VALUE=DATE:20190621
DTEND;VALUE=DATE:20190622
DTSTAMP:20260425T104646
CREATED:20180805T153825Z
LAST-MODIFIED:20180805T153825Z
UID:2579-1561075200-1561161599@www.mlmontessorischool.com
SUMMARY:Last Day of School
DESCRIPTION:
URL:https://www.mlmontessorischool.com/calendar/last-day-school-2-2/
CATEGORIES:Casa,casa 1,casa 2,Elementary,Lower Elementary,Middleschool,Upper Elementary
END:VEVENT
BEGIN:VEVENT
DTSTART;VALUE=DATE:20190617
DTEND;VALUE=DATE:20190618
DTSTAMP:20260425T104646
CREATED:20180805T153623Z
LAST-MODIFIED:20180805T153623Z
UID:2578-1560729600-1560815999@www.mlmontessorischool.com
SUMMARY:Graduation (Tentative)
DESCRIPTION:Graduation is for Elementary students and Casa graduates.
URL:https://www.mlmontessorischool.com/calendar/graduation-tentative/
CATEGORIES:Casa,Elementary,Lower Elementary,Middleschool,Upper Elementary
END:VEVENT
BEGIN:VEVENT
DTSTART;VALUE=DATE:20190524
DTEND;VALUE=DATE:20190525
DTSTAMP:20260425T104646
CREATED:20190301T131008Z
LAST-MODIFIED:20190301T131008Z
UID:2592-1558656000-1558742399@www.mlmontessorischool.com
SUMMARY:Pizza and Civvies Day
DESCRIPTION:
URL:https://www.mlmontessorischool.com/calendar/pizza-civvies-day-5/
CATEGORIES:Elementary,Lower Elementary,Middleschool,Upper Elementary
END:VEVENT
BEGIN:VEVENT
DTSTART;VALUE=DATE:20190520
DTEND;VALUE=DATE:20190521
DTSTAMP:20260425T104646
CREATED:20180805T153428Z
LAST-MODIFIED:20180805T153428Z
UID:2577-1558310400-1558396799@www.mlmontessorischool.com
SUMMARY:Victoria Day - No Classes
DESCRIPTION:
URL:https://www.mlmontessorischool.com/calendar/victoria-day-no-classes-3/
CATEGORIES:Casa,casa 1,casa 2,Elementary,Lower Elementary,Middleschool,Upper Elementary
END:VEVENT
BEGIN:VEVENT
DTSTART;VALUE=DATE:20190517
DTEND;VALUE=DATE:20190518
DTSTAMP:20260425T104646
CREATED:20180805T153259Z
LAST-MODIFIED:20180805T153259Z
UID:2576-1558051200-1558137599@www.mlmontessorischool.com
SUMMARY:Professional Development Day - No Classes
DESCRIPTION:
URL:https://www.mlmontessorischool.com/calendar/professional-development-day-no-classes-4/
CATEGORIES:Casa,casa 1,casa 2,Elementary,Lower Elementary,Middleschool,Upper Elementary
END:VEVENT
BEGIN:VEVENT
DTSTART;VALUE=DATE:20190426
DTEND;VALUE=DATE:20190427
DTSTAMP:20260425T104646
CREATED:20190301T130859Z
LAST-MODIFIED:20190301T130859Z
UID:2591-1556236800-1556323199@www.mlmontessorischool.com
SUMMARY:Pizza and Civvies Day
DESCRIPTION:
URL:https://www.mlmontessorischool.com/calendar/pizza-civvies-day-4/
CATEGORIES:Elementary,Lower Elementary,Middleschool,Upper Elementary
END:VEVENT
BEGIN:VEVENT
DTSTART;VALUE=DATE:20190424
DTEND;VALUE=DATE:20190425
DTSTAMP:20260425T104646
CREATED:20190301T130211Z
LAST-MODIFIED:20190301T130248Z
UID:2590-1556064000-1556150399@www.mlmontessorischool.com
SUMMARY:Toronto Symphony -Lower Elementary
DESCRIPTION:
URL:https://www.mlmontessorischool.com/calendar/toronto-symphony-lower-elementary/
CATEGORIES:Elementary,Lower Elementary
END:VEVENT
BEGIN:VEVENT
DTSTART;VALUE=DATE:20190422
DTEND;VALUE=DATE:20190423
DTSTAMP:20260425T104646
CREATED:20180805T153157Z
LAST-MODIFIED:20180805T153157Z
UID:2575-1555891200-1555977599@www.mlmontessorischool.com
SUMMARY:Easter Monday -No School
DESCRIPTION:
URL:https://www.mlmontessorischool.com/calendar/easter-monday-no-school/
CATEGORIES:Casa,casa 1,casa 2,Elementary,Lower Elementary,Middleschool,Upper Elementary
END:VEVENT
BEGIN:VEVENT
DTSTART;VALUE=DATE:20190419
DTEND;VALUE=DATE:20190420
DTSTAMP:20260425T104646
CREATED:20180805T153021Z
LAST-MODIFIED:20180805T153021Z
UID:2574-1555632000-1555718399@www.mlmontessorischool.com
SUMMARY:Good Friday - No School
DESCRIPTION:
URL:https://www.mlmontessorischool.com/calendar/good-friday-no-school-2/
CATEGORIES:Casa,casa 1,casa 2,Elementary,Lower Elementary,Middleschool,Upper Elementary
END:VEVENT
BEGIN:VEVENT
DTSTART;VALUE=DATE:20190418
DTEND;VALUE=DATE:20190419
DTSTAMP:20260425T104646
CREATED:20180805T152910Z
LAST-MODIFIED:20180805T152910Z
UID:2573-1555545600-1555631999@www.mlmontessorischool.com
SUMMARY:Spring Concert (Tentative)
DESCRIPTION:
URL:https://www.mlmontessorischool.com/calendar/spring-concert-tentative/
CATEGORIES:Casa,casa 1,casa 2,Elementary,Lower Elementary,Middleschool,Upper Elementary
END:VEVENT
BEGIN:VEVENT
DTSTART;VALUE=DATE:20190325
DTEND;VALUE=DATE:20190330
DTSTAMP:20260425T104646
CREATED:20180805T152711Z
LAST-MODIFIED:20180805T152711Z
UID:2572-1553472000-1553903999@www.mlmontessorischool.com
SUMMARY:Interview Week
DESCRIPTION:
URL:https://www.mlmontessorischool.com/calendar/interview-week-8/
CATEGORIES:Casa,casa 1,casa 2,Elementary,Lower Elementary,Middleschool,Upper Elementary
END:VEVENT
BEGIN:VEVENT
DTSTART;VALUE=DATE:20190322
DTEND;VALUE=DATE:20190323
DTSTAMP:20260425T104646
CREATED:20190301T130101Z
LAST-MODIFIED:20190301T130101Z
UID:2589-1553212800-1553299199@www.mlmontessorischool.com
SUMMARY:Pizza and Civvies Day
DESCRIPTION:
URL:https://www.mlmontessorischool.com/calendar/pizza-civvies-day-3/
CATEGORIES:Elementary,Lower Elementary,Middleschool,Upper Elementary
END:VEVENT
BEGIN:VEVENT
DTSTART;VALUE=DATE:20190318
DTEND;VALUE=DATE:20190319
DTSTAMP:20260425T104646
CREATED:20180805T152611Z
LAST-MODIFIED:20180805T152611Z
UID:2571-1552867200-1552953599@www.mlmontessorischool.com
SUMMARY:Class Begins
DESCRIPTION:
URL:https://www.mlmontessorischool.com/calendar/class-begins/
CATEGORIES:Casa,casa 1,casa 2,Elementary,Lower Elementary,Middleschool,Upper Elementary
END:VEVENT
BEGIN:VEVENT
DTSTART;VALUE=DATE:20190308
DTEND;VALUE=DATE:20190309
DTSTAMP:20260425T104646
CREATED:20180805T152512Z
LAST-MODIFIED:20180805T152512Z
UID:2570-1552003200-1552089599@www.mlmontessorischool.com
SUMMARY:First Day of March Break
DESCRIPTION:
URL:https://www.mlmontessorischool.com/calendar/first-day-march-break/
CATEGORIES:Casa,casa 1,casa 2,Elementary,Lower Elementary,Middleschool,Upper Elementary
END:VEVENT
BEGIN:VEVENT
DTSTART;VALUE=DATE:20190301
DTEND;VALUE=DATE:20190302
DTSTAMP:20260425T104646
CREATED:20180805T152303Z
LAST-MODIFIED:20180805T152303Z
UID:2569-1551398400-1551484799@www.mlmontessorischool.com
SUMMARY:Deadline for Early Bird Re-enrolment - Casa
DESCRIPTION:
URL:https://www.mlmontessorischool.com/calendar/deadline-early-bird-re-enrolment-casa/
CATEGORIES:Casa,casa 1,casa 2
END:VEVENT
BEGIN:VEVENT
DTSTART;VALUE=DATE:20190226
DTEND;VALUE=DATE:20190227
DTSTAMP:20260425T104646
CREATED:20190301T125926Z
LAST-MODIFIED:20190301T125926Z
UID:2588-1551139200-1551225599@www.mlmontessorischool.com
SUMMARY:Toronto Symphony - Upper Elementary
DESCRIPTION:
URL:https://www.mlmontessorischool.com/calendar/toronto-symphony-upper-elementary-2/
CATEGORIES:Upper Elementary
END:VEVENT
BEGIN:VEVENT
DTSTART;VALUE=DATE:20190222
DTEND;VALUE=DATE:20190223
DTSTAMP:20260425T104646
CREATED:20180805T152118Z
LAST-MODIFIED:20180805T152118Z
UID:2568-1550793600-1550879999@www.mlmontessorischool.com
SUMMARY:Elementary Science Fair
DESCRIPTION:
URL:https://www.mlmontessorischool.com/calendar/elementary-science-fair-4/
CATEGORIES:Elementary,Lower Elementary,Middleschool,Upper Elementary
END:VEVENT
BEGIN:VEVENT
DTSTART;VALUE=DATE:20190220
DTEND;VALUE=DATE:20190221
DTSTAMP:20260425T104646
CREATED:20190301T125818Z
LAST-MODIFIED:20190301T125818Z
UID:2587-1550620800-1550707199@www.mlmontessorischool.com
SUMMARY:Young People's Theatre - Elementary
DESCRIPTION:
URL:https://www.mlmontessorischool.com/calendar/young-peoples-theatre-elementary-2/
CATEGORIES:Elementary,Lower Elementary,Middleschool,Upper Elementary
END:VEVENT
BEGIN:VEVENT
DTSTART;VALUE=DATE:20190218
DTEND;VALUE=DATE:20190219
DTSTAMP:20260425T104646
CREATED:20180805T152016Z
LAST-MODIFIED:20180805T152016Z
UID:2567-1550448000-1550534399@www.mlmontessorischool.com
SUMMARY:Family Day - No School
DESCRIPTION:
URL:https://www.mlmontessorischool.com/calendar/family-day-no-school-2/
CATEGORIES:Casa,casa 1,casa 2,Elementary,Lower Elementary,Middleschool,Upper Elementary
END:VEVENT
BEGIN:VEVENT
DTSTART;VALUE=DATE:20190215
DTEND;VALUE=DATE:20190216
DTSTAMP:20260425T104646
CREATED:20190301T125714Z
LAST-MODIFIED:20190301T125714Z
UID:2586-1550188800-1550275199@www.mlmontessorischool.com
SUMMARY:Pizza and Civvies Day
DESCRIPTION:
URL:https://www.mlmontessorischool.com/calendar/pizza-civvies-day-2/
CATEGORIES:Elementary,Lower Elementary,Middleschool,Upper Elementary
END:VEVENT
BEGIN:VEVENT
DTSTART;VALUE=DATE:20190208
DTEND;VALUE=DATE:20190209
DTSTAMP:20260425T104646
CREATED:20190301T125611Z
LAST-MODIFIED:20190301T125611Z
UID:2585-1549584000-1549670399@www.mlmontessorischool.com
SUMMARY:Scientists in the School - Lower Elementary
DESCRIPTION:
URL:https://www.mlmontessorischool.com/calendar/scientists-school-lower-elementary/
CATEGORIES:Lower Elementary
END:VEVENT
BEGIN:VEVENT
DTSTART;VALUE=DATE:20190205
DTEND;VALUE=DATE:20190206
DTSTAMP:20260425T104646
CREATED:20190301T125516Z
LAST-MODIFIED:20190301T125516Z
UID:2584-1549324800-1549411199@www.mlmontessorischool.com
SUMMARY:Scientists in the School- Upper Elementary
DESCRIPTION:
URL:https://www.mlmontessorischool.com/calendar/scientists-school-upper-elementary/
CATEGORIES:Upper Elementary
END:VEVENT
BEGIN:VEVENT
DTSTART;VALUE=DATE:20190202
DTEND;VALUE=DATE:20190203
DTSTAMP:20260425T104646
CREATED:20180805T151905Z
LAST-MODIFIED:20180805T151905Z
UID:2566-1549065600-1549151999@www.mlmontessorischool.com
SUMMARY:Watch-Me-Workshop - Casa Students
DESCRIPTION:
URL:https://www.mlmontessorischool.com/calendar/watch-workshop-casa-students/
CATEGORIES:Casa,casa 1,casa 2
END:VEVENT
BEGIN:VEVENT
DTSTART;VALUE=DATE:20190107
DTEND;VALUE=DATE:20190108
DTSTAMP:20260425T104646
CREATED:20180805T151808Z
LAST-MODIFIED:20180805T151808Z
UID:2565-1546819200-1546905599@www.mlmontessorischool.com
SUMMARY:Classes Begin
DESCRIPTION:
URL:https://www.mlmontessorischool.com/calendar/classes-begin/
CATEGORIES:Casa,casa 1,casa 2,Elementary,Lower Elementary,Middleschool,Upper Elementary
END:VEVENT
END:VCALENDAR