BEGIN:VCALENDAR
VERSION:2.0
PRODID:-//M L Montessori - ECPv6.13.2.1//NONSGML v1.0//EN
CALSCALE:GREGORIAN
METHOD:PUBLISH
X-ORIGINAL-URL:https://www.mlmontessorischool.com
X-WR-CALDESC:Events for M L Montessori
REFRESH-INTERVAL;VALUE=DURATION:PT1H
X-Robots-Tag:noindex
X-PUBLISHED-TTL:PT1H
BEGIN:VTIMEZONE
TZID:UTC
BEGIN:STANDARD
TZOFFSETFROM:+0000
TZOFFSETTO:+0000
TZNAME:UTC
DTSTART:20250101T000000
END:STANDARD
END:VTIMEZONE
BEGIN:VEVENT
DTSTART;VALUE=DATE:20250417
DTEND;VALUE=DATE:20250418
DTSTAMP:20260425T151941
CREATED:20240821T181030Z
LAST-MODIFIED:20240821T181030Z
UID:3091-1744848000-1744934399@www.mlmontessorischool.com
SUMMARY:Elementary Spring Concert with Casa Grads/Elementary Science Fair (tentative)
DESCRIPTION:
URL:https://www.mlmontessorischool.com/calendar/elementary-spring-concert-with-casa-grads-elementary-science-fair-tentative/
CATEGORIES:Casa,casa 1,casa 2,Elementary,Lower Elementary,Upper Elementary
END:VEVENT
BEGIN:VEVENT
DTSTART;VALUE=DATE:20250418
DTEND;VALUE=DATE:20250419
DTSTAMP:20260425T151941
CREATED:20240821T181129Z
LAST-MODIFIED:20240821T181129Z
UID:3093-1744934400-1745020799@www.mlmontessorischool.com
SUMMARY:Good Friday
DESCRIPTION:
URL:https://www.mlmontessorischool.com/calendar/good-friday-6/
CATEGORIES:Casa,casa 1,casa 2,Elementary,Lower Elementary,Upper Elementary
END:VEVENT
BEGIN:VEVENT
DTSTART;VALUE=DATE:20250421
DTEND;VALUE=DATE:20250422
DTSTAMP:20260425T151941
CREATED:20240821T181212Z
LAST-MODIFIED:20240821T181212Z
UID:3095-1745193600-1745279999@www.mlmontessorischool.com
SUMMARY:Easter Monday
DESCRIPTION:
URL:https://www.mlmontessorischool.com/calendar/easter-monday-6/
CATEGORIES:Casa,casa 1,casa 2,Elementary,Lower Elementary,Upper Elementary
END:VEVENT
BEGIN:VEVENT
DTSTART;VALUE=DATE:20250512
DTEND;VALUE=DATE:20250517
DTSTAMP:20260425T151941
CREATED:20240821T181344Z
LAST-MODIFIED:20240821T181344Z
UID:3098-1747008000-1747439999@www.mlmontessorischool.com
SUMMARY:Interview Week (Optional)
DESCRIPTION:
URL:https://www.mlmontessorischool.com/calendar/interview-week-optional/
CATEGORIES:Casa,casa 1,casa 2,Elementary,Lower Elementary,Upper Elementary
END:VEVENT
BEGIN:VEVENT
DTSTART;VALUE=DATE:20250516
DTEND;VALUE=DATE:20250517
DTSTAMP:20260425T151941
CREATED:20240821T181449Z
LAST-MODIFIED:20240821T181449Z
UID:3100-1747353600-1747439999@www.mlmontessorischool.com
SUMMARY:PROFESSIONAL DEVELOPMENT DAY (no school)
DESCRIPTION:
URL:https://www.mlmontessorischool.com/calendar/professional-development-day-no-school-6/
CATEGORIES:Casa,casa 1,casa 2,Elementary,Lower Elementary,Upper Elementary
END:VEVENT
BEGIN:VEVENT
DTSTART;VALUE=DATE:20250519
DTEND;VALUE=DATE:20250520
DTSTAMP:20260425T151941
CREATED:20240821T181546Z
LAST-MODIFIED:20240821T181546Z
UID:3102-1747612800-1747699199@www.mlmontessorischool.com
SUMMARY:Victoria Day
DESCRIPTION:
URL:https://www.mlmontessorischool.com/calendar/victoria-day-6/
CATEGORIES:Casa,casa 1,casa 2,Elementary,Lower Elementary,Upper Elementary
END:VEVENT
BEGIN:VEVENT
DTSTART;VALUE=DATE:20250619
DTEND;VALUE=DATE:20250620
DTSTAMP:20260425T151941
CREATED:20240821T181701Z
LAST-MODIFIED:20240821T181701Z
UID:3104-1750291200-1750377599@www.mlmontessorischool.com
SUMMARY:CASA GRADS & ELEMENTARY GRADUATION (tentative)
DESCRIPTION:
URL:https://www.mlmontessorischool.com/calendar/casa-grads-elementary-graduation-tentative/
CATEGORIES:Casa,casa 1,casa 2,Elementary,Lower Elementary,Upper Elementary
END:VEVENT
BEGIN:VEVENT
DTSTART;VALUE=DATE:20250620
DTEND;VALUE=DATE:20250621
DTSTAMP:20260425T151941
CREATED:20240821T181745Z
LAST-MODIFIED:20240821T181745Z
UID:3106-1750377600-1750463999@www.mlmontessorischool.com
SUMMARY:Last Day of School
DESCRIPTION:
URL:https://www.mlmontessorischool.com/calendar/last-day-of-school-5/
CATEGORIES:Casa,casa 1,casa 2,Elementary,Lower Elementary,Upper Elementary
END:VEVENT
BEGIN:VEVENT
DTSTART;TZID=UTC:20250826T190000
DTEND;TZID=UTC:20250826T194500
DTSTAMP:20260425T151941
CREATED:20250813T140736Z
LAST-MODIFIED:20250813T140736Z
UID:3108-1756234800-1756237500@www.mlmontessorischool.com
SUMMARY:Elementary PARENT ONLY Orientation Grade 1
DESCRIPTION:
URL:https://www.mlmontessorischool.com/calendar/elementary-parent-only-orientation-grade-1-3/
CATEGORIES:Elementary,Lower Elementary
END:VEVENT
END:VCALENDAR