BEGIN:VCALENDAR
VERSION:2.0
PRODID:-//M L Montessori - ECPv6.13.2.1//NONSGML v1.0//EN
CALSCALE:GREGORIAN
METHOD:PUBLISH
X-ORIGINAL-URL:https://www.mlmontessorischool.com
X-WR-CALDESC:Events for M L Montessori
REFRESH-INTERVAL;VALUE=DURATION:PT1H
X-Robots-Tag:noindex
X-PUBLISHED-TTL:PT1H
BEGIN:VTIMEZONE
TZID:UTC
BEGIN:STANDARD
TZOFFSETFROM:+0000
TZOFFSETTO:+0000
TZNAME:UTC
DTSTART:20250101T000000
END:STANDARD
END:VTIMEZONE
BEGIN:VEVENT
DTSTART;VALUE=DATE:20250307
DTEND;VALUE=DATE:20250308
DTSTAMP:20260424T153758
CREATED:20240821T180317Z
LAST-MODIFIED:20240821T180317Z
UID:3079-1741305600-1741391999@www.mlmontessorischool.com
SUMMARY:DEADLINE FOR ELEMENTARY RE-ENROLLMENT
DESCRIPTION:
URL:https://www.mlmontessorischool.com/calendar/deadline-for-elementary-re-enrollment-2/
CATEGORIES:Elementary,Lower Elementary,Upper Elementary
END:VEVENT
END:VCALENDAR