BEGIN:VCALENDAR
VERSION:2.0
PRODID:-//M L Montessori - ECPv6.13.2.1//NONSGML v1.0//EN
CALSCALE:GREGORIAN
METHOD:PUBLISH
X-WR-CALNAME:M L Montessori
X-ORIGINAL-URL:https://www.mlmontessorischool.com
X-WR-CALDESC:Events for M L Montessori
REFRESH-INTERVAL;VALUE=DURATION:PT1H
X-Robots-Tag:noindex
X-PUBLISHED-TTL:PT1H
BEGIN:VTIMEZONE
TZID:UTC
BEGIN:STANDARD
TZOFFSETFROM:+0000
TZOFFSETTO:+0000
TZNAME:UTC
DTSTART:20160101T000000
END:STANDARD
END:VTIMEZONE
BEGIN:VEVENT
DTSTART;VALUE=DATE:20160404
DTEND;VALUE=DATE:20160409
DTSTAMP:20260425T145744
CREATED:20160120T001044Z
LAST-MODIFIED:20160120T001044Z
UID:2120-1459728000-1460159999@www.mlmontessorischool.com
SUMMARY:Interview Week
DESCRIPTION:Interview week for Elementary and Casa.
URL:https://www.mlmontessorischool.com/calendar/interview-week-2/
CATEGORIES:casa 1,casa 2,Elementary
END:VEVENT
BEGIN:VEVENT
DTSTART;VALUE=DATE:20160330
DTEND;VALUE=DATE:20160331
DTSTAMP:20260425T145744
CREATED:20160207T012141Z
LAST-MODIFIED:20160207T012141Z
UID:2169-1459296000-1459382399@www.mlmontessorischool.com
SUMMARY:Full Uniform Day (Elementary)
DESCRIPTION:
URL:https://www.mlmontessorischool.com/calendar/full-uniform-day-elementary-8/
CATEGORIES:Elementary,Lower Elementary,Upper Elementary
END:VEVENT
BEGIN:VEVENT
DTSTART;VALUE=DATE:20160328
DTEND;VALUE=DATE:20160329
DTSTAMP:20260425T145744
CREATED:20160204T225322Z
LAST-MODIFIED:20160204T225322Z
UID:2143-1459123200-1459209599@www.mlmontessorischool.com
SUMMARY:Easter Monday (no students)
DESCRIPTION:No school for all students.
URL:https://www.mlmontessorischool.com/calendar/easter-monday-no-students/
CATEGORIES:Casa,casa 1,casa 2,Elementary,Lower Elementary,Upper Elementary
END:VEVENT
BEGIN:VEVENT
DTSTART;VALUE=DATE:20160328
DTEND;VALUE=DATE:20160329
DTSTAMP:20260425T145744
CREATED:20160120T000928Z
LAST-MODIFIED:20160120T000928Z
UID:2119-1459123200-1459209599@www.mlmontessorischool.com
SUMMARY:Easter Monday - No Classes
DESCRIPTION:
URL:https://www.mlmontessorischool.com/calendar/easter-monday-no-classes/
CATEGORIES:casa 1,casa 2,Elementary
END:VEVENT
BEGIN:VEVENT
DTSTART;VALUE=DATE:20160325
DTEND;VALUE=DATE:20160326
DTSTAMP:20260425T145744
CREATED:20160204T224834Z
LAST-MODIFIED:20160204T224834Z
UID:2142-1458864000-1458950399@www.mlmontessorischool.com
SUMMARY:Good Friday (no school)
DESCRIPTION:No school for all students.
URL:https://www.mlmontessorischool.com/calendar/good-friday-no-school/
CATEGORIES:Casa,casa 1,casa 2,Elementary,Lower Elementary,Upper Elementary
END:VEVENT
BEGIN:VEVENT
DTSTART;VALUE=DATE:20160325
DTEND;VALUE=DATE:20160326
DTSTAMP:20260425T145744
CREATED:20160120T000714Z
LAST-MODIFIED:20160120T000714Z
UID:2117-1458864000-1458950399@www.mlmontessorischool.com
SUMMARY:Good Friday - No Classes
DESCRIPTION:
URL:https://www.mlmontessorischool.com/calendar/good-friday-no-classes/
CATEGORIES:casa 1,casa 2,Elementary
END:VEVENT
BEGIN:VEVENT
DTSTART;VALUE=DATE:20160324
DTEND;VALUE=DATE:20160325
DTSTAMP:20260425T145744
CREATED:20160324T112635Z
LAST-MODIFIED:20160324T112635Z
UID:2204-1458777600-1458863999@www.mlmontessorischool.com
SUMMARY:School closed due to ice storm
DESCRIPTION:
URL:https://www.mlmontessorischool.com/calendar/school-closed-due-ice-storm/
CATEGORIES:Casa,casa 1,casa 2,Elementary,Lower Elementary,Upper Elementary
END:VEVENT
BEGIN:VEVENT
DTSTART;VALUE=DATE:20160323
DTEND;VALUE=DATE:20160324
DTSTAMP:20260425T145744
CREATED:20160207T012057Z
LAST-MODIFIED:20160207T012057Z
UID:2168-1458691200-1458777599@www.mlmontessorischool.com
SUMMARY:Full Uniform Day (Elementary)
DESCRIPTION:
URL:https://www.mlmontessorischool.com/calendar/full-uniform-day-elementary-7/
CATEGORIES:Elementary,Lower Elementary,Upper Elementary
END:VEVENT
BEGIN:VEVENT
DTSTART;VALUE=DATE:20160321
DTEND;VALUE=DATE:20160322
DTSTAMP:20260425T145744
CREATED:20160120T000559Z
LAST-MODIFIED:20160120T000809Z
UID:2116-1458518400-1458604799@www.mlmontessorischool.com
SUMMARY:Regular Classes Resume
DESCRIPTION:We welcome all students back to classes.
URL:https://www.mlmontessorischool.com/calendar/regular-classes-begin-2/
CATEGORIES:casa 1,casa 2,Elementary
END:VEVENT
BEGIN:VEVENT
DTSTART;VALUE=DATE:20160311
DTEND;VALUE=DATE:20160319
DTSTAMP:20260425T145744
CREATED:20160204T224401Z
LAST-MODIFIED:20160204T224401Z
UID:2141-1457654400-1458345599@www.mlmontessorischool.com
SUMMARY:March Break
DESCRIPTION:March Break for all students.
URL:https://www.mlmontessorischool.com/calendar/march-break/
CATEGORIES:Casa,casa 1,casa 2,Elementary,Lower Elementary,Upper Elementary
END:VEVENT
BEGIN:VEVENT
DTSTART;VALUE=DATE:20160311
DTEND;VALUE=DATE:20160312
DTSTAMP:20260425T145744
CREATED:20160120T000316Z
LAST-MODIFIED:20160120T000316Z
UID:2115-1457654400-1457740799@www.mlmontessorischool.com
SUMMARY:First Day of Spring Break
DESCRIPTION:First day of spring break for all students.  Enjoy your time off!
URL:https://www.mlmontessorischool.com/calendar/first-day-of-spring-break/
CATEGORIES:casa 1,casa 2,Elementary
END:VEVENT
BEGIN:VEVENT
DTSTART;VALUE=DATE:20160310
DTEND;VALUE=DATE:20160311
DTSTAMP:20260425T145744
CREATED:20160310T131819Z
LAST-MODIFIED:20160310T131819Z
UID:2194-1457568000-1457654399@www.mlmontessorischool.com
SUMMARY:Pizza Day and Civvies Day (Elementary)
DESCRIPTION:Come in bright colours and crazy hair for Carnivale.
URL:https://www.mlmontessorischool.com/calendar/pizza-day-civvies-day-elementary-2-2/
CATEGORIES:Elementary,Lower Elementary,Upper Elementary
END:VEVENT
BEGIN:VEVENT
DTSTART;VALUE=DATE:20160309
DTEND;VALUE=DATE:20160310
DTSTAMP:20260425T145744
CREATED:20160207T012005Z
LAST-MODIFIED:20160207T012005Z
UID:2167-1457481600-1457567999@www.mlmontessorischool.com
SUMMARY:Full Uniform Day (Elementary)
DESCRIPTION:
URL:https://www.mlmontessorischool.com/calendar/full-uniform-day-elementary-6/
CATEGORIES:Elementary,Lower Elementary,Upper Elementary
END:VEVENT
BEGIN:VEVENT
DTSTART;VALUE=DATE:20160307
DTEND;VALUE=DATE:20160308
DTSTAMP:20260425T145744
CREATED:20160204T223725Z
LAST-MODIFIED:20160204T223725Z
UID:2140-1457308800-1457395199@www.mlmontessorischool.com
SUMMARY:Last Day of Skating (Elementary)
DESCRIPTION:Last Day of Skating for Elementary Students.
URL:https://www.mlmontessorischool.com/calendar/last-day-skating-elementary/
CATEGORIES:Elementary,Lower Elementary,Upper Elementary
END:VEVENT
BEGIN:VEVENT
DTSTART;VALUE=DATE:20160304
DTEND;VALUE=DATE:20160305
DTSTAMP:20260425T145744
CREATED:20160204T222954Z
LAST-MODIFIED:20160204T222954Z
UID:2138-1457049600-1457135999@www.mlmontessorischool.com
SUMMARY:Last Day of Gym (Elementary)
DESCRIPTION:Last day of gym for Winter term for Elementary students.
URL:https://www.mlmontessorischool.com/calendar/last-day-gym-elementary/
CATEGORIES:Elementary
END:VEVENT
BEGIN:VEVENT
DTSTART;VALUE=DATE:20160302
DTEND;VALUE=DATE:20160303
DTSTAMP:20260425T145744
CREATED:20160207T011920Z
LAST-MODIFIED:20160207T011920Z
UID:2166-1456876800-1456963199@www.mlmontessorischool.com
SUMMARY:Full Uniform Day (Elementary)
DESCRIPTION:
URL:https://www.mlmontessorischool.com/calendar/full-uniform-day-elementary-5/
CATEGORIES:Elementary,Lower Elementary,Upper Elementary
END:VEVENT
BEGIN:VEVENT
DTSTART;VALUE=DATE:20160229
DTEND;VALUE=DATE:20160301
DTSTAMP:20260425T145744
CREATED:20160207T010638Z
LAST-MODIFIED:20160207T010638Z
UID:2158-1456704000-1456790399@www.mlmontessorischool.com
SUMMARY:Skating (Elementary)
DESCRIPTION:
URL:https://www.mlmontessorischool.com/calendar/skating-elementary-4/
CATEGORIES:Elementary,Lower Elementary,Upper Elementary
END:VEVENT
BEGIN:VEVENT
DTSTART;VALUE=DATE:20160226
DTEND;VALUE=DATE:20160227
DTSTAMP:20260425T145744
CREATED:20160207T011143Z
LAST-MODIFIED:20160207T011143Z
UID:2161-1456444800-1456531199@www.mlmontessorischool.com
SUMMARY:Gym (Elementary)
DESCRIPTION:
URL:https://www.mlmontessorischool.com/calendar/gym-elementary-3/
CATEGORIES:Elementary,Lower Elementary,Upper Elementary
END:VEVENT
BEGIN:VEVENT
DTSTART;VALUE=DATE:20160226
DTEND;VALUE=DATE:20160227
DTSTAMP:20260425T145744
CREATED:20160106T212012Z
LAST-MODIFIED:20160119T235522Z
UID:2063-1456444800-1456531199@www.mlmontessorischool.com
SUMMARY:Elementary SCIENCE Fair
DESCRIPTION:
URL:https://www.mlmontessorischool.com/calendar/elementary-science-fair/
CATEGORIES:Elementary
END:VEVENT
BEGIN:VEVENT
DTSTART;VALUE=DATE:20160224
DTEND;VALUE=DATE:20160225
DTSTAMP:20260425T145744
CREATED:20160207T011821Z
LAST-MODIFIED:20160207T011821Z
UID:2165-1456272000-1456358399@www.mlmontessorischool.com
SUMMARY:Full Uniform Day (Elementary)
DESCRIPTION:
URL:https://www.mlmontessorischool.com/calendar/full-uniform-day-elementary-4/
CATEGORIES:Elementary,Lower Elementary,Upper Elementary
END:VEVENT
BEGIN:VEVENT
DTSTART;VALUE=DATE:20160222
DTEND;VALUE=DATE:20160223
DTSTAMP:20260425T145744
CREATED:20160207T010137Z
LAST-MODIFIED:20160207T010137Z
UID:2156-1456099200-1456185599@www.mlmontessorischool.com
SUMMARY:Skating (Elementary)
DESCRIPTION:
URL:https://www.mlmontessorischool.com/calendar/skating-elementary-3/
CATEGORIES:Elementary,Lower Elementary,Upper Elementary
END:VEVENT
BEGIN:VEVENT
DTSTART;VALUE=DATE:20160219
DTEND;VALUE=DATE:20160220
DTSTAMP:20260425T145744
CREATED:20160207T010838Z
LAST-MODIFIED:20160207T010908Z
UID:2159-1455840000-1455926399@www.mlmontessorischool.com
SUMMARY:Gym (Elementary)
DESCRIPTION:
URL:https://www.mlmontessorischool.com/calendar/gym-elementary/
CATEGORIES:Elementary,Lower Elementary,Upper Elementary
END:VEVENT
BEGIN:VEVENT
DTSTART;VALUE=DATE:20160217
DTEND;VALUE=DATE:20160218
DTSTAMP:20260425T145744
CREATED:20160207T011659Z
LAST-MODIFIED:20160207T011659Z
UID:2164-1455667200-1455753599@www.mlmontessorischool.com
SUMMARY:Full Uniform Day (Elementary)
DESCRIPTION:
URL:https://www.mlmontessorischool.com/calendar/full-uniform-day-elementary-3/
CATEGORIES:Elementary,Lower Elementary,Upper Elementary
END:VEVENT
BEGIN:VEVENT
DTSTART;VALUE=DATE:20160215
DTEND;VALUE=DATE:20160216
DTSTAMP:20260425T145744
CREATED:20160106T211940Z
LAST-MODIFIED:20160119T235434Z
UID:2062-1455494400-1455580799@www.mlmontessorischool.com
SUMMARY:Family Day
DESCRIPTION:
URL:https://www.mlmontessorischool.com/calendar/family-day/
CATEGORIES:casa 1,casa 2,Elementary
END:VEVENT
BEGIN:VEVENT
DTSTART;VALUE=DATE:20160212
DTEND;VALUE=DATE:20160213
DTSTAMP:20260425T145744
CREATED:20160207T011047Z
LAST-MODIFIED:20160207T011047Z
UID:2160-1455235200-1455321599@www.mlmontessorischool.com
SUMMARY:Gym (Elementary)
DESCRIPTION:
URL:https://www.mlmontessorischool.com/calendar/gym-elementary-2/
CATEGORIES:Elementary,Lower Elementary,Upper Elementary
END:VEVENT
BEGIN:VEVENT
DTSTART;VALUE=DATE:20160212
DTEND;VALUE=DATE:20160213
DTSTAMP:20260425T145744
CREATED:20160106T211912Z
LAST-MODIFIED:20160119T235954Z
UID:2061-1455235200-1455321599@www.mlmontessorischool.com
SUMMARY:Early-Bird Re-enrollment
DESCRIPTION:Register now to secure your spot for September 2016.
URL:https://www.mlmontessorischool.com/calendar/early-bird-re-enrollment/
CATEGORIES:casa 1,casa 2,Elementary
END:VEVENT
BEGIN:VEVENT
DTSTART;VALUE=DATE:20160210
DTEND;VALUE=DATE:20160211
DTSTAMP:20260425T145744
CREATED:20160207T011551Z
LAST-MODIFIED:20160207T011551Z
UID:2163-1455062400-1455148799@www.mlmontessorischool.com
SUMMARY:Full Uniform Day (Elementary)
DESCRIPTION:
URL:https://www.mlmontessorischool.com/calendar/full-uniform-day-elementary-2/
CATEGORIES:Elementary,Lower Elementary,Upper Elementary
END:VEVENT
BEGIN:VEVENT
DTSTART;VALUE=DATE:20160209
DTEND;VALUE=DATE:20160210
DTSTAMP:20260425T145744
CREATED:20160207T011507Z
LAST-MODIFIED:20160207T011507Z
UID:2162-1454976000-1455062399@www.mlmontessorischool.com
SUMMARY:Pancake Lunch (Elementary)
DESCRIPTION:The Fundraising Committee is hosting a pancake lunch for ELEMENTARY students.
URL:https://www.mlmontessorischool.com/calendar/pancake-lunch-elementary/
CATEGORIES:Elementary,Lower Elementary,Upper Elementary
END:VEVENT
BEGIN:VEVENT
DTSTART;VALUE=DATE:20160208
DTEND;VALUE=DATE:20160209
DTSTAMP:20260425T145744
CREATED:20160207T005920Z
LAST-MODIFIED:20160207T005920Z
UID:2153-1454889600-1454975999@www.mlmontessorischool.com
SUMMARY:Skating (Elementary)
DESCRIPTION:
URL:https://www.mlmontessorischool.com/calendar/skating-elementary/
CATEGORIES:Elementary,Lower Elementary,Upper Elementary
END:VEVENT
BEGIN:VEVENT
DTSTART;VALUE=DATE:20160104
DTEND;VALUE=DATE:20160105
DTSTAMP:20260425T145744
CREATED:20160106T211628Z
LAST-MODIFIED:20160120T000115Z
UID:2059-1451865600-1451951999@www.mlmontessorischool.com
SUMMARY:Regular classes begin
DESCRIPTION:
URL:https://www.mlmontessorischool.com/calendar/regular-classes-begin/
CATEGORIES:casa 1,casa 2,Elementary
END:VEVENT
END:VCALENDAR