BEGIN:VCALENDAR
VERSION:2.0
PRODID:-//M L Montessori - ECPv6.13.2.1//NONSGML v1.0//EN
CALSCALE:GREGORIAN
METHOD:PUBLISH
X-WR-CALNAME:M L Montessori
X-ORIGINAL-URL:https://www.mlmontessorischool.com
X-WR-CALDESC:Events for M L Montessori
REFRESH-INTERVAL;VALUE=DURATION:PT1H
X-Robots-Tag:noindex
X-PUBLISHED-TTL:PT1H
BEGIN:VTIMEZONE
TZID:UTC
BEGIN:STANDARD
TZOFFSETFROM:+0000
TZOFFSETTO:+0000
TZNAME:UTC
DTSTART:20160101T000000
END:STANDARD
END:VTIMEZONE
BEGIN:VEVENT
DTSTART;VALUE=DATE:20161006
DTEND;VALUE=DATE:20161007
DTSTAMP:20260425T110117
CREATED:20160804T134125Z
LAST-MODIFIED:20160919T112916Z
UID:2322-1475712000-1475798399@www.mlmontessorischool.com
SUMMARY:Fall Fair - Terry Fox Walk
DESCRIPTION:
URL:https://www.mlmontessorischool.com/calendar/parent-workshop/
CATEGORIES:Casa,casa 1,casa 2,Elementary,Lower Elementary,Middleschool,Upper Elementary
END:VEVENT
BEGIN:VEVENT
DTSTART;VALUE=DATE:20160929
DTEND;VALUE=DATE:20160930
DTSTAMP:20260425T110117
CREATED:20160919T112708Z
LAST-MODIFIED:20160919T112708Z
UID:2376-1475107200-1475193599@www.mlmontessorischool.com
SUMMARY:Crawford Lake
DESCRIPTION:
URL:https://www.mlmontessorischool.com/calendar/crawford-lake/
CATEGORIES:Elementary,Lower Elementary,Middleschool,Upper Elementary
END:VEVENT
BEGIN:VEVENT
DTSTART;TZID=UTC:20160920T093000
DTEND;TZID=UTC:20160920T233000
DTSTAMP:20260425T110117
CREATED:20160919T112258Z
LAST-MODIFIED:20160919T112258Z
UID:2373-1474363800-1474414200@www.mlmontessorischool.com
SUMMARY:Upper El and Middleschool Trip to Woodbridge Library
DESCRIPTION:
URL:https://www.mlmontessorischool.com/calendar/upper-el-middleschool-trip-woodbridge-library/
CATEGORIES:Elementary,Lower Elementary,Middleschool,Upper Elementary
END:VEVENT
BEGIN:VEVENT
DTSTART;VALUE=DATE:20160919
DTEND;VALUE=DATE:20160920
DTSTAMP:20260425T110117
CREATED:20160919T112119Z
LAST-MODIFIED:20160919T112119Z
UID:2372-1474243200-1474329599@www.mlmontessorischool.com
SUMMARY:First Day of Gym - Elementary
DESCRIPTION:
URL:https://www.mlmontessorischool.com/calendar/first-day-gym-elementary/
CATEGORIES:Elementary,Lower Elementary,Upper Elementary
END:VEVENT
BEGIN:VEVENT
DTSTART;VALUE=DATE:20160916
DTEND;VALUE=DATE:20160917
DTSTAMP:20260425T110117
CREATED:20160804T163423Z
LAST-MODIFIED:20160804T163423Z
UID:2354-1473984000-1474070399@www.mlmontessorischool.com
SUMMARY:Elementary Pizza Day
DESCRIPTION:
URL:https://www.mlmontessorischool.com/calendar/elementary-pizza-day/
CATEGORIES:Elementary,Lower Elementary,Upper Elementary
END:VEVENT
BEGIN:VEVENT
DTSTART;VALUE=DATE:20160906
DTEND;VALUE=DATE:20160907
DTSTAMP:20260425T110117
CREATED:20160804T133903Z
LAST-MODIFIED:20160804T133948Z
UID:2321-1473120000-1473206399@www.mlmontessorischool.com
SUMMARY:Regular Classes Begin
DESCRIPTION:
URL:https://www.mlmontessorischool.com/calendar/casa-2-ease-new-casa-students-3/
CATEGORIES:Casa,casa 1,casa 2,Elementary,Lower Elementary,Upper Elementary
END:VEVENT
BEGIN:VEVENT
DTSTART;TZID=UTC:20160831T150000
DTEND;TZID=UTC:20160831T170000
DTSTAMP:20260425T110117
CREATED:20160804T133304Z
LAST-MODIFIED:20160804T133304Z
UID:2314-1472655600-1472662800@www.mlmontessorischool.com
SUMMARY:Elementary Open House
DESCRIPTION:
URL:https://www.mlmontessorischool.com/calendar/elementary-open-house/
CATEGORIES:Elementary,Lower Elementary,Upper Elementary
END:VEVENT
BEGIN:VEVENT
DTSTART;VALUE=DATE:20160617
DTEND;VALUE=DATE:20160618
DTSTAMP:20260425T110117
CREATED:20160120T001635Z
LAST-MODIFIED:20160120T001635Z
UID:2126-1466121600-1466207999@www.mlmontessorischool.com
SUMMARY:Last Day of School
DESCRIPTION:Have a wonderful Summer.  See you in September!
URL:https://www.mlmontessorischool.com/calendar/last-day-of-school/
CATEGORIES:casa 1,casa 2,Elementary
END:VEVENT
BEGIN:VEVENT
DTSTART;VALUE=DATE:20160616
DTEND;VALUE=DATE:20160617
DTSTAMP:20260425T110117
CREATED:20160120T001525Z
LAST-MODIFIED:20160120T001525Z
UID:2125-1466035200-1466121599@www.mlmontessorischool.com
SUMMARY:Graduation (tenative)
DESCRIPTION:
URL:https://www.mlmontessorischool.com/calendar/graduation-tenative/
CATEGORIES:casa 1,casa 2,Elementary
END:VEVENT
BEGIN:VEVENT
DTSTART;VALUE=DATE:20160613
DTEND;VALUE=DATE:20160614
DTSTAMP:20260425T110117
CREATED:20160421T132727Z
LAST-MODIFIED:20160421T132727Z
UID:2219-1465776000-1465862399@www.mlmontessorischool.com
SUMMARY:Last Day of Gym
DESCRIPTION:
URL:https://www.mlmontessorischool.com/calendar/last-day-gym/
CATEGORIES:Elementary,Lower Elementary,Upper Elementary
END:VEVENT
BEGIN:VEVENT
DTSTART;VALUE=DATE:20160610
DTEND;VALUE=DATE:20160611
DTSTAMP:20260425T110117
CREATED:20160421T132639Z
LAST-MODIFIED:20160421T132639Z
UID:2218-1465516800-1465603199@www.mlmontessorischool.com
SUMMARY:Last Day of Swimming/Boomwackers
DESCRIPTION:
URL:https://www.mlmontessorischool.com/calendar/last-day-swimmingboomwackers/
CATEGORIES:Elementary,Lower Elementary,Upper Elementary
END:VEVENT
BEGIN:VEVENT
DTSTART;VALUE=DATE:20160608
DTEND;VALUE=DATE:20160609
DTSTAMP:20260425T110117
CREATED:20160207T013154Z
LAST-MODIFIED:20160207T013154Z
UID:2180-1465344000-1465430399@www.mlmontessorischool.com
SUMMARY:Full Uniform Day (Elementary)
DESCRIPTION:
URL:https://www.mlmontessorischool.com/calendar/full-uniform-day-elementary-18/
CATEGORIES:Elementary,Lower Elementary,Upper Elementary
END:VEVENT
BEGIN:VEVENT
DTSTART;VALUE=DATE:20160601
DTEND;VALUE=DATE:20160602
DTSTAMP:20260425T110117
CREATED:20160207T013037Z
LAST-MODIFIED:20160207T013037Z
UID:2179-1464739200-1464825599@www.mlmontessorischool.com
SUMMARY:Full Uniform Day (Elementary)
DESCRIPTION:
URL:https://www.mlmontessorischool.com/calendar/full-uniform-day-elementary-17/
CATEGORIES:Elementary,Lower Elementary,Upper Elementary
END:VEVENT
BEGIN:VEVENT
DTSTART;VALUE=DATE:20160527
DTEND;VALUE=DATE:20160528
DTSTAMP:20260425T110117
CREATED:20160204T231514Z
LAST-MODIFIED:20160204T231514Z
UID:2150-1464307200-1464393599@www.mlmontessorischool.com
SUMMARY:Pizza Day and Civvies Day (Elementary)
DESCRIPTION:Pizza and Civvies Day for Elementary students.
URL:https://www.mlmontessorischool.com/calendar/pizza-day-and-civvies-day-elementary/
CATEGORIES:Elementary,Lower Elementary,Upper Elementary
END:VEVENT
BEGIN:VEVENT
DTSTART;VALUE=DATE:20160523
DTEND;VALUE=DATE:20160524
DTSTAMP:20260425T110117
CREATED:20160204T231250Z
LAST-MODIFIED:20160204T231250Z
UID:2149-1463961600-1464047999@www.mlmontessorischool.com
SUMMARY:Victoria Day (No School)
DESCRIPTION:No school for all students.
URL:https://www.mlmontessorischool.com/calendar/victoria-day-no-school/
CATEGORIES:Casa,casa 1,casa 2,Elementary,Lower Elementary,Upper Elementary
END:VEVENT
BEGIN:VEVENT
DTSTART;VALUE=DATE:20160523
DTEND;VALUE=DATE:20160524
DTSTAMP:20260425T110117
CREATED:20160120T001406Z
LAST-MODIFIED:20160120T001406Z
UID:2124-1463961600-1464047999@www.mlmontessorischool.com
SUMMARY:Victoria Day - No Classes
DESCRIPTION:No classes for students.
URL:https://www.mlmontessorischool.com/calendar/victoria-day-no-classes/
CATEGORIES:casa 1,casa 2,Elementary
END:VEVENT
BEGIN:VEVENT
DTSTART;VALUE=DATE:20160520
DTEND;VALUE=DATE:20160521
DTSTAMP:20260425T110117
CREATED:20160204T230924Z
LAST-MODIFIED:20160204T230924Z
UID:2148-1463702400-1463788799@www.mlmontessorischool.com
SUMMARY:PD Day (no school)
DESCRIPTION:No school for all students.
URL:https://www.mlmontessorischool.com/calendar/pd-day-no-school/
CATEGORIES:Casa,casa 1,casa 2,Elementary,Lower Elementary,Upper Elementary
END:VEVENT
BEGIN:VEVENT
DTSTART;VALUE=DATE:20160520
DTEND;VALUE=DATE:20160521
DTSTAMP:20260425T110117
CREATED:20160120T001251Z
LAST-MODIFIED:20160120T001251Z
UID:2123-1463702400-1463788799@www.mlmontessorischool.com
SUMMARY:Professional Development Day - No Classes
DESCRIPTION:No classes for all students.
URL:https://www.mlmontessorischool.com/calendar/professional-development-day-no-classes/
CATEGORIES:casa 1,casa 2,Elementary
END:VEVENT
BEGIN:VEVENT
DTSTART;VALUE=DATE:20160511
DTEND;VALUE=DATE:20160512
DTSTAMP:20260425T110117
CREATED:20160421T132447Z
LAST-MODIFIED:20160421T132447Z
UID:2216-1462924800-1463011199@www.mlmontessorischool.com
SUMMARY:Graduation Photos
DESCRIPTION:All grads
URL:https://www.mlmontessorischool.com/calendar/graduation-photos/
CATEGORIES:Casa,casa 1,casa 2,Elementary,Lower Elementary,Upper Elementary
END:VEVENT
BEGIN:VEVENT
DTSTART;VALUE=DATE:20160511
DTEND;VALUE=DATE:20160512
DTSTAMP:20260425T110117
CREATED:20160207T012745Z
LAST-MODIFIED:20160207T012745Z
UID:2176-1462924800-1463011199@www.mlmontessorischool.com
SUMMARY:Full Uniform Day (Elementary)
DESCRIPTION:
URL:https://www.mlmontessorischool.com/calendar/full-uniform-day-elementary-14/
CATEGORIES:Elementary,Lower Elementary,Upper Elementary
END:VEVENT
BEGIN:VEVENT
DTSTART;VALUE=DATE:20160504
DTEND;VALUE=DATE:20160505
DTSTAMP:20260425T110117
CREATED:20160207T012646Z
LAST-MODIFIED:20160207T012646Z
UID:2175-1462320000-1462406399@www.mlmontessorischool.com
SUMMARY:Full Uniform Day (Elementary)
DESCRIPTION:
URL:https://www.mlmontessorischool.com/calendar/full-uniform-day-elementary-13/
CATEGORIES:Elementary,Lower Elementary,Upper Elementary
END:VEVENT
BEGIN:VEVENT
DTSTART;VALUE=DATE:20160504
DTEND;VALUE=DATE:20160505
DTSTAMP:20260425T110117
CREATED:20160204T230656Z
LAST-MODIFIED:20160204T230656Z
UID:2147-1462320000-1462406399@www.mlmontessorischool.com
SUMMARY:Young Peoples' Theatre (Elementary)
DESCRIPTION:Wizard of Oz.
URL:https://www.mlmontessorischool.com/calendar/young-peoples-theatre-elementary/
CATEGORIES:Elementary,Lower Elementary,Upper Elementary
END:VEVENT
BEGIN:VEVENT
DTSTART;VALUE=DATE:20160427
DTEND;VALUE=DATE:20160428
DTSTAMP:20260425T110117
CREATED:20160207T012550Z
LAST-MODIFIED:20160207T012550Z
UID:2173-1461715200-1461801599@www.mlmontessorischool.com
SUMMARY:Full Uniform Day (Elementary)
DESCRIPTION:
URL:https://www.mlmontessorischool.com/calendar/full-uniform-day-elementary-12/
CATEGORIES:Elementary,Lower Elementary,Upper Elementary
END:VEVENT
BEGIN:VEVENT
DTSTART;TZID=UTC:20160425T183000
DTEND;TZID=UTC:20160425T200000
DTSTAMP:20260425T110117
CREATED:20160421T132337Z
LAST-MODIFIED:20160421T132337Z
UID:2214-1461609000-1461614400@www.mlmontessorischool.com
SUMMARY:Wizard of Oz Performance
DESCRIPTION:York Woods Library
URL:https://www.mlmontessorischool.com/calendar/wizard-oz-performance/
LOCATION:York Woods Library
CATEGORIES:Elementary,Lower Elementary,Upper Elementary
END:VEVENT
BEGIN:VEVENT
DTSTART;VALUE=DATE:20160425
DTEND;VALUE=DATE:20160426
DTSTAMP:20260425T110117
CREATED:20160222T004959Z
LAST-MODIFIED:20160310T131927Z
UID:2190-1461542400-1461628799@www.mlmontessorischool.com
SUMMARY:Wizard of Oz
DESCRIPTION:
URL:https://www.mlmontessorischool.com/calendar/wizard-of-oz/
CATEGORIES:Elementary,Lower Elementary,Upper Elementary
END:VEVENT
BEGIN:VEVENT
DTSTART;VALUE=DATE:20160422
DTEND;VALUE=DATE:20160423
DTSTAMP:20260425T110117
CREATED:20160421T132203Z
LAST-MODIFIED:20160421T132203Z
UID:2213-1461283200-1461369599@www.mlmontessorischool.com
SUMMARY:Wizard of Oz Dress Rehersal
DESCRIPTION:
URL:https://www.mlmontessorischool.com/calendar/wizard-oz-dress-rehersal/
CATEGORIES:Elementary,Lower Elementary,Upper Elementary
END:VEVENT
BEGIN:VEVENT
DTSTART;VALUE=DATE:20160420
DTEND;VALUE=DATE:20160421
DTSTAMP:20260425T110117
CREATED:20160207T012445Z
LAST-MODIFIED:20160207T012445Z
UID:2172-1461110400-1461196799@www.mlmontessorischool.com
SUMMARY:Full Uniform Day (Elementary)
DESCRIPTION:
URL:https://www.mlmontessorischool.com/calendar/full-uniform-day-elementary-11/
CATEGORIES:Elementary,Lower Elementary,Upper Elementary
END:VEVENT
BEGIN:VEVENT
DTSTART;VALUE=DATE:20160415
DTEND;VALUE=DATE:20160416
DTSTAMP:20260425T110117
CREATED:20160204T225644Z
LAST-MODIFIED:20160204T225644Z
UID:2144-1460678400-1460764799@www.mlmontessorischool.com
SUMMARY:Pizza Day and Civvies Day (Elementary)
DESCRIPTION:Pizza and Civvies Day for Elementary students.
URL:https://www.mlmontessorischool.com/calendar/pizza-day-civvies-day-elementary-3/
CATEGORIES:Elementary,Lower Elementary,Upper Elementary
END:VEVENT
BEGIN:VEVENT
DTSTART;VALUE=DATE:20160413
DTEND;VALUE=DATE:20160414
DTSTAMP:20260425T110117
CREATED:20160207T012342Z
LAST-MODIFIED:20160207T012342Z
UID:2171-1460505600-1460591999@www.mlmontessorischool.com
SUMMARY:Full Uniform Day (Elementary)
DESCRIPTION:
URL:https://www.mlmontessorischool.com/calendar/full-uniform-day-elementary-10/
CATEGORIES:Elementary,Lower Elementary,Upper Elementary
END:VEVENT
BEGIN:VEVENT
DTSTART;VALUE=DATE:20160406
DTEND;VALUE=DATE:20160407
DTSTAMP:20260425T110117
CREATED:20160207T012247Z
LAST-MODIFIED:20160207T012247Z
UID:2170-1459900800-1459987199@www.mlmontessorischool.com
SUMMARY:Full Uniform Day (Elementary)
DESCRIPTION:
URL:https://www.mlmontessorischool.com/calendar/full-uniform-day-elementary-9/
CATEGORIES:Elementary,Lower Elementary,Upper Elementary
END:VEVENT
END:VCALENDAR