BEGIN:VCALENDAR
VERSION:2.0
PRODID:-//M L Montessori - ECPv6.13.2.1//NONSGML v1.0//EN
CALSCALE:GREGORIAN
METHOD:PUBLISH
X-ORIGINAL-URL:https://www.mlmontessorischool.com
X-WR-CALDESC:Events for M L Montessori
REFRESH-INTERVAL;VALUE=DURATION:PT1H
X-Robots-Tag:noindex
X-PUBLISHED-TTL:PT1H
BEGIN:VTIMEZONE
TZID:UTC
BEGIN:STANDARD
TZOFFSETFROM:+0000
TZOFFSETTO:+0000
TZNAME:UTC
DTSTART:20240101T000000
END:STANDARD
END:VTIMEZONE
BEGIN:VEVENT
DTSTART;VALUE=DATE:20251128
DTEND;VALUE=DATE:20251129
DTSTAMP:20260423T213619
CREATED:20250813T143131Z
LAST-MODIFIED:20250813T143131Z
UID:3130-1764288000-1764374399@www.mlmontessorischool.com
SUMMARY:Elementary Arts Fair (includes Casa Graduates)
DESCRIPTION:
URL:https://www.mlmontessorischool.com/calendar/elementary-arts-fair-includes-casa-graduates/
CATEGORIES:Casa,casa 1,casa 2,Elementary
END:VEVENT
BEGIN:VEVENT
DTSTART;VALUE=DATE:20251117
DTEND;VALUE=DATE:20251121
DTSTAMP:20260423T213619
CREATED:20250813T142800Z
LAST-MODIFIED:20250813T142800Z
UID:3128-1763337600-1763683199@www.mlmontessorischool.com
SUMMARY:Interview Week
DESCRIPTION:
URL:https://www.mlmontessorischool.com/calendar/interview-week-15/
CATEGORIES:Casa,casa 1,casa 2,Elementary
END:VEVENT
BEGIN:VEVENT
DTSTART;VALUE=DATE:20251013
DTEND;VALUE=DATE:20251014
DTSTAMP:20260423T213619
CREATED:20250813T142352Z
LAST-MODIFIED:20250813T142352Z
UID:3126-1760313600-1760399999@www.mlmontessorischool.com
SUMMARY:Thanksgiving Day - No School
DESCRIPTION:No School
URL:https://www.mlmontessorischool.com/calendar/thanksgiving-day-no-school/
CATEGORIES:Casa,casa 1,casa 2,Elementary
END:VEVENT
BEGIN:VEVENT
DTSTART;VALUE=DATE:20251010
DTEND;VALUE=DATE:20251011
DTSTAMP:20260423T213619
CREATED:20250813T142204Z
LAST-MODIFIED:20250813T142204Z
UID:3124-1760054400-1760140799@www.mlmontessorischool.com
SUMMARY:Professional Development Day - No School
DESCRIPTION:No School
URL:https://www.mlmontessorischool.com/calendar/professional-development-day-no-school-7/
CATEGORIES:Casa,casa 1,casa 2,Elementary
END:VEVENT
BEGIN:VEVENT
DTSTART;VALUE=DATE:20251009
DTEND;VALUE=DATE:20251010
DTSTAMP:20260423T213619
CREATED:20250813T142051Z
LAST-MODIFIED:20250813T142051Z
UID:3122-1759968000-1760054399@www.mlmontessorischool.com
SUMMARY:Terry Fox Walk/ Casa & Elementary
DESCRIPTION:
URL:https://www.mlmontessorischool.com/calendar/terry-fox-walk-casa-elementary/
CATEGORIES:Casa,casa 1,casa 2,Elementary
END:VEVENT
BEGIN:VEVENT
DTSTART;VALUE=DATE:20250930
DTEND;VALUE=DATE:20251001
DTSTAMP:20260423T213619
CREATED:20250813T141905Z
LAST-MODIFIED:20250813T141905Z
UID:3120-1759190400-1759276799@www.mlmontessorischool.com
SUMMARY:Orange Shirt Day
DESCRIPTION:
URL:https://www.mlmontessorischool.com/calendar/orange-shirt-day-4/
CATEGORIES:Casa,casa 1,casa 2,Elementary
END:VEVENT
BEGIN:VEVENT
DTSTART;VALUE=DATE:20250926
DTEND;VALUE=DATE:20250927
DTSTAMP:20260423T213619
CREATED:20250813T141751Z
LAST-MODIFIED:20250813T141751Z
UID:3118-1758844800-1758931199@www.mlmontessorischool.com
SUMMARY:Elementary Grandparents Day
DESCRIPTION:
URL:https://www.mlmontessorischool.com/calendar/elementary-grandparents-day-3/
CATEGORIES:Elementary
END:VEVENT
BEGIN:VEVENT
DTSTART;VALUE=DATE:20250902
DTEND;VALUE=DATE:20250903
DTSTAMP:20260423T213619
CREATED:20250813T141704Z
LAST-MODIFIED:20250813T141704Z
UID:3116-1756771200-1756857599@www.mlmontessorischool.com
SUMMARY:First Day of School
DESCRIPTION:
URL:https://www.mlmontessorischool.com/calendar/first-day-of-school-5/
CATEGORIES:Casa,casa 1,casa 2,Elementary
END:VEVENT
BEGIN:VEVENT
DTSTART;TZID=UTC:20250826T200000
DTEND;TZID=UTC:20250826T204500
DTSTAMP:20260423T213619
CREATED:20250813T140912Z
LAST-MODIFIED:20250813T140912Z
UID:3110-1756238400-1756241100@www.mlmontessorischool.com
SUMMARY:Elementary Parent/Student Orientation - Grade 4
DESCRIPTION:
URL:https://www.mlmontessorischool.com/calendar/elementary-parent-student-orientation-grade-4-2/
CATEGORIES:Elementary
END:VEVENT
BEGIN:VEVENT
DTSTART;TZID=UTC:20250826T190000
DTEND;TZID=UTC:20250826T194500
DTSTAMP:20260423T213619
CREATED:20250813T140736Z
LAST-MODIFIED:20250813T140736Z
UID:3108-1756234800-1756237500@www.mlmontessorischool.com
SUMMARY:Elementary PARENT ONLY Orientation Grade 1
DESCRIPTION:
URL:https://www.mlmontessorischool.com/calendar/elementary-parent-only-orientation-grade-1-3/
CATEGORIES:Elementary,Lower Elementary
END:VEVENT
BEGIN:VEVENT
DTSTART;VALUE=DATE:20250620
DTEND;VALUE=DATE:20250621
DTSTAMP:20260423T213619
CREATED:20240821T181745Z
LAST-MODIFIED:20240821T181745Z
UID:3106-1750377600-1750463999@www.mlmontessorischool.com
SUMMARY:Last Day of School
DESCRIPTION:
URL:https://www.mlmontessorischool.com/calendar/last-day-of-school-5/
CATEGORIES:Casa,casa 1,casa 2,Elementary,Lower Elementary,Upper Elementary
END:VEVENT
BEGIN:VEVENT
DTSTART;VALUE=DATE:20250619
DTEND;VALUE=DATE:20250620
DTSTAMP:20260423T213619
CREATED:20240821T181701Z
LAST-MODIFIED:20240821T181701Z
UID:3104-1750291200-1750377599@www.mlmontessorischool.com
SUMMARY:CASA GRADS & ELEMENTARY GRADUATION (tentative)
DESCRIPTION:
URL:https://www.mlmontessorischool.com/calendar/casa-grads-elementary-graduation-tentative/
CATEGORIES:Casa,casa 1,casa 2,Elementary,Lower Elementary,Upper Elementary
END:VEVENT
BEGIN:VEVENT
DTSTART;VALUE=DATE:20250519
DTEND;VALUE=DATE:20250520
DTSTAMP:20260423T213619
CREATED:20240821T181546Z
LAST-MODIFIED:20240821T181546Z
UID:3102-1747612800-1747699199@www.mlmontessorischool.com
SUMMARY:Victoria Day
DESCRIPTION:
URL:https://www.mlmontessorischool.com/calendar/victoria-day-6/
CATEGORIES:Casa,casa 1,casa 2,Elementary,Lower Elementary,Upper Elementary
END:VEVENT
BEGIN:VEVENT
DTSTART;VALUE=DATE:20250516
DTEND;VALUE=DATE:20250517
DTSTAMP:20260423T213619
CREATED:20240821T181449Z
LAST-MODIFIED:20240821T181449Z
UID:3100-1747353600-1747439999@www.mlmontessorischool.com
SUMMARY:PROFESSIONAL DEVELOPMENT DAY (no school)
DESCRIPTION:
URL:https://www.mlmontessorischool.com/calendar/professional-development-day-no-school-6/
CATEGORIES:Casa,casa 1,casa 2,Elementary,Lower Elementary,Upper Elementary
END:VEVENT
BEGIN:VEVENT
DTSTART;VALUE=DATE:20250512
DTEND;VALUE=DATE:20250517
DTSTAMP:20260423T213619
CREATED:20240821T181344Z
LAST-MODIFIED:20240821T181344Z
UID:3098-1747008000-1747439999@www.mlmontessorischool.com
SUMMARY:Interview Week (Optional)
DESCRIPTION:
URL:https://www.mlmontessorischool.com/calendar/interview-week-optional/
CATEGORIES:Casa,casa 1,casa 2,Elementary,Lower Elementary,Upper Elementary
END:VEVENT
BEGIN:VEVENT
DTSTART;VALUE=DATE:20250421
DTEND;VALUE=DATE:20250422
DTSTAMP:20260423T213619
CREATED:20240821T181212Z
LAST-MODIFIED:20240821T181212Z
UID:3095-1745193600-1745279999@www.mlmontessorischool.com
SUMMARY:Easter Monday
DESCRIPTION:
URL:https://www.mlmontessorischool.com/calendar/easter-monday-6/
CATEGORIES:Casa,casa 1,casa 2,Elementary,Lower Elementary,Upper Elementary
END:VEVENT
BEGIN:VEVENT
DTSTART;VALUE=DATE:20250418
DTEND;VALUE=DATE:20250419
DTSTAMP:20260423T213619
CREATED:20240821T181129Z
LAST-MODIFIED:20240821T181129Z
UID:3093-1744934400-1745020799@www.mlmontessorischool.com
SUMMARY:Good Friday
DESCRIPTION:
URL:https://www.mlmontessorischool.com/calendar/good-friday-6/
CATEGORIES:Casa,casa 1,casa 2,Elementary,Lower Elementary,Upper Elementary
END:VEVENT
BEGIN:VEVENT
DTSTART;VALUE=DATE:20250417
DTEND;VALUE=DATE:20250418
DTSTAMP:20260423T213619
CREATED:20240821T181030Z
LAST-MODIFIED:20240821T181030Z
UID:3091-1744848000-1744934399@www.mlmontessorischool.com
SUMMARY:Elementary Spring Concert with Casa Grads/Elementary Science Fair (tentative)
DESCRIPTION:
URL:https://www.mlmontessorischool.com/calendar/elementary-spring-concert-with-casa-grads-elementary-science-fair-tentative/
CATEGORIES:Casa,casa 1,casa 2,Elementary,Lower Elementary,Upper Elementary
END:VEVENT
BEGIN:VEVENT
DTSTART;VALUE=DATE:20250317
DTEND;VALUE=DATE:20250318
DTSTAMP:20260423T213619
CREATED:20240821T180509Z
LAST-MODIFIED:20240821T180509Z
UID:3083-1742169600-1742255999@www.mlmontessorischool.com
SUMMARY:Return to Classes
DESCRIPTION:
URL:https://www.mlmontessorischool.com/calendar/return-to-classes-2/
CATEGORIES:Casa,casa 1,casa 2,Elementary,Lower Elementary,Upper Elementary
END:VEVENT
BEGIN:VEVENT
DTSTART;VALUE=DATE:20250310
DTEND;VALUE=DATE:20250311
DTSTAMP:20260423T213619
CREATED:20240821T180421Z
LAST-MODIFIED:20240821T180421Z
UID:3081-1741564800-1741651199@www.mlmontessorischool.com
SUMMARY:First Day of Spring Break
DESCRIPTION:
URL:https://www.mlmontessorischool.com/calendar/first-day-of-spring-break-4/
CATEGORIES:Casa,casa 1,casa 2,Elementary,Lower Elementary,Upper Elementary
END:VEVENT
BEGIN:VEVENT
DTSTART;VALUE=DATE:20250307
DTEND;VALUE=DATE:20250308
DTSTAMP:20260423T213619
CREATED:20240821T180317Z
LAST-MODIFIED:20240821T180317Z
UID:3079-1741305600-1741391999@www.mlmontessorischool.com
SUMMARY:DEADLINE FOR ELEMENTARY RE-ENROLLMENT
DESCRIPTION:
URL:https://www.mlmontessorischool.com/calendar/deadline-for-elementary-re-enrollment-2/
CATEGORIES:Elementary,Lower Elementary,Upper Elementary
END:VEVENT
BEGIN:VEVENT
DTSTART;VALUE=DATE:20250226
DTEND;VALUE=DATE:20250227
DTSTAMP:20260423T213619
CREATED:20240821T175911Z
LAST-MODIFIED:20240821T180816Z
UID:3077-1740528000-1740614399@www.mlmontessorischool.com
SUMMARY:Pink Shirt Day
DESCRIPTION:
URL:https://www.mlmontessorischool.com/calendar/pink-shirt-day-3/
CATEGORIES:Casa,casa 1,casa 2,Elementary,Lower Elementary,Upper Elementary
END:VEVENT
BEGIN:VEVENT
DTSTART;VALUE=DATE:20250217
DTEND;VALUE=DATE:20250218
DTSTAMP:20260423T213619
CREATED:20240821T175727Z
LAST-MODIFIED:20240821T175727Z
UID:3074-1739750400-1739836799@www.mlmontessorischool.com
SUMMARY:Family Day
DESCRIPTION:No school for all students
URL:https://www.mlmontessorischool.com/calendar/family-day-7/
CATEGORIES:Casa,casa 1,casa 2,Elementary,Lower Elementary,Upper Elementary
END:VEVENT
BEGIN:VEVENT
DTSTART;VALUE=DATE:20250214
DTEND;VALUE=DATE:20250215
DTSTAMP:20260423T213619
CREATED:20240821T175550Z
LAST-MODIFIED:20240821T175550Z
UID:3072-1739491200-1739577599@www.mlmontessorischool.com
SUMMARY:PROFESSIONAL DEVELOPMENT DAY (No School)
DESCRIPTION:
URL:https://www.mlmontessorischool.com/calendar/professional-development-day-no-school-5/
CATEGORIES:Casa,casa 1,casa 2,Elementary,Lower Elementary,Upper Elementary
END:VEVENT
BEGIN:VEVENT
DTSTART;TZID=UTC:20250213T190000
DTEND;TZID=UTC:20250213T200000
DTSTAMP:20260423T213619
CREATED:20240821T175430Z
LAST-MODIFIED:20240821T175430Z
UID:3070-1739473200-1739476800@www.mlmontessorischool.com
SUMMARY:Elementary Info Night for Casa Grad Parents
DESCRIPTION:
URL:https://www.mlmontessorischool.com/calendar/elementary-info-night-for-casa-grad-parents-2/
CATEGORIES:Casa,casa 1,casa 2,Elementary,Lower Elementary,Upper Elementary
END:VEVENT
BEGIN:VEVENT
DTSTART;VALUE=DATE:20250106
DTEND;VALUE=DATE:20250107
DTSTAMP:20260423T213619
CREATED:20240821T175247Z
LAST-MODIFIED:20240821T175247Z
UID:3068-1736121600-1736207999@www.mlmontessorischool.com
SUMMARY:First Day of Classes
DESCRIPTION:
URL:https://www.mlmontessorischool.com/calendar/first-day-of-classes-3/
CATEGORIES:Casa,casa 1,casa 2,Elementary,Lower Elementary,Upper Elementary
END:VEVENT
BEGIN:VEVENT
DTSTART;VALUE=DATE:20241220
DTEND;VALUE=DATE:20241221
DTSTAMP:20260423T213619
CREATED:20240821T175116Z
LAST-MODIFIED:20240821T175116Z
UID:3066-1734652800-1734739199@www.mlmontessorischool.com
SUMMARY:Last Day Before Winter Break
DESCRIPTION:
URL:https://www.mlmontessorischool.com/calendar/last-day-before-winter-break-2/
CATEGORIES:Casa,casa 1,casa 2,Elementary,Lower Elementary,Upper Elementary
END:VEVENT
BEGIN:VEVENT
DTSTART;VALUE=DATE:20241207
DTEND;VALUE=DATE:20241208
DTSTAMP:20260423T213619
CREATED:20240821T175000Z
LAST-MODIFIED:20240821T175000Z
UID:3064-1733529600-1733615999@www.mlmontessorischool.com
SUMMARY:ALL CASA & ELEMENTARY CHILDREN'S CONCERT
DESCRIPTION:
URL:https://www.mlmontessorischool.com/calendar/all-casa-elementary-childrens-concert-2/
CATEGORIES:Casa,casa 1,casa 2,Elementary,Lower Elementary,Upper Elementary
END:VEVENT
BEGIN:VEVENT
DTSTART;TZID=UTC:20241129T080000
DTEND;TZID=UTC:20241129T170000
DTSTAMP:20260423T213619
CREATED:20240821T174846Z
LAST-MODIFIED:20240821T174846Z
UID:3062-1732867200-1732899600@www.mlmontessorischool.com
SUMMARY:PROFESSIONAL DEVELOPMENT DAY (No School)
DESCRIPTION:
URL:https://www.mlmontessorischool.com/calendar/professional-development-day-no-school-4/
CATEGORIES:Casa,casa 1,casa 2,Elementary,Lower Elementary,Upper Elementary
END:VEVENT
BEGIN:VEVENT
DTSTART;VALUE=DATE:20241125
DTEND;VALUE=DATE:20241130
DTSTAMP:20260423T213619
CREATED:20240821T174651Z
LAST-MODIFIED:20240821T174651Z
UID:3060-1732492800-1732924799@www.mlmontessorischool.com
SUMMARY:Interview Week
DESCRIPTION:
URL:https://www.mlmontessorischool.com/calendar/interview-week-14/
CATEGORIES:Casa,casa 1,casa 2,Elementary,Lower Elementary,Upper Elementary
END:VEVENT
END:VCALENDAR