BEGIN:VCALENDAR
VERSION:2.0
PRODID:-//M L Montessori - ECPv6.13.2.1//NONSGML v1.0//EN
CALSCALE:GREGORIAN
METHOD:PUBLISH
X-ORIGINAL-URL:https://www.mlmontessorischool.com
X-WR-CALDESC:Events for M L Montessori
REFRESH-INTERVAL;VALUE=DURATION:PT1H
X-Robots-Tag:noindex
X-PUBLISHED-TTL:PT1H
BEGIN:VTIMEZONE
TZID:UTC
BEGIN:STANDARD
TZOFFSETFROM:+0000
TZOFFSETTO:+0000
TZNAME:UTC
DTSTART:20190101T000000
END:STANDARD
END:VTIMEZONE
BEGIN:VEVENT
DTSTART;VALUE=DATE:20210405
DTEND;VALUE=DATE:20210406
DTSTAMP:20260424T135303
CREATED:20200902T152133Z
LAST-MODIFIED:20200902T152133Z
UID:2793-1617580800-1617667199@www.mlmontessorischool.com
SUMMARY:Easter Monday
DESCRIPTION:No School.
URL:https://www.mlmontessorischool.com/calendar/easter-monday-2/
CATEGORIES:Casa,casa 1,casa 2,Elementary,Lower Elementary,Upper Elementary
END:VEVENT
BEGIN:VEVENT
DTSTART;VALUE=DATE:20210402
DTEND;VALUE=DATE:20210403
DTSTAMP:20260424T135303
CREATED:20200902T152029Z
LAST-MODIFIED:20200902T152029Z
UID:2791-1617321600-1617407999@www.mlmontessorischool.com
SUMMARY:Good Friday
DESCRIPTION:No School.
URL:https://www.mlmontessorischool.com/calendar/good-friday-2/
CATEGORIES:Casa,casa 1,casa 2,Elementary,Lower Elementary,Upper Elementary
END:VEVENT
BEGIN:VEVENT
DTSTART;VALUE=DATE:20210215
DTEND;VALUE=DATE:20210216
DTSTAMP:20260424T135303
CREATED:20200902T151630Z
LAST-MODIFIED:20200902T151630Z
UID:2783-1613347200-1613433599@www.mlmontessorischool.com
SUMMARY:Family Day
DESCRIPTION:
URL:https://www.mlmontessorischool.com/calendar/family-day-3/
CATEGORIES:Casa,casa 1,casa 2,Elementary,Lower Elementary,Upper Elementary
END:VEVENT
BEGIN:VEVENT
DTSTART;VALUE=DATE:20210212
DTEND;VALUE=DATE:20210213
DTSTAMP:20260424T135303
CREATED:20200902T151538Z
LAST-MODIFIED:20200902T151538Z
UID:2781-1613088000-1613174399@www.mlmontessorischool.com
SUMMARY:P.D. Day
DESCRIPTION:No school for all students.
URL:https://www.mlmontessorischool.com/calendar/p-d-day-3/
CATEGORIES:Casa,casa 1,casa 2,Lower Elementary,Upper Elementary
END:VEVENT
BEGIN:VEVENT
DTSTART;VALUE=DATE:20201221
DTEND;VALUE=DATE:20210104
DTSTAMP:20260424T135303
CREATED:20200902T151419Z
LAST-MODIFIED:20200902T151419Z
UID:2779-1608508800-1609718399@www.mlmontessorischool.com
SUMMARY:December Holidays
DESCRIPTION:
URL:https://www.mlmontessorischool.com/calendar/december-holidays/
CATEGORIES:Casa,casa 1,casa 2,Elementary,Lower Elementary,Upper Elementary
END:VEVENT
BEGIN:VEVENT
DTSTART;VALUE=DATE:20201113
DTEND;VALUE=DATE:20201114
DTSTAMP:20260424T135303
CREATED:20200902T151133Z
LAST-MODIFIED:20200902T151133Z
UID:2775-1605225600-1605311999@www.mlmontessorischool.com
SUMMARY:P.D. Day
DESCRIPTION:No school for all students.
URL:https://www.mlmontessorischool.com/calendar/p-d-day-2/
CATEGORIES:Casa,casa 1,casa 2,Elementary,Lower Elementary,Upper Elementary
END:VEVENT
BEGIN:VEVENT
DTSTART;VALUE=DATE:20201109
DTEND;VALUE=DATE:20201113
DTSTAMP:20260424T135303
CREATED:20200902T151303Z
LAST-MODIFIED:20200902T151303Z
UID:2777-1604880000-1605225599@www.mlmontessorischool.com
SUMMARY:Interview Week
DESCRIPTION:
URL:https://www.mlmontessorischool.com/calendar/interview-week-11/
CATEGORIES:Casa,casa 1,casa 2,Elementary,Lower Elementary,Upper Elementary
END:VEVENT
BEGIN:VEVENT
DTSTART;VALUE=DATE:20201012
DTEND;VALUE=DATE:20201013
DTSTAMP:20260424T135303
CREATED:20200902T151024Z
LAST-MODIFIED:20200902T151024Z
UID:2773-1602460800-1602547199@www.mlmontessorischool.com
SUMMARY:Thanksgiving
DESCRIPTION:No school for all students.
URL:https://www.mlmontessorischool.com/calendar/thanksgiving-2/
CATEGORIES:Casa,casa 1,casa 2,Elementary,Lower Elementary,Upper Elementary
END:VEVENT
BEGIN:VEVENT
DTSTART;VALUE=DATE:20201009
DTEND;VALUE=DATE:20201010
DTSTAMP:20260424T135303
CREATED:20200902T150924Z
LAST-MODIFIED:20200902T150924Z
UID:2771-1602201600-1602287999@www.mlmontessorischool.com
SUMMARY:P.D. Day
DESCRIPTION:No School for all students.
URL:https://www.mlmontessorischool.com/calendar/p-d-day/
CATEGORIES:Casa,casa 1,casa 2,Elementary,Lower Elementary,Upper Elementary
END:VEVENT
BEGIN:VEVENT
DTSTART;VALUE=DATE:20200907
DTEND;VALUE=DATE:20200908
DTSTAMP:20260424T135303
CREATED:20200902T150808Z
LAST-MODIFIED:20200902T150808Z
UID:2769-1599436800-1599523199@www.mlmontessorischool.com
SUMMARY:Labour Day
DESCRIPTION:
URL:https://www.mlmontessorischool.com/calendar/labour-day/
CATEGORIES:Casa,casa 1,casa 2,Elementary,Lower Elementary,Upper Elementary
END:VEVENT
BEGIN:VEVENT
DTSTART;VALUE=DATE:20200622
DTEND;VALUE=DATE:20200623
DTSTAMP:20260424T135303
CREATED:20190812T153118Z
LAST-MODIFIED:20190812T153118Z
UID:2630-1592784000-1592870399@www.mlmontessorischool.com
SUMMARY:First Day of Summer Camp
DESCRIPTION:
URL:https://www.mlmontessorischool.com/calendar/first-day-summer-camp/
CATEGORIES:Casa,casa 1,casa 2
END:VEVENT
BEGIN:VEVENT
DTSTART;VALUE=DATE:20200619
DTEND;VALUE=DATE:20200620
DTSTAMP:20260424T135303
CREATED:20190812T153029Z
LAST-MODIFIED:20190812T153029Z
UID:2629-1592524800-1592611199@www.mlmontessorischool.com
SUMMARY:Last Day of Classes - Party Day!
DESCRIPTION:
URL:https://www.mlmontessorischool.com/calendar/last-day-classes-party-day-2/
CATEGORIES:Casa,casa 1,casa 2,Elementary,Lower Elementary,Middleschool,Upper Elementary
END:VEVENT
BEGIN:VEVENT
DTSTART;VALUE=DATE:20200615
DTEND;VALUE=DATE:20200616
DTSTAMP:20260424T135303
CREATED:20190812T152916Z
LAST-MODIFIED:20190812T152916Z
UID:2628-1592179200-1592265599@www.mlmontessorischool.com
SUMMARY:Graduation Ceremony - Casa and Elementary (tentative)
DESCRIPTION:
URL:https://www.mlmontessorischool.com/calendar/graduation-ceremony-casa-elementary-tentative/
CATEGORIES:Casa,casa 1,casa 2,Elementary,Lower Elementary,Middleschool,Upper Elementary
END:VEVENT
BEGIN:VEVENT
DTSTART;VALUE=DATE:20200518
DTEND;VALUE=DATE:20200519
DTSTAMP:20260424T135303
CREATED:20190812T152802Z
LAST-MODIFIED:20190812T152802Z
UID:2627-1589760000-1589846399@www.mlmontessorischool.com
SUMMARY:Victoria Day - No School
DESCRIPTION:
URL:https://www.mlmontessorischool.com/calendar/victoria-day-no-school-2/
CATEGORIES:Casa,casa 1,casa 2,Elementary,Lower Elementary,Middleschool,Upper Elementary
END:VEVENT
BEGIN:VEVENT
DTSTART;VALUE=DATE:20200515
DTEND;VALUE=DATE:20200516
DTSTAMP:20260424T135303
CREATED:20190812T152648Z
LAST-MODIFIED:20190812T152706Z
UID:2626-1589500800-1589587199@www.mlmontessorischool.com
SUMMARY:P.D. Day - No School
DESCRIPTION:
URL:https://www.mlmontessorischool.com/calendar/p-d-day-no-school-4/
CATEGORIES:Casa,casa 1,casa 2,Elementary,Lower Elementary,Middleschool,Upper Elementary
END:VEVENT
BEGIN:VEVENT
DTSTART;VALUE=DATE:20200413
DTEND;VALUE=DATE:20200414
DTSTAMP:20260424T135303
CREATED:20190812T152305Z
LAST-MODIFIED:20190812T152305Z
UID:2623-1586736000-1586822399@www.mlmontessorischool.com
SUMMARY:Easter Monday - No School
DESCRIPTION:
URL:https://www.mlmontessorischool.com/calendar/easter-monday-no-school-2/
CATEGORIES:Casa,casa 1,casa 2,Elementary,Lower Elementary,Middleschool,Upper Elementary
END:VEVENT
BEGIN:VEVENT
DTSTART;VALUE=DATE:20200410
DTEND;VALUE=DATE:20200411
DTSTAMP:20260424T135303
CREATED:20190812T152201Z
LAST-MODIFIED:20190812T152201Z
UID:2622-1586476800-1586563199@www.mlmontessorischool.com
SUMMARY:Good Friday - No School
DESCRIPTION:
URL:https://www.mlmontessorischool.com/calendar/good-friday-no-school-3/
CATEGORIES:Casa,casa 1,casa 2,Elementary,Lower Elementary,Middleschool,Upper Elementary
END:VEVENT
BEGIN:VEVENT
DTSTART;VALUE=DATE:20200406
DTEND;VALUE=DATE:20200410
DTSTAMP:20260424T135303
CREATED:20190812T152057Z
LAST-MODIFIED:20190812T152057Z
UID:2621-1586131200-1586476799@www.mlmontessorischool.com
SUMMARY:Interview Week
DESCRIPTION:
URL:https://www.mlmontessorischool.com/calendar/interview-week-10/
CATEGORIES:Casa,casa 1,casa 2,Elementary,Lower Elementary,Middleschool,Upper Elementary
END:VEVENT
BEGIN:VEVENT
DTSTART;VALUE=DATE:20200313
DTEND;VALUE=DATE:20200321
DTSTAMP:20260424T135303
CREATED:20190812T151830Z
LAST-MODIFIED:20190812T151830Z
UID:2619-1584057600-1584748799@www.mlmontessorischool.com
SUMMARY:March Break
DESCRIPTION:
URL:https://www.mlmontessorischool.com/calendar/march-break-3/
CATEGORIES:Casa,casa 1,casa 2,Elementary,Lower Elementary,Middleschool,Upper Elementary
END:VEVENT
BEGIN:VEVENT
DTSTART;VALUE=DATE:20200306
DTEND;VALUE=DATE:20200307
DTSTAMP:20260424T135303
CREATED:20190812T151709Z
LAST-MODIFIED:20190812T151709Z
UID:2618-1583452800-1583539199@www.mlmontessorischool.com
SUMMARY:Deadline for Casa Re-Enrolment
DESCRIPTION:
URL:https://www.mlmontessorischool.com/calendar/deadline-casa-re-enrolment/
CATEGORIES:Casa,casa 1,casa 2
END:VEVENT
BEGIN:VEVENT
DTSTART;VALUE=DATE:20200217
DTEND;VALUE=DATE:20200218
DTSTAMP:20260424T135303
CREATED:20190812T151149Z
LAST-MODIFIED:20190812T151149Z
UID:2615-1581897600-1581983999@www.mlmontessorischool.com
SUMMARY:Family Day - No School
DESCRIPTION:
URL:https://www.mlmontessorischool.com/calendar/family-day-no-school-3/
CATEGORIES:Casa,casa 1,casa 2,Elementary,Lower Elementary,Middleschool,Upper Elementary
END:VEVENT
BEGIN:VEVENT
DTSTART;VALUE=DATE:20200208
DTEND;VALUE=DATE:20200209
DTSTAMP:20260424T135303
CREATED:20190812T151048Z
LAST-MODIFIED:20190812T151048Z
UID:2614-1581120000-1581206399@www.mlmontessorischool.com
SUMMARY:Watch-Me-Workshop (Casa)
DESCRIPTION:
URL:https://www.mlmontessorischool.com/calendar/watch-workshop-casa/
CATEGORIES:Casa,casa 1,casa 2
END:VEVENT
BEGIN:VEVENT
DTSTART;VALUE=DATE:20200106
DTEND;VALUE=DATE:20200107
DTSTAMP:20260424T135303
CREATED:20190812T150948Z
LAST-MODIFIED:20190812T150948Z
UID:2613-1578268800-1578355199@www.mlmontessorischool.com
SUMMARY:First Day of Classes for Winter Term
DESCRIPTION:
URL:https://www.mlmontessorischool.com/calendar/first-day-classes-winter-term/
CATEGORIES:Casa,casa 1,casa 2,Elementary,Lower Elementary,Middleschool,Upper Elementary
END:VEVENT
BEGIN:VEVENT
DTSTART;VALUE=DATE:20191220
DTEND;VALUE=DATE:20191221
DTSTAMP:20260424T135303
CREATED:20190812T150850Z
LAST-MODIFIED:20190812T150850Z
UID:2612-1576800000-1576886399@www.mlmontessorischool.com
SUMMARY:Last Day of Classes - Party Day!
DESCRIPTION:
URL:https://www.mlmontessorischool.com/calendar/last-day-classes-party-day/
CATEGORIES:Casa,casa 1,casa 2,Elementary,Lower Elementary,Middleschool,Upper Elementary
END:VEVENT
BEGIN:VEVENT
DTSTART;VALUE=DATE:20191214
DTEND;VALUE=DATE:20191215
DTSTAMP:20260424T135303
CREATED:20190812T150521Z
LAST-MODIFIED:20190902T143600Z
UID:2609-1576281600-1576367999@www.mlmontessorischool.com
SUMMARY:Children's Concert (all ages)
DESCRIPTION:
URL:https://www.mlmontessorischool.com/calendar/childrens-concert-ages/
CATEGORIES:Casa,casa 1,casa 2,Elementary,Lower Elementary,Middleschool,Upper Elementary
END:VEVENT
BEGIN:VEVENT
DTSTART;VALUE=DATE:20191206
DTEND;VALUE=DATE:20191207
DTSTAMP:20260424T135303
CREATED:20190812T150417Z
LAST-MODIFIED:20190812T150417Z
UID:2608-1575590400-1575676799@www.mlmontessorischool.com
SUMMARY:P.D. Day - No School
DESCRIPTION:
URL:https://www.mlmontessorischool.com/calendar/p-d-day-no-school-3/
CATEGORIES:Casa,casa 1,casa 2,Elementary,Lower Elementary,Middleschool,Upper Elementary
END:VEVENT
BEGIN:VEVENT
DTSTART;VALUE=DATE:20191202
DTEND;VALUE=DATE:20191206
DTSTAMP:20260424T135303
CREATED:20190812T150313Z
LAST-MODIFIED:20190812T150313Z
UID:2607-1575244800-1575590399@www.mlmontessorischool.com
SUMMARY:Interview Week
DESCRIPTION:
URL:https://www.mlmontessorischool.com/calendar/interview-week-9/
CATEGORIES:Casa,casa 1,casa 2,Elementary,Lower Elementary,Middleschool,Upper Elementary
END:VEVENT
BEGIN:VEVENT
DTSTART;VALUE=DATE:20191101
DTEND;VALUE=DATE:20191102
DTSTAMP:20260424T135303
CREATED:20190812T145910Z
LAST-MODIFIED:20190812T145910Z
UID:2604-1572566400-1572652799@www.mlmontessorischool.com
SUMMARY:P.D. Day - No School
DESCRIPTION:
URL:https://www.mlmontessorischool.com/calendar/p-d-day-no-school-2/
CATEGORIES:Casa,casa 1,casa 2,Elementary,Lower Elementary,Middleschool,Upper Elementary
END:VEVENT
BEGIN:VEVENT
DTSTART;VALUE=DATE:20191016
DTEND;VALUE=DATE:20191017
DTSTAMP:20260424T135303
CREATED:20190812T145411Z
LAST-MODIFIED:20190930T195225Z
UID:2600-1571184000-1571270399@www.mlmontessorischool.com
SUMMARY:Picture Day
DESCRIPTION:
URL:https://www.mlmontessorischool.com/calendar/picture-day-4/
CATEGORIES:Casa,casa 1,casa 2,Elementary,Lower Elementary,Middleschool,Upper Elementary
END:VEVENT
BEGIN:VEVENT
DTSTART;VALUE=DATE:20191014
DTEND;VALUE=DATE:20191015
DTSTAMP:20260424T135303
CREATED:20190812T145810Z
LAST-MODIFIED:20190812T145810Z
UID:2603-1571011200-1571097599@www.mlmontessorischool.com
SUMMARY:Thanksgiving - No School
DESCRIPTION:
URL:https://www.mlmontessorischool.com/calendar/thanksgiving-no-school-2/
CATEGORIES:Casa,casa 1,casa 2,Elementary,Lower Elementary,Middleschool,Upper Elementary
END:VEVENT
END:VCALENDAR