BEGIN:VCALENDAR
VERSION:2.0
PRODID:-//M L Montessori - ECPv6.13.2.1//NONSGML v1.0//EN
CALSCALE:GREGORIAN
METHOD:PUBLISH
X-WR-CALNAME:M L Montessori
X-ORIGINAL-URL:https://www.mlmontessorischool.com
X-WR-CALDESC:Events for M L Montessori
REFRESH-INTERVAL;VALUE=DURATION:PT1H
X-Robots-Tag:noindex
X-PUBLISHED-TTL:PT1H
BEGIN:VTIMEZONE
TZID:UTC
BEGIN:STANDARD
TZOFFSETFROM:+0000
TZOFFSETTO:+0000
TZNAME:UTC
DTSTART:20260101T000000
END:STANDARD
END:VTIMEZONE
BEGIN:VEVENT
DTSTART;VALUE=DATE:20260418
DTEND;VALUE=DATE:20260419
DTSTAMP:20260423T163457
CREATED:20250813T144700Z
LAST-MODIFIED:20250813T144700Z
UID:3156-1776470400-1776556799@www.mlmontessorischool.com
SUMMARY:WATCH-ME-WORKSHOP Casa 2
DESCRIPTION:
URL:https://www.mlmontessorischool.com/calendar/watch-me-workshop-casa-2-4/
CATEGORIES:casa 2
END:VEVENT
END:VCALENDAR