BEGIN:VCALENDAR
VERSION:2.0
PRODID:-//M L Montessori - ECPv6.13.2.1//NONSGML v1.0//EN
CALSCALE:GREGORIAN
METHOD:PUBLISH
X-ORIGINAL-URL:https://www.mlmontessorischool.com
X-WR-CALDESC:Events for M L Montessori
REFRESH-INTERVAL;VALUE=DURATION:PT1H
X-Robots-Tag:noindex
X-PUBLISHED-TTL:PT1H
BEGIN:VTIMEZONE
TZID:UTC
BEGIN:STANDARD
TZOFFSETFROM:+0000
TZOFFSETTO:+0000
TZNAME:UTC
DTSTART:20250101T000000
END:STANDARD
END:VTIMEZONE
BEGIN:VEVENT
DTSTART;VALUE=DATE:20251117
DTEND;VALUE=DATE:20251121
DTSTAMP:20260423T230620
CREATED:20250813T142800Z
LAST-MODIFIED:20250813T142800Z
UID:3128-1763337600-1763683199@www.mlmontessorischool.com
SUMMARY:Interview Week
DESCRIPTION:
URL:https://www.mlmontessorischool.com/calendar/interview-week-15/
CATEGORIES:Casa,casa 1,casa 2,Elementary
END:VEVENT
END:VCALENDAR