BEGIN:VCALENDAR
VERSION:2.0
PRODID:-//M L Montessori - ECPv6.13.2.1//NONSGML v1.0//EN
CALSCALE:GREGORIAN
METHOD:PUBLISH
X-WR-CALNAME:M L Montessori
X-ORIGINAL-URL:https://www.mlmontessorischool.com
X-WR-CALDESC:Events for M L Montessori
REFRESH-INTERVAL;VALUE=DURATION:PT1H
X-Robots-Tag:noindex
X-PUBLISHED-TTL:PT1H
BEGIN:VTIMEZONE
TZID:UTC
BEGIN:STANDARD
TZOFFSETFROM:+0000
TZOFFSETTO:+0000
TZNAME:UTC
DTSTART:20230101T000000
END:STANDARD
END:VTIMEZONE
BEGIN:VEVENT
DTSTART;TZID=UTC:20230829T190000
DTEND;TZID=UTC:20230829T200000
DTSTAMP:20260425T114638
CREATED:20230815T175617Z
LAST-MODIFIED:20230815T175617Z
UID:2949-1693335600-1693339200@www.mlmontessorischool.com
SUMMARY:Elementary Parent Only Orientation - Grade 1
DESCRIPTION:Elementary Parent Only Orientation – Grade 1
URL:https://www.mlmontessorischool.com/calendar/elementary-parent-only-orientation-grade-1/
CATEGORIES:Elementary
END:VEVENT
END:VCALENDAR